{"text_format":"1","workbook":"xlsx","n_sheets":6,"sheets":["Simulador","Data","Fechas","Hoja3","Hoja2","Hoja1"],"not_rendered":{"charts":0,"images":0,"macros":1,"external_links":0,"defined_names":1,"comments":0,"pivot_tables":0},"unopened":[],"bounds":{"document_bytes":16777216,"sheet_cells":100000,"rows_first":2000,"rows_last":500,"rows_between":2000,"halvings":0,"cell_chars":16384,"cell_head_chars":4096},"cells_cut":0,"cells_raw":0,"read":"whole","date_system":"1900"}

{"sheet":"Simulador","index":0,"n_rows":379,"n_cols":37,"rows_kept":379,"cut":false,"hidden":false,"merged":[[0,0,1,33],[14,0,14,33],[374,4,374,5],[375,4,375,5],[376,4,376,5],[16,2,17,2],[372,4,372,5],[373,4,373,5],[362,4,362,5],[341,4,341,5],[342,4,342,5],[343,4,343,5],[344,4,344,5],[345,4,345,5],[346,4,346,5],[347,4,347,5],[348,4,348,5],[349,4,349,5],[350,4,350,5],[351,4,351,5],[352,4,352,5],[353,4,353,5],[354,4,354,5],[355,4,355,5],[363,4,363,5],[356,4,356,5],[357,4,357,5],[358,4,358,5],[359,4,359,5],[360,4,360,5],[361,4,361,5],[377,4,377,5],[364,4,364,5],[365,4,365,5],[366,4,366,5],[367,4,367,5],[300,4,300,5],[301,4,301,5],[302,4,302,5],[303,4,303,5],[304,4,304,5],[305,4,305,5],[306,4,306,5],[307,4,307,5],[242,4,242,5],[243,4,243,5],[244,4,244,5],[245,4,245,5],[246,4,246,5],[247,4,247,5],[248,4,248,5],[249,4,249,5],[250,4,250,5],[251,4,251,5],[252,4,252,5],[253,4,253,5],[254,4,254,5],[255,4,255,5],[256,4,256,5],[257,4,257,5],[258,4,258,5],[259,4,259,5],[260,4,260,5],[261,4,261,5],[378,4,378,5],[368,4,368,5],[369,4,369,5],[370,4,370,5],[371,4,371,5],[11,30,11,33],[308,4,308,5],[309,4,309,5],[310,4,310,5],[311,4,311,5],[312,4,312,5],[313,4,313,5],[314,4,314,5],[315,4,315,5],[316,4,316,5],[317,4,317,5],[318,4,318,5],[319,4,319,5],[320,4,320,5],[321,4,321,5],[322,4,322,5],[323,4,323,5],[324,4,324,5],[325,4,325,5],[326,4,326,5],[327,4,327,5],[328,4,328,5],[329,4,329,5],[330,4,330,5],[331,4,331,5],[332,4,332,5],[333,4,333,5],[334,4,334,5],[335,4,335,5],[336,4,336,5],[337,4,337,5],[338,4,338,5],[339,4,339,5],[340,4,340,5],[275,4,275,5],[276,4,276,5],[277,4,277,5],[278,4,278,5],[279,4,279,5],[280,4,280,5],[281,4,281,5],[282,4,282,5],[283,4,283,5],[284,4,284,5],[285,4,285,5],[286,4,286,5],[287,4,287,5],[288,4,288,5],[289,4,289,5],[290,4,290,5],[291,4,291,5],[292,4,292,5],[293,4,293,5],[294,4,294,5],[295,4,295,5],[296,4,296,5],[297,4,297,5],[298,4,298,5],[299,4,299,5],[262,4,262,5],[263,4,263,5],[264,4,264,5],[265,4,265,5],[266,4,266,5],[267,4,267,5],[268,4,268,5],[269,4,269,5],[270,4,270,5],[271,4,271,5],[272,4,272,5],[273,4,273,5],[274,4,274,5],[209,4,209,5],[210,4,210,5],[211,4,211,5],[212,4,212,5],[213,4,213,5],[214,4,214,5],[215,4,215,5],[216,4,216,5],[217,4,217,5],[218,4,218,5],[219,4,219,5],[220,4,220,5],[221,4,221,5],[222,4,222,5],[223,4,223,5],[224,4,224,5],[225,4,225,5],[226,4,226,5],[227,4,227,5],[228,4,228,5],[229,4,229,5],[230,4,230,5],[231,4,231,5],[232,4,232,5],[233,4,233,5],[234,4,234,5],[235,4,235,5],[236,4,236,5],[237,4,237,5],[238,4,238,5],[239,4,239,5],[240,4,240,5],[241,4,241,5],[176,4,176,5],[177,4,177,5],[178,4,178,5],[179,4,179,5],[180,4,180,5],[181,4,181,5],[182,4,182,5],[183,4,183,5],[184,4,184,5],[185,4,185,5],[186,4,186,5],[187,4,187,5],[188,4,188,5],[189,4,189,5],[190,4,190,5],[191,4,191,5],[192,4,192,5],[193,4,193,5],[194,4,194,5],[195,4,195,5],[196,4,196,5],[197,4,197,5],[198,4,198,5],[199,4,199,5],[200,4,200,5],[201,4,201,5],[202,4,202,5],[203,4,203,5],[204,4,204,5],[205,4,205,5],[206,4,206,5],[207,4,207,5],[208,4,208,5],[143,4,143,5],[144,4,144,5],[145,4,145,5],[146,4,146,5],[147,4,147,5],[148,4,148,5],[149,4,149,5],[150,4,150,5],[151,4,151,5],[152,4,152,5],[153,4,153,5],[154,4,154,5],[155,4,155,5],[156,4,156,5],[157,4,157,5],[158,4,158,5],[159,4,159,5],[160,4,160,5],[161,4,161,5],[162,4,162,5],[163,4,163,5],[164,4,164,5],[165,4,165,5],[166,4,166,5],[167,4,167,5],[168,4,168,5],[169,4,169,5],[170,4,170,5],[171,4,171,5],[172,4,172,5],[173,4,173,5],[174,4,174,5],[175,4,175,5],[65533,8,65533,10],[65522,8,65522,10],[65523,8,65523,10],[65524,8,65524,10],[65525,8,65525,10],[65526,8,65526,10],[65527,8,65527,10],[65534,8,65534,10],[65535,8,65535,10],[19,36,19,37],[20,36,20,37],[21,36,21,37],[22,36,22,37],[23,36,23,37],[65528,8,65528,10],[65529,8,65529,10],[56,4,56,5],[57,4,57,5],[58,4,58,5],[59,4,59,5],[60,4,60,5],[61,4,61,5],[62,4,62,5],[63,4,63,5],[64,4,64,5],[65,4,65,5],[66,4,66,5],[67,4,67,5],[68,4,68,5],[69,4,69,5],[70,4,70,5],[71,4,71,5],[72,4,72,5],[73,4,73,5],[74,4,74,5],[75,4,75,5],[76,4,76,5],[77,4,77,5],[78,4,78,5],[79,4,79,5],[80,4,80,5],[81,4,81,5],[82,4,82,5],[83,4,83,5],[84,4,84,5],[85,4,85,5],[86,4,86,5],[87,4,87,5],[88,4,88,5],[89,4,89,5],[90,4,90,5],[91,4,91,5],[92,4,92,5],[93,4,93,5],[94,4,94,5],[95,4,95,5],[96,4,96,5],[97,4,97,5],[98,4,98,5],[99,4,99,5],[100,4,100,5],[101,4,101,5],[102,4,102,5],[65492,8,65492,10],[65493,8,65493,10],[65494,8,65494,10],[65495,8,65495,10],[65496,8,65496,10],[65497,8,65497,10],[65498,8,65498,10],[65499,8,65499,10],[65500,8,65500,10],[65501,8,65501,10],[65502,8,65502,10],[65503,8,65503,10],[65504,8,65504,10],[65505,8,65505,10],[65506,8,65506,10],[65507,8,65507,10],[65508,8,65508,10],[65509,8,65509,10],[65510,8,65510,10],[65511,8,65511,10],[65512,8,65512,10],[65513,8,65513,10],[65514,8,65514,10],[65515,8,65515,10],[65516,8,65516,10],[65517,8,65517,10],[65518,8,65518,10],[65519,8,65519,10],[65520,8,65520,10],[65521,8,65521,10],[65530,8,65530,10],[65531,8,65531,10],[65532,8,65532,10],[65459,8,65459,10],[65460,8,65460,10],[65461,8,65461,10],[65462,8,65462,10],[65463,8,65463,10],[65464,8,65464,10],[65465,8,65465,10],[65466,8,65466,10],[65467,8,65467,10],[65468,8,65468,10],[65469,8,65469,10],[65470,8,65470,10],[65471,8,65471,10],[65472,8,65472,10],[65473,8,65473,10],[65474,8,65474,10],[65475,8,65475,10],[65476,8,65476,10],[65477,8,65477,10],[65478,8,65478,10],[65479,8,65479,10],[65480,8,65480,10],[65481,8,65481,10],[65482,8,65482,10],[65483,8,65483,10],[65484,8,65484,10],[65485,8,65485,10],[65486,8,65486,10],[65487,8,65487,10],[65488,8,65488,10],[65489,8,65489,10],[65490,8,65490,10],[65491,8,65491,10],[65426,8,65426,10],[65427,8,65427,10],[65428,8,65428,10],[65429,8,65429,10],[65430,8,65430,10],[65431,8,65431,10],[65432,8,65432,10],[65433,8,65433,10],[65434,8,65434,10],[65435,8,65435,10],[65436,8,65436,10],[65437,8,65437,10],[65438,8,65438,10],[65439,8,65439,10],[65440,8,65440,10],[65441,8,65441,10],[65442,8,65442,10],[65443,8,65443,10],[65444,8,65444,10],[65445,8,65445,10],[65446,8,65446,10],[65447,8,65447,10],[65448,8,65448,10],[65449,8,65449,10],[65450,8,65450,10],[65451,8,65451,10],[65452,8,65452,10],[65453,8,65453,10],[65454,8,65454,10],[65455,8,65455,10],[65456,8,65456,10],[65457,8,65457,10],[65458,8,65458,10],[65393,8,65393,10],[65394,8,65394,10],[65395,8,65395,10],[65396,8,65396,10],[65397,8,65397,10],[65398,8,65398,10],[65399,8,65399,10],[65400,8,65400,10],[65401,8,65401,10],[65402,8,65402,10],[65403,8,65403,10],[65404,8,65404,10],[65405,8,65405,10],[65406,8,65406,10],[65407,8,65407,10],[65408,8,65408,10],[65409,8,65409,10],[65410,8,65410,10],[65411,8,65411,10],[65412,8,65412,10],[65413,8,65413,10],[65414,8,65414,10],[65415,8,65415,10],[65416,8,65416,10],[65417,8,65417,10],[65418,8,65418,10],[65419,8,65419,10],[65420,8,65420,10],[65421,8,65421,10],[65422,8,65422,10],[65423,8,65423,10],[65424,8,65424,10],[65425,8,65425,10],[65360,8,65360,10],[65361,8,65361,10],[65362,8,65362,10],[65363,8,65363,10],[65364,8,65364,10],[65365,8,65365,10],[65366,8,65366,10],[65367,8,65367,10],[65368,8,65368,10],[65369,8,65369,10],[65370,8,65370,10],[65371,8,65371,10],[65372,8,65372,10],[65373,8,65373,10],[65374,8,65374,10],[65375,8,65375,10],[65376,8,65376,10],[65377,8,65377,10],[65378,8,65378,10],[65379,8,65379,10],[65380,8,65380,10],[65381,8,65381,10],[65382,8,65382,10],[65383,8,65383,10],[65384,8,65384,10],[65385,8,65385,10],[65386,8,65386,10],[65387,8,65387,10],[65388,8,65388,10],[65389,8,65389,10],[65390,8,65390,10],[65391,8,65391,10],[65392,8,65392,10],[65327,8,65327,10],[65328,8,65328,10],[65329,8,65329,10],[65330,8,65330,10],[65331,8,65331,10],[65332,8,65332,10],[65333,8,65333,10],[65334,8,65334,10],[65335,8,65335,10],[65336,8,65336,10],[65337,8,65337,10],[65338,8,65338,10],[65339,8,65339,10],[65340,8,65340,10],[65341,8,65341,10],[65342,8,65342,10],[65343,8,65343,10],[65344,8,65344,10],[65345,8,65345,10],[65346,8,65346,10],[65347,8,65347,10],[65348,8,65348,10],[65349,8,65349,10],[65350,8,65350,10],[65351,8,65351,10],[65352,8,65352,10],[65353,8,65353,10],[65354,8,65354,10],[65355,8,65355,10],[65356,8,65356,10],[65357,8,65357,10],[65358,8,65358,10],[65359,8,65359,10],[65294,8,65294,10],[65295,8,65295,10],[65296,8,65296,10],[65297,8,65297,10],[65298,8,65298,10],[65299,8,65299,10],[65300,8,65300,10],[65301,8,65301,10],[65302,8,65302,10],[65303,8,65303,10],[65304,8,65304,10],[65305,8,65305,10],[65306,8,65306,10],[65307,8,65307,10],[65308,8,65308,10],[65309,8,65309,10],[65310,8,65310,10],[65311,8,65311,10],[65312,8,65312,10],[65313,8,65313,10],[65314,8,65314,10],[65315,8,65315,10],[65316,8,65316,10],[65317,8,65317,10],[65318,8,65318,10],[65319,8,65319,10],[65320,8,65320,10],[65321,8,65321,10],[65322,8,65322,10],[65323,8,65323,10],[65324,8,65324,10],[65325,8,65325,10],[65326,8,65326,10],[65261,8,65261,10],[65262,8,65262,10],[65263,8,65263,10],[65264,8,65264,10],[65265,8,65265,10],[65266,8,65266,10],[65267,8,65267,10],[65268,8,65268,10],[65269,8,65269,10],[65270,8,65270,10],[65271,8,65271,10],[65272,8,65272,10],[65273,8,65273,10],[65274,8,65274,10],[65275,8,65275,10],[65276,8,65276,10],[65277,8,65277,10],[65278,8,65278,10],[65279,8,65279,10],[65280,8,65280,10],[65281,8,65281,10],[65282,8,65282,10],[65283,8,65283,10],[65284,8,65284,10],[65285,8,65285,10],[65286,8,65286,10],[65287,8,65287,10],[65288,8,65288,10],[65289,8,65289,10],[65290,8,65290,10],[65291,8,65291,10],[65292,8,65292,10],[65293,8,65293,10],[65228,8,65228,10],[65229,8,65229,10],[65230,8,65230,10],[65231,8,65231,10],[65232,8,65232,10],[65233,8,65233,10],[65234,8,65234,10],[65235,8,65235,10],[65236,8,65236,10],[65237,8,65237,10],[65238,8,65238,10],[65239,8,65239,10],[65240,8,65240,10],[65241,8,65241,10],[65242,8,65242,10],[65243,8,65243,10],[65244,8,65244,10],[65245,8,65245,10],[65246,8,65246,10],[65247,8,65247,10],[65248,8,65248,10],[65249,8,65249,10],[65250,8,65250,10],[65251,8,65251,10],[65252,8,65252,10],[65253,8,65253,10],[65254,8,65254,10],[65255,8,65255,10],[65256,8,65256,10],[65257,8,65257,10],[65258,8,65258,10],[65259,8,65259,10],[65260,8,65260,10],[65195,8,65195,10],[65196,8,65196,10],[65197,8,65197,10],[65198,8,65198,10],[65199,8,65199,10],[65200,8,65200,10],[65201,8,65201,10],[65202,8,65202,10],[65203,8,65203,10],[65204,8,65204,10],[65205,8,65205,10],[65206,8,65206,10],[65207,8,65207,10],[65208,8,65208,10],[65209,8,65209,10],[65210,8,65210,10],[65211,8,65211,10],[65212,8,65212,10],[65213,8,65213,10],[65214,8,65214,10],[65215,8,65215,10],[65216,8,65216,10],[65217,8,65217,10],[65218,8,65218,10],[65219,8,65219,10],[65220,8,65220,10],[65221,8,65221,10],[65222,8,65222,10],[65223,8,65223,10],[65224,8,65224,10],[65225,8,65225,10],[65226,8,65226,10],[65227,8,65227,10],[65162,8,65162,10],[65163,8,65163,10],[65164,8,65164,10],[65165,8,65165,10],[65166,8,65166,10],[65167,8,65167,10],[65168,8,65168,10],[65169,8,65169,10],[65170,8,65170,10],[65171,8,65171,10],[65172,8,65172,10],[65173,8,65173,10],[65174,8,65174,10],[65175,8,65175,10],[65176,8,65176,10],[65177,8,65177,10],[65178,8,65178,10],[65179,8,65179,10],[65180,8,65180,10],[65181,8,65181,10],[65182,8,65182,10],[65183,8,65183,10],[65184,8,65184,10],[65185,8,65185,10],[65186,8,65186,10],[65187,8,65187,10],[65188,8,65188,10],[65189,8,65189,10],[65190,8,65190,10],[65191,8,65191,10],[65192,8,65192,10],[65193,8,65193,10],[65194,8,65194,10],[65129,8,65129,10],[65130,8,65130,10],[65131,8,65131,10],[65132,8,65132,10],[65133,8,65133,10],[65134,8,65134,10],[65135,8,65135,10],[65136,8,65136,10],[65137,8,65137,10],[65138,8,65138,10],[65139,8,65139,10],[65140,8,65140,10],[65141,8,65141,10],[65142,8,65142,10],[65143,8,65143,10],[65144,8,65144,10],[65145,8,65145,10],[65146,8,65146,10],[65147,8,65147,10],[65148,8,65148,10],[65149,8,65149,10],[65150,8,65150,10],[65151,8,65151,10],[65152,8,65152,10],[65153,8,65153,10],[65154,8,65154,10],[65155,8,65155,10],[65156,8,65156,10],[65157,8,65157,10],[65158,8,65158,10],[65159,8,65159,10],[65160,8,65160,10],[65161,8,65161,10],[65096,8,65096,10],[65097,8,65097,10],[65098,8,65098,10],[65099,8,65099,10],[65100,8,65100,10],[65101,8,65101,10],[65102,8,65102,10],[65103,8,65103,10],[65104,8,65104,10],[65105,8,65105,10],[65106,8,65106,10],[65107,8,65107,10],[65108,8,65108,10],[65109,8,65109,10],[65110,8,65110,10],[65111,8,65111,10],[65112,8,65112,10],[65113,8,65113,10],[65114,8,65114,10],[65115,8,65115,10],[65116,8,65116,10],[65117,8,65117,10],[65118,8,65118,10],[65119,8,65119,10],[65120,8,65120,10],[65121,8,65121,10],[65122,8,65122,10],[65123,8,65123,10],[65124,8,65124,10],[65125,8,65125,10],[65126,8,65126,10],[65127,8,65127,10],[65128,8,65128,10],[65063,8,65063,10],[65064,8,65064,10],[65065,8,65065,10],[65066,8,65066,10],[65067,8,65067,10],[65068,8,65068,10],[65069,8,65069,10],[65070,8,65070,10],[65071,8,65071,10],[65072,8,65072,10],[65073,8,65073,10],[65074,8,65074,10],[65075,8,65075,10],[65076,8,65076,10],[65077,8,65077,10],[65078,8,65078,10],[65079,8,65079,10],[65080,8,65080,10],[65081,8,65081,10],[65082,8,65082,10],[65083,8,65083,10],[65084,8,65084,10],[65085,8,65085,10],[65086,8,65086,10],[65087,8,65087,10],[65088,8,65088,10],[65089,8,65089,10],[65090,8,65090,10],[65091,8,65091,10],[65092,8,65092,10],[65093,8,65093,10],[65094,8,65094,10],[65095,8,65095,10],[65030,8,65030,10],[65031,8,65031,10],[65032,8,65032,10],[65033,8,65033,10],[65034,8,65034,10],[65035,8,65035,10],[65036,8,65036,10],[65037,8,65037,10],[65038,8,65038,10],[65039,8,65039,10],[65040,8,65040,10],[65041,8,65041,10],[65042,8,65042,10],[65043,8,65043,10],[65044,8,65044,10],[65045,8,65045,10],[65046,8,65046,10],[65047,8,65047,10],[65048,8,65048,10],[65049,8,65049,10],[65050,8,65050,10],[65051,8,65051,10],[65052,8,65052,10],[65053,8,65053,10],[65054,8,65054,10],[65055,8,65055,10],[65056,8,65056,10],[65057,8,65057,10],[65058,8,65058,10],[65059,8,65059,10],[65060,8,65060,10],[65061,8,65061,10],[65062,8,65062,10],[64997,8,64997,10],[64998,8,64998,10],[64999,8,64999,10],[65000,8,65000,10],[65001,8,65001,10],[65002,8,65002,10],[65003,8,65003,10],[65004,8,65004,10],[65005,8,65005,10],[65006,8,65006,10],[65007,8,65007,10],[65008,8,65008,10],[65009,8,65009,10],[65010,8,65010,10],[65011,8,65011,10],[65012,8,65012,10],[65013,8,65013,10],[65014,8,65014,10],[65015,8,65015,10],[65016,8,65016,10],[65017,8,65017,10],[65018,8,65018,10],[65019,8,65019,10],[65020,8,65020,10],[65021,8,65021,10],[65022,8,65022,10],[65023,8,65023,10],[65024,8,65024,10],[65025,8,65025,10],[65026,8,65026,10],[65027,8,65027,10],[65028,8,65028,10],[65029,8,65029,10],[64964,8,64964,10],[64965,8,64965,10],[64966,8,64966,10],[64967,8,64967,10],[64968,8,64968,10],[64969,8,64969,10],[64970,8,64970,10],[64971,8,64971,10],[64972,8,64972,10],[64973,8,64973,10],[64974,8,64974,10],[64975,8,64975,10],[64976,8,64976,10],[64977,8,64977,10],[64978,8,64978,10],[64979,8,64979,10],[64980,8,64980,10],[64981,8,64981,10],[64982,8,64982,10],[64983,8,64983,10],[64984,8,64984,10],[64985,8,64985,10],[64986,8,64986,10],[64987,8,64987,10],[64988,8,64988,10],[64989,8,64989,10],[64990,8,64990,10],[64991,8,64991,10],[64992,8,64992,10],[64993,8,64993,10],[64994,8,64994,10],[64995,8,64995,10],[64996,8,64996,10],[64931,8,64931,10],[64932,8,64932,10],[64933,8,64933,10],[64934,8,64934,10],[64935,8,64935,10],[64936,8,64936,10],[64937,8,64937,10],[64938,8,64938,10],[64939,8,64939,10],[64940,8,64940,10],[64941,8,64941,10],[64942,8,64942,10],[64943,8,64943,10],[64944,8,64944,10],[64945,8,64945,10],[64946,8,64946,10],[64947,8,64947,10],[64948,8,64948,10],[64949,8,64949,10],[64950,8,64950,10],[64951,8,64951,10],[64952,8,64952,10],[64953,8,64953,10],[64954,8,64954,10],[64955,8,64955,10],[64956,8,64956,10],[64957,8,64957,10],[64958,8,64958,10],[64959,8,64959,10],[64960,8,64960,10],[64961,8,64961,10],[64962,8,64962,10],[64963,8,64963,10],[64898,8,64898,10],[64899,8,64899,10],[64900,8,64900,10],[64901,8,64901,10],[64902,8,64902,10],[64903,8,64903,10],[64904,8,64904,10],[64905,8,64905,10],[64906,8,64906,10],[64907,8,64907,10],[64908,8,64908,10],[64909,8,64909,10],[64910,8,64910,10],[64911,8,64911,10],[64912,8,64912,10],[64913,8,64913,10],[64914,8,64914,10],[64915,8,64915,10],[64916,8,64916,10],[64917,8,64917,10],[64918,8,64918,10],[64919,8,64919,10],[64920,8,64920,10],[64921,8,64921,10],[64922,8,64922,10],[64923,8,64923,10],[64924,8,64924,10],[64925,8,64925,10],[64926,8,64926,10],[64927,8,64927,10],[64928,8,64928,10],[64929,8,64929,10],[64930,8,64930,10],[64865,8,64865,10],[64866,8,64866,10],[64867,8,64867,10],[64868,8,64868,10],[64869,8,64869,10],[64870,8,64870,10],[64871,8,64871,10],[64872,8,64872,10],[64873,8,64873,10],[64874,8,64874,10],[64875,8,64875,10],[64876,8,64876,10],[64877,8,64877,10],[64878,8,64878,10],[64879,8,64879,10],[64880,8,64880,10],[64881,8,64881,10],[64882,8,64882,10],[64883,8,64883,10],[64884,8,64884,10],[64885,8,64885,10],[64886,8,64886,10],[64887,8,64887,10],[64888,8,64888,10],[64889,8,64889,10],[64890,8,64890,10],[64891,8,64891,10],[64892,8,64892,10],[64893,8,64893,10],[64894,8,64894,10],[64895,8,64895,10],[64896,8,64896,10],[64897,8,64897,10],[64832,8,64832,10],[64833,8,64833,10],[64834,8,64834,10],[64835,8,64835,10],[64836,8,64836,10],[64837,8,64837,10],[64838,8,64838,10],[64839,8,64839,10],[64840,8,64840,10],[64841,8,64841,10],[64842,8,64842,10],[64843,8,64843,10],[64844,8,64844,10],[64845,8,64845,10],[64846,8,64846,10],[64847,8,64847,10],[64848,8,64848,10],[64849,8,64849,10],[64850,8,64850,10],[64851,8,64851,10],[64852,8,64852,10],[64853,8,64853,10],[64854,8,64854,10],[64855,8,64855,10],[64856,8,64856,10],[64857,8,64857,10],[64858,8,64858,10],[64859,8,64859,10],[64860,8,64860,10],[64861,8,64861,10],[64862,8,64862,10],[64863,8,64863,10],[64864,8,64864,10],[64799,8,64799,10],[64800,8,64800,10],[64801,8,64801,10],[64802,8,64802,10]],"merged_total":68820,"flags":["merged_cut"]}
["SIMULADOR DE CREDITOS"]
[]
[]
[null,null,null,null,null,null,null,null,null,null,null,null,null,null,null,null,null,null,null,null,null,null,null,null,null,null,null,null,null,null,null,null,{"$f":"SUM(AC20:AE379)","v":0.27622155874632348},{"$f":"MIN(H19:J379)","v":1.8189894035458565E-12},null,null,{"$f":"SUM(AC20:AE379)","v":0.27622155874632348}]
[null,"TEA FIJA",0.13500000000000001,null,null,null,null,null,null,2,null,null,null,null,null,null,null,null,null,null,18,null,null,null,5000,null,null,null,null,null,"SOLES",null,null,306.91284305147047]
[]
[]
[null,"Seguros e Impuestos",null,null,null,null,null,null,"Detalles del Financiamiento",null,null,null,null,null,null,null,null,null,null,null,null,null,null,null,null,null,null,null,null,null,null,null,null,{"$f":"Q20+T20+W20","v":53.04298623293402}]
[null,"Seguro desgravamen",null,null,0,null,null,null,"Tasa Efectiva Anual (TEA)",null,null,null,null,{"$f":"+C5","v":0.13500000000000001},null,"2018-12-09",null,null,null,null,0,null,null,null,null,30,"   Días despues          del Desembolso",null,null,null,null,null,null,{"$f":"Y5*AH10","v":53.04298623293402}]
[null,"Seg. Garantía y Otros",null,null,null,null,null,null,{"$f":"CONCATENATE(\"Tasa Efectiva \",VLOOKUP(Data!B3,Forma_de_pago,2,0),VLOOKUP(Data!B3,Forma_de_pago,9,0))","v":"Tasa Efectiva Mensual(TEM)"},null,null,null,null,{"$f":"POWER(1+C5,1/VLOOKUP(Data!B3,Forma_de_pago,4,FALSE))-1","v":1.0608597246586804E-2},null,null,null,null,null,null,null,null,null,null,null,null,null,null,null,null,null,null,null,1.0608597246586804E-2]
[null,"ITF",null,null,5.0000000000000002E-5,null,null,null,"Tasa de Costo Efectivo Anual (TCEA)",null,null,null,null,{"$f":"((1+AH10)^(360/G20))-1","v":0.13500000000000001},null,null,null,null,null,null,null,null,null,null,null,null,null,null,null,null,null,null,null,{"$f":"AH9-AH8","v":0}]
[null,null,null,null,null,null,null,null,"Fecha Vencimiento",null,null,{"$f":"MAX(E19:F52)","v":"2020-06-08"},null,null,null,"Total Capital",null,null,{"$f":"SUM(N20:P379)","v":4999.9999999999991},null,null,null,null,"Total Seguros",null,null,{"$f":"SUM(T20:Y379)","v":0}]
[null,"LÍNEA CRÉDITO CON DEPÓSITO PLAZO FIJO/CTS",null,null,null,null,null,null,"Plazo Total",null,null,{"$f":"L12-P9","v":547},null,"días",null,"Total Intereses",null,null,{"$f":"SUM(Q20:S379)","v":524.43117492646945},null,null,null,null,"TOTAL A PAGAR",null,null,{"$f":"SUM(AF19:AH379)","v":5524.707396485217},null,null,null,{"$f":"IF(AND(B20<>\"\",C20<>0),$E$9*H19*(1+U9),\"\")","v":0}]
[]
[{"$f":"IF(INT(SUM(N20:P379))-H19=0,\"NOTA:Las cuotas de la presente simulación han sido calculadas con datos referenciales. \",\"PARA OBTENER EL CALENDARIO DE PAGOS DEBE PRESIONAR EL BOTON     'GENERAR PLAN DE PAGOS'  \")","v":"NOTA:Las cuotas de la presente simulación han sido calculadas con datos referenciales. "}]
[null,"*El Cliente tiene derecho a contratar directamente el seguro de desgravamen y endosarlo a favor de Caja arequipa, por el saldo adeudado,siempre y cuando cumpla con las condiciones requeridas y que se pueden consultar en la pagina web www.cajaarequipa.pe/seccion seguros."]
[null,"Cuota","Frecuencia",null,"Fecha",null,"Dias","Saldo Capital",null,null,"Cuota extraordinaria",null,null,"Capital",null,null,"Interés",null,null,{"$f":"\"S. Desgravamen * \" &TEXT(E9,\"0.00%\")","v":"S. Desgravamen * 0.00%"},null,null,{"$f":"B10","v":"Seg. Garantía y Otros"},null,null,"Cuota por Financiamiento",null,null,{"$f":"\"I.T.F.                       \" &TEXT(E11,\"0.000%\")","v":"I.T.F.                       0.005%"},null,null,"Cuota Total a Pagar"]
[]
[null,0,0,null,{"$f":"P9","v":"2018-12-09"},null,null,{"$f":"+Y5","v":5000},null,null,null,null,null,null,null,null,null,null,null,null,null,null,null,null,null,{"$f":"-H19","v":-5000},null,null,null,null,null,0]
[null,{"$f":"IF(ROW(B20)-19>$U$5,\"\",ROW(B20)-19)","v":1},{"$f":"IFERROR(INDEX(Fechas!$B$7:$U$198,Simulador!B20,Data!$D$3-1),\"\")","v":1},null,{"$f":"IF($J$5=2,IFERROR(INDEX(Fechas!$B$7:$U$198,Simulador!B20,Data!$D$3),\"\"),IF(B20>$U$5,\"\",E19+Data!$E$3))","v":"2019-01-08"},null,{"$f":"IF(B20=\"\",\"\",E20-E19)","v":30},{"$f":"IF(B20=\"\",\"\",H19-N20)","v":4746.1301431814636},null,null,null,null,null,{"$f":"IF(B20=\"\",\"\",Z20-SUM(Q20:Y20))","v":253.86985681853645},null,null,{"$f":"IF(B20=\"\",\"\",IF(B19<=$U$5-1,H19*(((1+$N$9)^(G20/360))-1),1/0))","v":53.04298623293402},null,null,{"$f":"IF(AE13<1,IF(E9=0,0,1),AE13)","v":0},null,null,{"$f":"IF(B20=\"\",\"\",$E$10)","v":0},null,null,{"$f":"IF(B20=\"\",\"\",IF(Data!$A$1=1,$AH$5,IF(Data!$A$1=2,$AH$5*IF(K20=\"\",1,K20))))","v":306.91284305147047},null,null,{"$f":"IF(B20=\"\",\"\",Z20*$E$11)","v":1.5345642152573525E-2},null,null,{"$f":"IF(B20=\"\",\"\",Z20+AC20)","v":306.92818869362304}]
[null,2,{"$f":"IFERROR(INDEX(Fechas!$B$7:$U$198,Simulador!B21,Data!$D$3-1),\"\")","v":2},null,{"$f":"IF($J$5=2,IFERROR(INDEX(Fechas!$B$7:$U$198,Simulador!B21,Data!$D$3),\"\"),IF(B21>$U$5,\"\",E20+Data!$E$3))","v":"2019-02-08"},null,31,4491.2545772096473,null,null,null,null,null,254.87556597181674,null,null,52.037277079653734,null,null,{"$f":"IF($E$9=0,0,IF(AND(B21<>\"\",C21<>0),IF($E$9*H20<1,1,$E$9*H20),\"\"))","v":0},null,null,0,null,null,{"$f":"IF(B21=\"\",\"\",IF(Data!$A$1=1,$AH$5,IF(Data!$A$1=2,$AH$5*IF(K21=\"\",1,K21))))","v":306.91284305147047},null,null,1.5345642152573525E-2,null,null,306.92818869362304]
[null,3,{"$f":"IFERROR(INDEX(Fechas!$B$7:$U$198,Simulador!B22,Data!$D$3-1),\"\")","v":3},null,{"$f":"IF($J$5=2,IFERROR(INDEX(Fechas!$B$7:$U$198,Simulador!B22,Data!$D$3),\"\"),IF(B22>$U$5,\"\",E21+Data!$E$3))","v":"2019-03-08"},null,28,4228.7955847224302,null,null,null,null,null,262.4589924872173,null,null,44.453850564253152,null,null,{"$f":"IF($E$9=0,0,IF(AND(B22<>\"\",C22<>0),IF($E$9*H21<1,1,$E$9*H21),\"\"))","v":0},null,null,0,null,null,{"$f":"IF(B22=\"\",\"\",IF(Data!$A$1=1,$AH$5,IF(Data!$A$1=2,$AH$5*IF(K22=\"\",1,K22))))","v":306.91284305147047},null,null,1.5345642152573525E-2,null,null,306.92818869362304]
[null,4,{"$f":"IFERROR(INDEX(Fechas!$B$7:$U$198,Simulador!B23,Data!$D$3-1),\"\")","v":4},null,{"$f":"IF($J$5=2,IFERROR(INDEX(Fechas!$B$7:$U$198,Simulador!B23,Data!$D$3),\"\"),IF(B23>$U$5,\"\",E22+Data!$E$3))","v":"2019-04-08"},null,31,3968.2478856760308,null,null,null,null,null,260.54769904639932,null,null,46.36514400507113,null,null,0,null,null,0,null,null,{"$f":"IF(B23=\"\",\"\",IF(Data!$A$1=1,$AH$5,IF(Data!$A$1=2,$AH$5*IF(K23=\"\",1,K23))))","v":306.91284305147047},null,null,1.5345642152573525E-2,null,null,306.92818869362304]
[null,5,{"$f":"IFERROR(INDEX(Fechas!$B$7:$U$198,Simulador!B24,Data!$D$3-1),\"\")","v":5},null,{"$f":"IF($J$5=2,IFERROR(INDEX(Fechas!$B$7:$U$198,Simulador!B24,Data!$D$3),\"\"),IF(B24>$U$5,\"\",E23+Data!$E$3))","v":"2019-05-08"},null,30,3703.4325862183168,null,null,null,null,null,264.81529945771382,null,null,{"$f":"IF(B24=\"\",\"\",IF(B23<=$U$5-1,H23*(((1+$N$9)^(G24/360))-1),1/0))","v":42.097543593756647},null,null,0,null,null,0,null,null,{"$f":"IF(B24=\"\",\"\",IF(Data!$A$1=1,$AH$5,IF(Data!$A$1=2,$AH$5*IF(K24=\"\",1,K24))))","v":306.91284305147047},null,null,1.5345642152573525E-2,null,null,306.92818869362304]
[null,6,{"$f":"IFERROR(INDEX(Fechas!$B$7:$U$198,Simulador!B25,Data!$D$3-1),\"\")","v":6},null,{"$f":"IF($J$5=2,IFERROR(INDEX(Fechas!$B$7:$U$198,Simulador!B25,Data!$D$3),\"\"),IF(B25>$U$5,\"\",E24+Data!$E$3))","v":"2019-06-08"},null,31,3437.124729086107,null,null,null,null,null,266.30785713220996,null,null,40.6049859192605,null,null,0,null,null,0,null,null,{"$f":"IF(B25=\"\",\"\",IF(Data!$A$1=1,$AH$5,IF(Data!$A$1=2,$AH$5*IF(K25=\"\",1,K25))))","v":306.91284305147047},null,null,1.5345642152573525E-2,null,null,306.92818869362304]
[null,7,{"$f":"IFERROR(INDEX(Fechas!$B$7:$U$198,Simulador!B26,Data!$D$3-1),\"\")","v":7},null,{"$f":"IF($J$5=2,IFERROR(INDEX(Fechas!$B$7:$U$198,Simulador!B26,Data!$D$3),\"\"),IF(B26>$U$5,\"\",E25+Data!$E$3))","v":"2019-07-08"},null,30,3166.6749579717948,null,null,null,null,null,270.44977111431217,null,null,36.46307193715829,null,null,0,null,null,0,null,null,{"$f":"IF(B26=\"\",\"\",IF(Data!$A$1=1,$AH$5,IF(Data!$A$1=2,$AH$5*IF(K26=\"\",1,K26))))","v":306.91284305147047},null,null,1.5345642152573525E-2,null,null,306.92818869362304]
[null,8,{"$f":"IFERROR(INDEX(Fechas!$B$7:$U$198,Simulador!B27,Data!$D$3-1),\"\")","v":8},null,{"$f":"IF($J$5=2,IFERROR(INDEX(Fechas!$B$7:$U$198,Simulador!B27,Data!$D$3),\"\"),IF(B27>$U$5,\"\",E26+Data!$E$3))","v":"2019-08-08"},null,31,2894.4820103378402,null,null,null,null,null,272.19294763395482,null,null,34.71989541751568,null,null,0,null,null,0,null,null,{"$f":"IF(B27=\"\",\"\",IF(Data!$A$1=1,$AH$5,IF(Data!$A$1=2,$AH$5*IF(K27=\"\",1,K27))))","v":306.91284305147047},null,null,1.5345642152573525E-2,null,null,306.92818869362304]
[null,9,{"$f":"IFERROR(INDEX(Fechas!$B$7:$U$198,Simulador!B28,Data!$D$3-1),\"\")","v":9},null,{"$f":"IF($J$5=2,IFERROR(INDEX(Fechas!$B$7:$U$198,Simulador!B28,Data!$D$3),\"\"),IF(B28>$U$5,\"\",E27+Data!$E$3))","v":"2019-09-08"},null,31,2619.3046987256862,null,null,null,null,null,275.17731161215391,null,null,31.73553143931656,null,null,0,null,null,0,null,null,{"$f":"IF(B28=\"\",\"\",IF(Data!$A$1=1,$AH$5,IF(Data!$A$1=2,$AH$5*IF(K28=\"\",1,K28))))","v":306.91284305147047},null,null,1.5345642152573525E-2,null,null,306.92818869362304]
[null,10,{"$f":"IFERROR(INDEX(Fechas!$B$7:$U$198,Simulador!B29,Data!$D$3-1),\"\")","v":10},null,{"$f":"IF($J$5=2,IFERROR(INDEX(Fechas!$B$7:$U$198,Simulador!B29,Data!$D$3),\"\"),IF(B29>$U$5,\"\",E28+Data!$E$3))","v":"2019-10-08"},null,30,2340.1790042890889,null,null,null,null,null,279.12569443659726,null,null,27.787148614873193,null,null,0,null,null,0,null,null,{"$f":"IF(B29=\"\",\"\",IF(Data!$A$1=1,$AH$5,IF(Data!$A$1=2,$AH$5*IF(K29=\"\",1,K29))))","v":306.91284305147047},null,null,1.5345642152573525E-2,null,null,306.92818869362304]
[null,11,{"$f":"IFERROR(INDEX(Fechas!$B$7:$U$198,Simulador!B30,Data!$D$3-1),\"\")","v":11},null,{"$f":"IF($J$5=2,IFERROR(INDEX(Fechas!$B$7:$U$198,Simulador!B30,Data!$D$3),\"\"),IF(B30>$U$5,\"\",E29+Data!$E$3))","v":"2019-11-08"},null,31,2058.9242320423414,null,null,null,null,null,281.25477224674762,null,null,25.658070804722872,null,null,0,null,null,0,null,null,{"$f":"IF(B30=\"\",\"\",IF(Data!$A$1=1,$AH$5,IF(Data!$A$1=2,$AH$5*IF(K30=\"\",1,K30))))","v":306.91284305147047},null,null,1.5345642152573525E-2,null,null,306.92818869362304]
[null,12,{"$f":"IFERROR(INDEX(Fechas!$B$7:$U$198,Simulador!B31,Data!$D$3-1),\"\")","v":12},null,{"$f":"IF($J$5=2,IFERROR(INDEX(Fechas!$B$7:$U$198,Simulador!B31,Data!$D$3),\"\"),IF(B31>$U$5,\"\",E30+Data!$E$3))","v":"2019-12-08"},null,30,1773.8536869298462,null,null,null,null,null,285.07054511249527,null,null,21.842297938975232,null,null,0,null,null,0,null,null,{"$f":"IF(B31=\"\",\"\",IF(Data!$A$1=1,$AH$5,IF(Data!$A$1=2,$AH$5*IF(K31=\"\",1,K31))))","v":306.91284305147047},null,null,1.5345642152573525E-2,null,null,306.92818869362304]
[null,13,{"$f":"IFERROR(INDEX(Fechas!$B$7:$U$198,Simulador!B32,Data!$D$3-1),\"\")","v":13},null,{"$f":"IF($J$5=2,IFERROR(INDEX(Fechas!$B$7:$U$198,Simulador!B32,Data!$D$3),\"\"),IF(B32>$U$5,\"\",E31+Data!$E$3))","v":"2020-01-08"},null,31,1486.3896396384637,null,null,null,null,null,287.46404729138243,null,null,19.448795760088053,null,null,0,null,null,0,null,null,{"$f":"IF(B32=\"\",\"\",IF(Data!$A$1=1,$AH$5,IF(Data!$A$1=2,$AH$5*IF(K32=\"\",1,K32))))","v":306.91284305147047},null,null,1.5345642152573525E-2,null,null,306.92818869362304]
[null,14,{"$f":"IFERROR(INDEX(Fechas!$B$7:$U$198,Simulador!B33,Data!$D$3-1),\"\")","v":14},null,{"$f":"IF($J$5=2,IFERROR(INDEX(Fechas!$B$7:$U$198,Simulador!B33,Data!$D$3),\"\"),IF(B33>$U$5,\"\",E32+Data!$E$3))","v":"2020-02-08"},null,31,1195.7737937600091,null,null,null,null,null,290.61584587845465,null,null,16.296997173015804,null,null,0,null,null,0,null,null,{"$f":"IF(B33=\"\",\"\",IF(Data!$A$1=1,$AH$5,IF(Data!$A$1=2,$AH$5*IF(K33=\"\",1,K33))))","v":306.91284305147047},null,null,1.5345642152573525E-2,null,null,306.92818869362304]
[null,15,{"$f":"IFERROR(INDEX(Fechas!$B$7:$U$198,Simulador!B34,Data!$D$3-1),\"\")","v":15},null,{"$f":"IF($J$5=2,IFERROR(INDEX(Fechas!$B$7:$U$198,Simulador!B34,Data!$D$3),\"\"),IF(B34>$U$5,\"\",E33+Data!$E$3))","v":"2020-03-08"},null,29,901.12142358990172,null,null,null,null,null,294.65237017010742,null,null,12.260472881363068,null,null,0,null,null,0,null,null,{"$f":"IF(B34=\"\",\"\",IF(Data!$A$1=1,$AH$5,IF(Data!$A$1=2,$AH$5*IF(K34=\"\",1,K34))))","v":306.91284305147047},null,null,1.5345642152573525E-2,null,null,306.92818869362304]
[null,16,{"$f":"IFERROR(INDEX(Fechas!$B$7:$U$198,Simulador!B35,Data!$D$3-1),\"\")","v":16},null,{"$f":"IF($J$5=2,IFERROR(INDEX(Fechas!$B$7:$U$198,Simulador!B35,Data!$D$3),\"\"),IF(B35>$U$5,\"\",E34+Data!$E$3))","v":"2020-04-08"},null,31,604.08860990701635,null,null,null,null,null,297.03281368288538,null,null,9.8800293685850722,null,null,0,null,null,0,null,null,{"$f":"IF(B35=\"\",\"\",IF(Data!$A$1=1,$AH$5,IF(Data!$A$1=2,$AH$5*IF(K35=\"\",1,K35))))","v":306.91284305147047},null,null,1.5345642152573525E-2,null,null,306.92818869362304]
[null,17,{"$f":"IFERROR(INDEX(Fechas!$B$7:$U$198,Simulador!B36,Data!$D$3-1),\"\")","v":17},null,{"$f":"IF($J$5=2,IFERROR(INDEX(Fechas!$B$7:$U$198,Simulador!B36,Data!$D$3),\"\"),IF(B36>$U$5,\"\",E35+Data!$E$3))","v":"2020-05-08"},null,30,303.58429961929988,null,null,null,null,null,300.50431028771646,null,null,6.4085327637540237,null,null,0,null,null,0,null,null,{"$f":"IF(B36=\"\",\"\",IF(Data!$A$1=1,$AH$5,IF(Data!$A$1=2,$AH$5*IF(K36=\"\",1,K36))))","v":306.91284305147047},null,null,1.5345642152573525E-2,null,null,306.92818869362304]
[null,18,{"$f":"IFERROR(INDEX(Fechas!$B$7:$U$198,Simulador!B37,Data!$D$3-1),\"\")","v":18},null,{"$f":"IF($J$5=2,IFERROR(INDEX(Fechas!$B$7:$U$198,Simulador!B37,Data!$D$3),\"\"),IF(B37>$U$5,\"\",E36+Data!$E$3))","v":"2020-06-08"},null,31,1.8189894035458565E-12,null,null,null,null,null,303.58429961929806,null,null,3.3285434321724026,null,null,0,null,null,0,null,null,{"$f":"IF(B37=\"\",\"\",IF(Data!$A$1=1,$AH$5,IF(Data!$A$1=2,$AH$5*IF(K37=\"\",1,K37))))","v":306.91284305147047},null,null,1.5345642152573525E-2,null,null,306.92818869362304]
[null,"",{"$f":"IFERROR(INDEX(Fechas!$B$7:$U$198,Simulador!B38,Data!$D$3-1),\"\")","v":""},null,{"$f":"IF($J$5=2,IFERROR(INDEX(Fechas!$B$7:$U$198,Simulador!B38,Data!$D$3),\"\"),IF(B38>$U$5,\"\",E37+Data!$E$3))","v":""},null,"","",null,null,null,null,null,"",null,null,"",null,null,0,null,null,"",null,null,{"$f":"IF(B38=\"\",\"\",IF(Data!$A$1=1,$AH$5,IF(Data!$A$1=2,$AH$5*IF(K38=\"\",1,K38))))","v":""},null,null,"",null,null,""]
[null,"",{"$f":"IFERROR(INDEX(Fechas!$B$7:$U$198,Simulador!B39,Data!$D$3-1),\"\")","v":""},null,{"$f":"IF($J$5=2,IFERROR(INDEX(Fechas!$B$7:$U$198,Simulador!B39,Data!$D$3),\"\"),IF(B39>$U$5,\"\",E38+Data!$E$3))","v":""},null,"","",null,null,null,null,null,"",null,null,"",null,null,0,null,null,"",null,null,{"$f":"IF(B39=\"\",\"\",IF(Data!$A$1=1,$AH$5,IF(Data!$A$1=2,$AH$5*IF(K39=\"\",1,K39))))","v":""},null,null,"",null,null,""]
[null,"",{"$f":"IFERROR(INDEX(Fechas!$B$7:$U$198,Simulador!B40,Data!$D$3-1),\"\")","v":""},null,{"$f":"IF($J$5=2,IFERROR(INDEX(Fechas!$B$7:$U$198,Simulador!B40,Data!$D$3),\"\"),IF(B40>$U$5,\"\",E39+Data!$E$3))","v":""},null,"","",null,null,null,null,null,"",null,null,"",null,null,0,null,null,"",null,null,{"$f":"IF(B40=\"\",\"\",IF(Data!$A$1=1,$AH$5,IF(Data!$A$1=2,$AH$5*IF(K40=\"\",1,K40))))","v":""},null,null,"",null,null,""]
[null,"",{"$f":"IFERROR(INDEX(Fechas!$B$7:$U$198,Simulador!B41,Data!$D$3-1),\"\")","v":""},null,{"$f":"IF($J$5=2,IFERROR(INDEX(Fechas!$B$7:$U$198,Simulador!B41,Data!$D$3),\"\"),IF(B41>$U$5,\"\",E40+Data!$E$3))","v":""},null,"","",null,null,null,null,null,"",null,null,"",null,null,0,null,null,"",null,null,{"$f":"IF(B41=\"\",\"\",IF(Data!$A$1=1,$AH$5,IF(Data!$A$1=2,$AH$5*IF(K41=\"\",1,K41))))","v":""},null,null,"",null,null,""]
[null,"",{"$f":"IFERROR(INDEX(Fechas!$B$7:$U$198,Simulador!B42,Data!$D$3-1),\"\")","v":""},null,{"$f":"IF($J$5=2,IFERROR(INDEX(Fechas!$B$7:$U$198,Simulador!B42,Data!$D$3),\"\"),IF(B42>$U$5,\"\",E41+Data!$E$3))","v":""},null,"","",null,null,null,null,null,"",null,null,"",null,null,0,null,null,"",null,null,{"$f":"IF(B42=\"\",\"\",IF(Data!$A$1=1,$AH$5,IF(Data!$A$1=2,$AH$5*IF(K42=\"\",1,K42))))","v":""},null,null,"",null,null,""]
[null,"",{"$f":"IFERROR(INDEX(Fechas!$B$7:$U$198,Simulador!B43,Data!$D$3-1),\"\")","v":""},null,{"$f":"IF($J$5=2,IFERROR(INDEX(Fechas!$B$7:$U$198,Simulador!B43,Data!$D$3),\"\"),IF(B43>$U$5,\"\",E42+Data!$E$3))","v":""},null,"","",null,null,null,null,null,"",null,null,"",null,null,0,null,null,"",null,null,{"$f":"IF(B43=\"\",\"\",IF(Data!$A$1=1,$AH$5,IF(Data!$A$1=2,$AH$5*IF(K43=\"\",1,K43))))","v":""},null,null,"",null,null,""]
[null,"",{"$f":"IFERROR(INDEX(Fechas!$B$7:$U$198,Simulador!B44,Data!$D$3-1),\"\")","v":""},null,{"$f":"IF($J$5=2,IFERROR(INDEX(Fechas!$B$7:$U$198,Simulador!B44,Data!$D$3),\"\"),IF(B44>$U$5,\"\",E43+Data!$E$3))","v":""},null,"","",null,null,null,null,null,"",null,null,"",null,null,0,null,null,"",null,null,{"$f":"IF(B44=\"\",\"\",IF(Data!$A$1=1,$AH$5,IF(Data!$A$1=2,$AH$5*IF(K44=\"\",1,K44))))","v":""},null,null,"",null,null,""]
[null,"",{"$f":"IFERROR(INDEX(Fechas!$B$7:$U$198,Simulador!B45,Data!$D$3-1),\"\")","v":""},null,{"$f":"IF($J$5=2,IFERROR(INDEX(Fechas!$B$7:$U$198,Simulador!B45,Data!$D$3),\"\"),IF(B45>$U$5,\"\",E44+Data!$E$3))","v":""},null,"","",null,null,null,null,null,"",null,null,"",null,null,0,null,null,"",null,null,{"$f":"IF(B45=\"\",\"\",IF(Data!$A$1=1,$AH$5,IF(Data!$A$1=2,$AH$5*IF(K45=\"\",1,K45))))","v":""},null,null,"",null,null,""]
[null,"",{"$f":"IFERROR(INDEX(Fechas!$B$7:$U$198,Simulador!B46,Data!$D$3-1),\"\")","v":""},null,{"$f":"IF($J$5=2,IFERROR(INDEX(Fechas!$B$7:$U$198,Simulador!B46,Data!$D$3),\"\"),IF(B46>$U$5,\"\",E45+Data!$E$3))","v":""},null,"","",null,null,null,null,null,"",null,null,"",null,null,0,null,null,"",null,null,{"$f":"IF(B46=\"\",\"\",IF(Data!$A$1=1,$AH$5,IF(Data!$A$1=2,$AH$5*IF(K46=\"\",1,K46))))","v":""},null,null,"",null,null,""]
[null,"",{"$f":"IFERROR(INDEX(Fechas!$B$7:$U$198,Simulador!B47,Data!$D$3-1),\"\")","v":""},null,{"$f":"IF($J$5=2,IFERROR(INDEX(Fechas!$B$7:$U$198,Simulador!B47,Data!$D$3),\"\"),IF(B47>$U$5,\"\",E46+Data!$E$3))","v":""},null,"","",null,null,null,null,null,"",null,null,"",null,null,0,null,null,"",null,null,{"$f":"IF(B47=\"\",\"\",IF(Data!$A$1=1,$AH$5,IF(Data!$A$1=2,$AH$5*IF(K47=\"\",1,K47))))","v":""},null,null,"",null,null,""]
[null,"",{"$f":"IFERROR(INDEX(Fechas!$B$7:$U$198,Simulador!B48,Data!$D$3-1),\"\")","v":""},null,{"$f":"IF($J$5=2,IFERROR(INDEX(Fechas!$B$7:$U$198,Simulador!B48,Data!$D$3),\"\"),IF(B48>$U$5,\"\",E47+Data!$E$3))","v":""},null,"","",null,null,null,null,null,"",null,null,"",null,null,0,null,null,"",null,null,{"$f":"IF(B48=\"\",\"\",IF(Data!$A$1=1,$AH$5,IF(Data!$A$1=2,$AH$5*IF(K48=\"\",1,K48))))","v":""},null,null,"",null,null,""]
[null,"",{"$f":"IFERROR(INDEX(Fechas!$B$7:$U$198,Simulador!B49,Data!$D$3-1),\"\")","v":""},null,{"$f":"IF($J$5=2,IFERROR(INDEX(Fechas!$B$7:$U$198,Simulador!B49,Data!$D$3),\"\"),IF(B49>$U$5,\"\",E48+Data!$E$3))","v":""},null,"","",null,null,null,null,null,"",null,null,"",null,null,0,null,null,"",null,null,{"$f":"IF(B49=\"\",\"\",IF(Data!$A$1=1,$AH$5,IF(Data!$A$1=2,$AH$5*IF(K49=\"\",1,K49))))","v":""},null,null,"",null,null,""]
[null,"",{"$f":"IFERROR(INDEX(Fechas!$B$7:$U$198,Simulador!B50,Data!$D$3-1),\"\")","v":""},null,{"$f":"IF($J$5=2,IFERROR(INDEX(Fechas!$B$7:$U$198,Simulador!B50,Data!$D$3),\"\"),IF(B50>$U$5,\"\",E49+Data!$E$3))","v":""},null,"","",null,null,null,null,null,"",null,null,"",null,null,0,null,null,"",null,null,{"$f":"IF(B50=\"\",\"\",IF(Data!$A$1=1,$AH$5,IF(Data!$A$1=2,$AH$5*IF(K50=\"\",1,K50))))","v":""},null,null,"",null,null,""]
[null,"",{"$f":"IFERROR(INDEX(Fechas!$B$7:$U$198,Simulador!B51,Data!$D$3-1),\"\")","v":""},null,{"$f":"IF($J$5=2,IFERROR(INDEX(Fechas!$B$7:$U$198,Simulador!B51,Data!$D$3),\"\"),IF(B51>$U$5,\"\",E50+Data!$E$3))","v":""},null,"","",null,null,null,null,null,"",null,null,"",null,null,0,null,null,"",null,null,{"$f":"IF(B51=\"\",\"\",IF(Data!$A$1=1,$AH$5,IF(Data!$A$1=2,$AH$5*IF(K51=\"\",1,K51))))","v":""},null,null,"",null,null,""]
[null,"",{"$f":"IFERROR(INDEX(Fechas!$B$7:$U$198,Simulador!B52,Data!$D$3-1),\"\")","v":""},null,{"$f":"IF($J$5=2,IFERROR(INDEX(Fechas!$B$7:$U$198,Simulador!B52,Data!$D$3),\"\"),IF(B52>$U$5,\"\",E51+Data!$E$3))","v":""},null,"","",null,null,null,null,null,"",null,null,"",null,null,0,null,null,"",null,null,{"$f":"IF(B52=\"\",\"\",IF(Data!$A$1=1,$AH$5,IF(Data!$A$1=2,$AH$5*IF(K52=\"\",1,K52))))","v":""},null,null,"",null,null,""]
[null,"",{"$f":"IFERROR(INDEX(Fechas!$B$7:$U$198,Simulador!B53,Data!$D$3-1),\"\")","v":""},null,{"$f":"IF($J$5=2,IFERROR(INDEX(Fechas!$B$7:$U$198,Simulador!B53,Data!$D$3),\"\"),IF(B53>$U$5,\"\",E52+Data!$E$3))","v":""},null,"","",null,null,null,null,null,"",null,null,"",null,null,0,null,null,"",null,null,{"$f":"IF(B53=\"\",\"\",IF(Data!$A$1=1,$AH$5,IF(Data!$A$1=2,$AH$5*IF(K53=\"\",1,K53))))","v":""},null,null,"",null,null,""]
[null,"",{"$f":"IFERROR(INDEX(Fechas!$B$7:$U$198,Simulador!B54,Data!$D$3-1),\"\")","v":""},null,{"$f":"IF($J$5=2,IFERROR(INDEX(Fechas!$B$7:$U$198,Simulador!B54,Data!$D$3),\"\"),IF(B54>$U$5,\"\",E53+Data!$E$3))","v":""},null,"","",null,null,null,null,null,"",null,null,"",null,null,0,null,null,"",null,null,{"$f":"IF(B54=\"\",\"\",IF(Data!$A$1=1,$AH$5,IF(Data!$A$1=2,$AH$5*IF(K54=\"\",1,K54))))","v":""},null,null,"",null,null,""]
[null,"",{"$f":"IFERROR(INDEX(Fechas!$B$7:$U$198,Simulador!B55,Data!$D$3-1),\"\")","v":""},null,{"$f":"IF($J$5=2,IFERROR(INDEX(Fechas!$B$7:$U$198,Simulador!B55,Data!$D$3),\"\"),IF(B55>$U$5,\"\",E54+Data!$E$3))","v":""},null,"","",null,null,null,null,null,"",null,null,"",null,null,0,null,null,"",null,null,{"$f":"IF(B55=\"\",\"\",IF(Data!$A$1=1,$AH$5,IF(Data!$A$1=2,$AH$5*IF(K55=\"\",1,K55))))","v":""},null,null,"",null,null,""]
[null,"",{"$f":"IFERROR(INDEX(Fechas!$B$7:$U$198,Simulador!B56,Data!$D$3-1),\"\")","v":""},null,{"$f":"IF($J$5=2,IFERROR(INDEX(Fechas!$B$7:$U$198,Simulador!B56,Data!$D$3),\"\"),IF(B56>$U$5,\"\",E55+Data!$E$3))","v":""},null,"","",null,null,null,null,null,"",null,null,"",null,null,0,null,null,"",null,null,{"$f":"IF(B56=\"\",\"\",IF(Data!$A$1=1,$AH$5,IF(Data!$A$1=2,$AH$5*IF(K56=\"\",1,K56))))","v":""},null,null,"",null,null,""]
[null,"",{"$f":"IFERROR(INDEX(Fechas!$B$7:$U$198,Simulador!B57,Data!$D$3-1),\"\")","v":""},null,{"$f":"IF($J$5=2,IFERROR(INDEX(Fechas!$B$7:$U$198,Simulador!B57,Data!$D$3),\"\"),IF(B57>$U$5,\"\",E56+Data!$E$3))","v":""},null,"","",null,null,null,null,null,"",null,null,"",null,null,0,null,null,"",null,null,{"$f":"IF(B57=\"\",\"\",IF(Data!$A$1=1,$AH$5,IF(Data!$A$1=2,$AH$5*IF(K57=\"\",1,K57))))","v":""},null,null,"",null,null,""]
[null,"",{"$f":"IFERROR(INDEX(Fechas!$B$7:$U$198,Simulador!B58,Data!$D$3-1),\"\")","v":""},null,{"$f":"IF($J$5=2,IFERROR(INDEX(Fechas!$B$7:$U$198,Simulador!B58,Data!$D$3),\"\"),IF(B58>$U$5,\"\",E57+Data!$E$3))","v":""},null,"","",null,null,null,null,null,"",null,null,"",null,null,0,null,null,"",null,null,{"$f":"IF(B58=\"\",\"\",IF(Data!$A$1=1,$AH$5,IF(Data!$A$1=2,$AH$5*IF(K58=\"\",1,K58))))","v":""},null,null,"",null,null,""]
[null,"",{"$f":"IFERROR(INDEX(Fechas!$B$7:$U$198,Simulador!B59,Data!$D$3-1),\"\")","v":""},null,{"$f":"IF($J$5=2,IFERROR(INDEX(Fechas!$B$7:$U$198,Simulador!B59,Data!$D$3),\"\"),IF(B59>$U$5,\"\",E58+Data!$E$3))","v":""},null,"","",null,null,null,null,null,"",null,null,"",null,null,0,null,null,"",null,null,{"$f":"IF(B59=\"\",\"\",IF(Data!$A$1=1,$AH$5,IF(Data!$A$1=2,$AH$5*IF(K59=\"\",1,K59))))","v":""},null,null,"",null,null,""]
[null,"",{"$f":"IFERROR(INDEX(Fechas!$B$7:$U$198,Simulador!B60,Data!$D$3-1),\"\")","v":""},null,{"$f":"IF($J$5=2,IFERROR(INDEX(Fechas!$B$7:$U$198,Simulador!B60,Data!$D$3),\"\"),IF(B60>$U$5,\"\",E59+Data!$E$3))","v":""},null,"","",null,null,null,null,null,"",null,null,"",null,null,0,null,null,"",null,null,{"$f":"IF(B60=\"\",\"\",IF(Data!$A$1=1,$AH$5,IF(Data!$A$1=2,$AH$5*IF(K60=\"\",1,K60))))","v":""},null,null,"",null,null,""]
[null,"",{"$f":"IFERROR(INDEX(Fechas!$B$7:$U$198,Simulador!B61,Data!$D$3-1),\"\")","v":""},null,{"$f":"IF($J$5=2,IFERROR(INDEX(Fechas!$B$7:$U$198,Simulador!B61,Data!$D$3),\"\"),IF(B61>$U$5,\"\",E60+Data!$E$3))","v":""},null,"","",null,null,null,null,null,"",null,null,"",null,null,0,null,null,"",null,null,{"$f":"IF(B61=\"\",\"\",IF(Data!$A$1=1,$AH$5,IF(Data!$A$1=2,$AH$5*IF(K61=\"\",1,K61))))","v":""},null,null,"",null,null,""]
[null,"",{"$f":"IFERROR(INDEX(Fechas!$B$7:$U$198,Simulador!B62,Data!$D$3-1),\"\")","v":""},null,{"$f":"IF($J$5=2,IFERROR(INDEX(Fechas!$B$7:$U$198,Simulador!B62,Data!$D$3),\"\"),IF(B62>$U$5,\"\",E61+Data!$E$3))","v":""},null,"","",null,null,null,null,null,"",null,null,"",null,null,0,null,null,"",null,null,{"$f":"IF(B62=\"\",\"\",IF(Data!$A$1=1,$AH$5,IF(Data!$A$1=2,$AH$5*IF(K62=\"\",1,K62))))","v":""},null,null,"",null,null,""]
[null,"",{"$f":"IFERROR(INDEX(Fechas!$B$7:$U$198,Simulador!B63,Data!$D$3-1),\"\")","v":""},null,{"$f":"IF($J$5=2,IFERROR(INDEX(Fechas!$B$7:$U$198,Simulador!B63,Data!$D$3),\"\"),IF(B63>$U$5,\"\",E62+Data!$E$3))","v":""},null,"","",null,null,null,null,null,"",null,null,"",null,null,0,null,null,"",null,null,{"$f":"IF(B63=\"\",\"\",IF(Data!$A$1=1,$AH$5,IF(Data!$A$1=2,$AH$5*IF(K63=\"\",1,K63))))","v":""},null,null,"",null,null,""]
[null,"",{"$f":"IFERROR(INDEX(Fechas!$B$7:$U$198,Simulador!B64,Data!$D$3-1),\"\")","v":""},null,{"$f":"IF($J$5=2,IFERROR(INDEX(Fechas!$B$7:$U$198,Simulador!B64,Data!$D$3),\"\"),IF(B64>$U$5,\"\",E63+Data!$E$3))","v":""},null,"","",null,null,null,null,null,"",null,null,"",null,null,0,null,null,"",null,null,{"$f":"IF(B64=\"\",\"\",IF(Data!$A$1=1,$AH$5,IF(Data!$A$1=2,$AH$5*IF(K64=\"\",1,K64))))","v":""},null,null,"",null,null,""]
[null,"",{"$f":"IFERROR(INDEX(Fechas!$B$7:$U$198,Simulador!B65,Data!$D$3-1),\"\")","v":""},null,{"$f":"IF($J$5=2,IFERROR(INDEX(Fechas!$B$7:$U$198,Simulador!B65,Data!$D$3),\"\"),IF(B65>$U$5,\"\",E64+Data!$E$3))","v":""},null,"","",null,null,null,null,null,"",null,null,"",null,null,0,null,null,"",null,null,{"$f":"IF(B65=\"\",\"\",IF(Data!$A$1=1,$AH$5,IF(Data!$A$1=2,$AH$5*IF(K65=\"\",1,K65))))","v":""},null,null,"",null,null,""]
[null,"",{"$f":"IFERROR(INDEX(Fechas!$B$7:$U$198,Simulador!B66,Data!$D$3-1),\"\")","v":""},null,{"$f":"IF($J$5=2,IFERROR(INDEX(Fechas!$B$7:$U$198,Simulador!B66,Data!$D$3),\"\"),IF(B66>$U$5,\"\",E65+Data!$E$3))","v":""},null,"","",null,null,null,null,null,"",null,null,"",null,null,0,null,null,"",null,null,{"$f":"IF(B66=\"\",\"\",IF(Data!$A$1=1,$AH$5,IF(Data!$A$1=2,$AH$5*IF(K66=\"\",1,K66))))","v":""},null,null,"",null,null,""]
[null,"",{"$f":"IFERROR(INDEX(Fechas!$B$7:$U$198,Simulador!B67,Data!$D$3-1),\"\")","v":""},null,{"$f":"IF($J$5=2,IFERROR(INDEX(Fechas!$B$7:$U$198,Simulador!B67,Data!$D$3),\"\"),IF(B67>$U$5,\"\",E66+Data!$E$3))","v":""},null,"","",null,null,null,null,null,"",null,null,"",null,null,0,null,null,"",null,null,{"$f":"IF(B67=\"\",\"\",IF(Data!$A$1=1,$AH$5,IF(Data!$A$1=2,$AH$5*IF(K67=\"\",1,K67))))","v":""},null,null,"",null,null,""]
[null,"",{"$f":"IFERROR(INDEX(Fechas!$B$7:$U$198,Simulador!B68,Data!$D$3-1),\"\")","v":""},null,{"$f":"IF($J$5=2,IFERROR(INDEX(Fechas!$B$7:$U$198,Simulador!B68,Data!$D$3),\"\"),IF(B68>$U$5,\"\",E67+Data!$E$3))","v":""},null,"","",null,null,null,null,null,"",null,null,"",null,null,0,null,null,"",null,null,{"$f":"IF(B68=\"\",\"\",IF(Data!$A$1=1,$AH$5,IF(Data!$A$1=2,$AH$5*IF(K68=\"\",1,K68))))","v":""},null,null,"",null,null,""]
[null,"",{"$f":"IFERROR(INDEX(Fechas!$B$7:$U$198,Simulador!B69,Data!$D$3-1),\"\")","v":""},null,{"$f":"IF($J$5=2,IFERROR(INDEX(Fechas!$B$7:$U$198,Simulador!B69,Data!$D$3),\"\"),IF(B69>$U$5,\"\",E68+Data!$E$3))","v":""},null,"","",null,null,null,null,null,"",null,null,"",null,null,0,null,null,"",null,null,{"$f":"IF(B69=\"\",\"\",IF(Data!$A$1=1,$AH$5,IF(Data!$A$1=2,$AH$5*IF(K69=\"\",1,K69))))","v":""},null,null,"",null,null,""]
[null,"",{"$f":"IFERROR(INDEX(Fechas!$B$7:$U$198,Simulador!B70,Data!$D$3-1),\"\")","v":""},null,{"$f":"IF($J$5=2,IFERROR(INDEX(Fechas!$B$7:$U$198,Simulador!B70,Data!$D$3),\"\"),IF(B70>$U$5,\"\",E69+Data!$E$3))","v":""},null,"","",null,null,null,null,null,"",null,null,"",null,null,0,null,null,"",null,null,{"$f":"IF(B70=\"\",\"\",IF(Data!$A$1=1,$AH$5,IF(Data!$A$1=2,$AH$5*IF(K70=\"\",1,K70))))","v":""},null,null,"",null,null,""]
[null,"",{"$f":"IFERROR(INDEX(Fechas!$B$7:$U$198,Simulador!B71,Data!$D$3-1),\"\")","v":""},null,{"$f":"IF($J$5=2,IFERROR(INDEX(Fechas!$B$7:$U$198,Simulador!B71,Data!$D$3),\"\"),IF(B71>$U$5,\"\",E70+Data!$E$3))","v":""},null,"","",null,null,null,null,null,"",null,null,"",null,null,0,null,null,"",null,null,{"$f":"IF(B71=\"\",\"\",IF(Data!$A$1=1,$AH$5,IF(Data!$A$1=2,$AH$5*IF(K71=\"\",1,K71))))","v":""},null,null,"",null,null,""]
[null,"",{"$f":"IFERROR(INDEX(Fechas!$B$7:$U$198,Simulador!B72,Data!$D$3-1),\"\")","v":""},null,{"$f":"IF($J$5=2,IFERROR(INDEX(Fechas!$B$7:$U$198,Simulador!B72,Data!$D$3),\"\"),IF(B72>$U$5,\"\",E71+Data!$E$3))","v":""},null,"","",null,null,null,null,null,"",null,null,"",null,null,0,null,null,"",null,null,{"$f":"IF(B72=\"\",\"\",IF(Data!$A$1=1,$AH$5,IF(Data!$A$1=2,$AH$5*IF(K72=\"\",1,K72))))","v":""},null,null,"",null,null,""]
[null,"",{"$f":"IFERROR(INDEX(Fechas!$B$7:$U$198,Simulador!B73,Data!$D$3-1),\"\")","v":""},null,{"$f":"IF($J$5=2,IFERROR(INDEX(Fechas!$B$7:$U$198,Simulador!B73,Data!$D$3),\"\"),IF(B73>$U$5,\"\",E72+Data!$E$3))","v":""},null,"","",null,null,null,null,null,"",null,null,"",null,null,0,null,null,"",null,null,{"$f":"IF(B73=\"\",\"\",IF(Data!$A$1=1,$AH$5,IF(Data!$A$1=2,$AH$5*IF(K73=\"\",1,K73))))","v":""},null,null,"",null,null,""]
[null,"",{"$f":"IFERROR(INDEX(Fechas!$B$7:$U$198,Simulador!B74,Data!$D$3-1),\"\")","v":""},null,{"$f":"IF($J$5=2,IFERROR(INDEX(Fechas!$B$7:$U$198,Simulador!B74,Data!$D$3),\"\"),IF(B74>$U$5,\"\",E73+Data!$E$3))","v":""},null,"","",null,null,null,null,null,"",null,null,"",null,null,0,null,null,"",null,null,{"$f":"IF(B74=\"\",\"\",IF(Data!$A$1=1,$AH$5,IF(Data!$A$1=2,$AH$5*IF(K74=\"\",1,K74))))","v":""},null,null,"",null,null,""]
[null,"",{"$f":"IFERROR(INDEX(Fechas!$B$7:$U$198,Simulador!B75,Data!$D$3-1),\"\")","v":""},null,{"$f":"IF($J$5=2,IFERROR(INDEX(Fechas!$B$7:$U$198,Simulador!B75,Data!$D$3),\"\"),IF(B75>$U$5,\"\",E74+Data!$E$3))","v":""},null,"","",null,null,null,null,null,"",null,null,"",null,null,0,null,null,"",null,null,{"$f":"IF(B75=\"\",\"\",IF(Data!$A$1=1,$AH$5,IF(Data!$A$1=2,$AH$5*IF(K75=\"\",1,K75))))","v":""},null,null,"",null,null,""]
[null,"",{"$f":"IFERROR(INDEX(Fechas!$B$7:$U$198,Simulador!B76,Data!$D$3-1),\"\")","v":""},null,{"$f":"IF($J$5=2,IFERROR(INDEX(Fechas!$B$7:$U$198,Simulador!B76,Data!$D$3),\"\"),IF(B76>$U$5,\"\",E75+Data!$E$3))","v":""},null,"","",null,null,null,null,null,"",null,null,"",null,null,0,null,null,"",null,null,{"$f":"IF(B76=\"\",\"\",IF(Data!$A$1=1,$AH$5,IF(Data!$A$1=2,$AH$5*IF(K76=\"\",1,K76))))","v":""},null,null,"",null,null,""]
[null,"",{"$f":"IFERROR(INDEX(Fechas!$B$7:$U$198,Simulador!B77,Data!$D$3-1),\"\")","v":""},null,{"$f":"IF($J$5=2,IFERROR(INDEX(Fechas!$B$7:$U$198,Simulador!B77,Data!$D$3),\"\"),IF(B77>$U$5,\"\",E76+Data!$E$3))","v":""},null,"","",null,null,null,null,null,"",null,null,"",null,null,0,null,null,"",null,null,{"$f":"IF(B77=\"\",\"\",IF(Data!$A$1=1,$AH$5,IF(Data!$A$1=2,$AH$5*IF(K77=\"\",1,K77))))","v":""},null,null,"",null,null,""]
[null,"",{"$f":"IFERROR(INDEX(Fechas!$B$7:$U$198,Simulador!B78,Data!$D$3-1),\"\")","v":""},null,{"$f":"IF($J$5=2,IFERROR(INDEX(Fechas!$B$7:$U$198,Simulador!B78,Data!$D$3),\"\"),IF(B78>$U$5,\"\",E77+Data!$E$3))","v":""},null,"","",null,null,null,null,null,"",null,null,"",null,null,0,null,null,"",null,null,{"$f":"IF(B78=\"\",\"\",IF(Data!$A$1=1,$AH$5,IF(Data!$A$1=2,$AH$5*IF(K78=\"\",1,K78))))","v":""},null,null,"",null,null,""]
[null,"",{"$f":"IFERROR(INDEX(Fechas!$B$7:$U$198,Simulador!B79,Data!$D$3-1),\"\")","v":""},null,{"$f":"IF($J$5=2,IFERROR(INDEX(Fechas!$B$7:$U$198,Simulador!B79,Data!$D$3),\"\"),IF(B79>$U$5,\"\",E78+Data!$E$3))","v":""},null,"","",null,null,null,null,null,"",null,null,"",null,null,0,null,null,"",null,null,{"$f":"IF(B79=\"\",\"\",IF(Data!$A$1=1,$AH$5,IF(Data!$A$1=2,$AH$5*IF(K79=\"\",1,K79))))","v":""},null,null,"",null,null,""]
[null,"",{"$f":"IFERROR(INDEX(Fechas!$B$7:$U$198,Simulador!B80,Data!$D$3-1),\"\")","v":""},null,{"$f":"IF($J$5=2,IFERROR(INDEX(Fechas!$B$7:$U$198,Simulador!B80,Data!$D$3),\"\"),IF(B80>$U$5,\"\",E79+Data!$E$3))","v":""},null,"","",null,null,null,null,null,"",null,null,"",null,null,0,null,null,"",null,null,{"$f":"IF(B80=\"\",\"\",IF(Data!$A$1=1,$AH$5,IF(Data!$A$1=2,$AH$5*IF(K80=\"\",1,K80))))","v":""},null,null,"",null,null,""]
[null,"",{"$f":"IFERROR(INDEX(Fechas!$B$7:$U$198,Simulador!B81,Data!$D$3-1),\"\")","v":""},null,{"$f":"IF($J$5=2,IFERROR(INDEX(Fechas!$B$7:$U$198,Simulador!B81,Data!$D$3),\"\"),IF(B81>$U$5,\"\",E80+Data!$E$3))","v":""},null,"","",null,null,null,null,null,"",null,null,"",null,null,0,null,null,"",null,null,{"$f":"IF(B81=\"\",\"\",IF(Data!$A$1=1,$AH$5,IF(Data!$A$1=2,$AH$5*IF(K81=\"\",1,K81))))","v":""},null,null,"",null,null,""]
[null,"",{"$f":"IFERROR(INDEX(Fechas!$B$7:$U$198,Simulador!B82,Data!$D$3-1),\"\")","v":""},null,{"$f":"IF($J$5=2,IFERROR(INDEX(Fechas!$B$7:$U$198,Simulador!B82,Data!$D$3),\"\"),IF(B82>$U$5,\"\",E81+Data!$E$3))","v":""},null,"","",null,null,null,null,null,"",null,null,"",null,null,0,null,null,"",null,null,{"$f":"IF(B82=\"\",\"\",IF(Data!$A$1=1,$AH$5,IF(Data!$A$1=2,$AH$5*IF(K82=\"\",1,K82))))","v":""},null,null,"",null,null,""]
[null,"",{"$f":"IFERROR(INDEX(Fechas!$B$7:$U$198,Simulador!B83,Data!$D$3-1),\"\")","v":""},null,{"$f":"IF($J$5=2,IFERROR(INDEX(Fechas!$B$7:$U$198,Simulador!B83,Data!$D$3),\"\"),IF(B83>$U$5,\"\",E82+Data!$E$3))","v":""},null,"","",null,null,null,null,null,"",null,null,"",null,null,0,null,null,"",null,null,{"$f":"IF(B83=\"\",\"\",IF(Data!$A$1=1,$AH$5,IF(Data!$A$1=2,$AH$5*IF(K83=\"\",1,K83))))","v":""},null,null,"",null,null,""]
[null,{"$f":"IF(ROW(B84)-19>$U$5,\"\",ROW(B84)-19)","v":""},{"$f":"IFERROR(INDEX(Fechas!$B$7:$U$198,Simulador!B84,Data!$D$3-1),\"\")","v":""},null,{"$f":"IF($J$5=2,IFERROR(INDEX(Fechas!$B$7:$U$198,Simulador!B84,Data!$D$3),\"\"),IF(B84>$U$5,\"\",E83+Data!$E$3))","v":""},null,{"$f":"IF(B84=\"\",\"\",E84-E83)","v":""},{"$f":"IF(B84=\"\",\"\",H83-N84)","v":""},null,null,null,null,null,{"$f":"IF(B84=\"\",\"\",Z84-SUM(Q84:Y84))","v":""},null,null,{"$f":"IF(B84=\"\",\"\",IF(B83<=$U$5-1,H83*(((1+$N$9)^(G84/360))-1),1/0))","v":""},null,null,0,null,null,{"$f":"IF(B84=\"\",\"\",$E$10)","v":""},null,null,{"$f":"IF(B84=\"\",\"\",IF(Data!$A$1=1,$AH$5,IF(Data!$A$1=2,$AH$5*IF(K84=\"\",1,K84))))","v":""},null,null,{"$f":"IF(B84=\"\",\"\",Z84*$E$11)","v":""},null,null,{"$f":"IF(B84=\"\",\"\",Z84+AC84)","v":""}]
[null,"",{"$f":"IFERROR(INDEX(Fechas!$B$7:$U$198,Simulador!B85,Data!$D$3-1),\"\")","v":""},null,{"$f":"IF($J$5=2,IFERROR(INDEX(Fechas!$B$7:$U$198,Simulador!B85,Data!$D$3),\"\"),IF(B85>$U$5,\"\",E84+Data!$E$3))","v":""},null,"","",null,null,null,null,null,"",null,null,"",null,null,0,null,null,"",null,null,{"$f":"IF(B85=\"\",\"\",IF(Data!$A$1=1,$AH$5,IF(Data!$A$1=2,$AH$5*IF(K85=\"\",1,K85))))","v":""},null,null,"",null,null,""]
[null,"",{"$f":"IFERROR(INDEX(Fechas!$B$7:$U$198,Simulador!B86,Data!$D$3-1),\"\")","v":""},null,{"$f":"IF($J$5=2,IFERROR(INDEX(Fechas!$B$7:$U$198,Simulador!B86,Data!$D$3),\"\"),IF(B86>$U$5,\"\",E85+Data!$E$3))","v":""},null,"","",null,null,null,null,null,"",null,null,"",null,null,{"$f":"IF($E$9=0,0,IF(AND(B86<>\"\",C86<>0),IF($E$9*H85<1,1,$E$9*H85),\"\"))","v":0},null,null,"",null,null,{"$f":"IF(B86=\"\",\"\",IF(Data!$A$1=1,$AH$5,IF(Data!$A$1=2,$AH$5*IF(K86=\"\",1,K86))))","v":""},null,null,"",null,null,""]
[null,"",{"$f":"IFERROR(INDEX(Fechas!$B$7:$U$198,Simulador!B87,Data!$D$3-1),\"\")","v":""},null,{"$f":"IF($J$5=2,IFERROR(INDEX(Fechas!$B$7:$U$198,Simulador!B87,Data!$D$3),\"\"),IF(B87>$U$5,\"\",E86+Data!$E$3))","v":""},null,"","",null,null,null,null,null,"",null,null,"",null,null,0,null,null,"",null,null,{"$f":"IF(B87=\"\",\"\",IF(Data!$A$1=1,$AH$5,IF(Data!$A$1=2,$AH$5*IF(K87=\"\",1,K87))))","v":""},null,null,"",null,null,""]
[null,"",{"$f":"IFERROR(INDEX(Fechas!$B$7:$U$198,Simulador!B88,Data!$D$3-1),\"\")","v":""},null,{"$f":"IF($J$5=2,IFERROR(INDEX(Fechas!$B$7:$U$198,Simulador!B88,Data!$D$3),\"\"),IF(B88>$U$5,\"\",E87+Data!$E$3))","v":""},null,"","",null,null,null,null,null,"",null,null,"",null,null,0,null,null,"",null,null,{"$f":"IF(B88=\"\",\"\",IF(Data!$A$1=1,$AH$5,IF(Data!$A$1=2,$AH$5*IF(K88=\"\",1,K88))))","v":""},null,null,"",null,null,""]
[null,"",{"$f":"IFERROR(INDEX(Fechas!$B$7:$U$198,Simulador!B89,Data!$D$3-1),\"\")","v":""},null,{"$f":"IF($J$5=2,IFERROR(INDEX(Fechas!$B$7:$U$198,Simulador!B89,Data!$D$3),\"\"),IF(B89>$U$5,\"\",E88+Data!$E$3))","v":""},null,"","",null,null,null,null,null,"",null,null,"",null,null,0,null,null,"",null,null,{"$f":"IF(B89=\"\",\"\",IF(Data!$A$1=1,$AH$5,IF(Data!$A$1=2,$AH$5*IF(K89=\"\",1,K89))))","v":""},null,null,"",null,null,""]
[null,"",{"$f":"IFERROR(INDEX(Fechas!$B$7:$U$198,Simulador!B90,Data!$D$3-1),\"\")","v":""},null,{"$f":"IF($J$5=2,IFERROR(INDEX(Fechas!$B$7:$U$198,Simulador!B90,Data!$D$3),\"\"),IF(B90>$U$5,\"\",E89+Data!$E$3))","v":""},null,"","",null,null,null,null,null,"",null,null,"",null,null,0,null,null,"",null,null,{"$f":"IF(B90=\"\",\"\",IF(Data!$A$1=1,$AH$5,IF(Data!$A$1=2,$AH$5*IF(K90=\"\",1,K90))))","v":""},null,null,"",null,null,""]
[null,"",{"$f":"IFERROR(INDEX(Fechas!$B$7:$U$198,Simulador!B91,Data!$D$3-1),\"\")","v":""},null,{"$f":"IF($J$5=2,IFERROR(INDEX(Fechas!$B$7:$U$198,Simulador!B91,Data!$D$3),\"\"),IF(B91>$U$5,\"\",E90+Data!$E$3))","v":""},null,"","",null,null,null,null,null,"",null,null,"",null,null,0,null,null,"",null,null,{"$f":"IF(B91=\"\",\"\",IF(Data!$A$1=1,$AH$5,IF(Data!$A$1=2,$AH$5*IF(K91=\"\",1,K91))))","v":""},null,null,"",null,null,""]
[null,"",{"$f":"IFERROR(INDEX(Fechas!$B$7:$U$198,Simulador!B92,Data!$D$3-1),\"\")","v":""},null,{"$f":"IF($J$5=2,IFERROR(INDEX(Fechas!$B$7:$U$198,Simulador!B92,Data!$D$3),\"\"),IF(B92>$U$5,\"\",E91+Data!$E$3))","v":""},null,"","",null,null,null,null,null,"",null,null,"",null,null,0,null,null,"",null,null,{"$f":"IF(B92=\"\",\"\",IF(Data!$A$1=1,$AH$5,IF(Data!$A$1=2,$AH$5*IF(K92=\"\",1,K92))))","v":""},null,null,"",null,null,""]
[null,"",{"$f":"IFERROR(INDEX(Fechas!$B$7:$U$198,Simulador!B93,Data!$D$3-1),\"\")","v":""},null,{"$f":"IF($J$5=2,IFERROR(INDEX(Fechas!$B$7:$U$198,Simulador!B93,Data!$D$3),\"\"),IF(B93>$U$5,\"\",E92+Data!$E$3))","v":""},null,"","",null,null,null,null,null,"",null,null,"",null,null,0,null,null,"",null,null,{"$f":"IF(B93=\"\",\"\",IF(Data!$A$1=1,$AH$5,IF(Data!$A$1=2,$AH$5*IF(K93=\"\",1,K93))))","v":""},null,null,"",null,null,""]
[null,"",{"$f":"IFERROR(INDEX(Fechas!$B$7:$U$198,Simulador!B94,Data!$D$3-1),\"\")","v":""},null,{"$f":"IF($J$5=2,IFERROR(INDEX(Fechas!$B$7:$U$198,Simulador!B94,Data!$D$3),\"\"),IF(B94>$U$5,\"\",E93+Data!$E$3))","v":""},null,"","",null,null,null,null,null,"",null,null,"",null,null,0,null,null,"",null,null,{"$f":"IF(B94=\"\",\"\",IF(Data!$A$1=1,$AH$5,IF(Data!$A$1=2,$AH$5*IF(K94=\"\",1,K94))))","v":""},null,null,"",null,null,""]
[null,"",{"$f":"IFERROR(INDEX(Fechas!$B$7:$U$198,Simulador!B95,Data!$D$3-1),\"\")","v":""},null,{"$f":"IF($J$5=2,IFERROR(INDEX(Fechas!$B$7:$U$198,Simulador!B95,Data!$D$3),\"\"),IF(B95>$U$5,\"\",E94+Data!$E$3))","v":""},null,"","",null,null,null,null,null,"",null,null,"",null,null,0,null,null,"",null,null,{"$f":"IF(B95=\"\",\"\",IF(Data!$A$1=1,$AH$5,IF(Data!$A$1=2,$AH$5*IF(K95=\"\",1,K95))))","v":""},null,null,"",null,null,""]
[null,"",{"$f":"IFERROR(INDEX(Fechas!$B$7:$U$198,Simulador!B96,Data!$D$3-1),\"\")","v":""},null,{"$f":"IF($J$5=2,IFERROR(INDEX(Fechas!$B$7:$U$198,Simulador!B96,Data!$D$3),\"\"),IF(B96>$U$5,\"\",E95+Data!$E$3))","v":""},null,"","",null,null,null,null,null,"",null,null,"",null,null,0,null,null,"",null,null,{"$f":"IF(B96=\"\",\"\",IF(Data!$A$1=1,$AH$5,IF(Data!$A$1=2,$AH$5*IF(K96=\"\",1,K96))))","v":""},null,null,"",null,null,""]
[null,"",{"$f":"IFERROR(INDEX(Fechas!$B$7:$U$198,Simulador!B97,Data!$D$3-1),\"\")","v":""},null,{"$f":"IF($J$5=2,IFERROR(INDEX(Fechas!$B$7:$U$198,Simulador!B97,Data!$D$3),\"\"),IF(B97>$U$5,\"\",E96+Data!$E$3))","v":""},null,"","",null,null,null,null,null,"",null,null,"",null,null,0,null,null,"",null,null,{"$f":"IF(B97=\"\",\"\",IF(Data!$A$1=1,$AH$5,IF(Data!$A$1=2,$AH$5*IF(K97=\"\",1,K97))))","v":""},null,null,"",null,null,""]
[null,"",{"$f":"IFERROR(INDEX(Fechas!$B$7:$U$198,Simulador!B98,Data!$D$3-1),\"\")","v":""},null,{"$f":"IF($J$5=2,IFERROR(INDEX(Fechas!$B$7:$U$198,Simulador!B98,Data!$D$3),\"\"),IF(B98>$U$5,\"\",E97+Data!$E$3))","v":""},null,"","",null,null,null,null,null,"",null,null,"",null,null,0,null,null,"",null,null,{"$f":"IF(B98=\"\",\"\",IF(Data!$A$1=1,$AH$5,IF(Data!$A$1=2,$AH$5*IF(K98=\"\",1,K98))))","v":""},null,null,"",null,null,""]
[null,"",{"$f":"IFERROR(INDEX(Fechas!$B$7:$U$198,Simulador!B99,Data!$D$3-1),\"\")","v":""},null,{"$f":"IF($J$5=2,IFERROR(INDEX(Fechas!$B$7:$U$198,Simulador!B99,Data!$D$3),\"\"),IF(B99>$U$5,\"\",E98+Data!$E$3))","v":""},null,"","",null,null,null,null,null,"",null,null,"",null,null,0,null,null,"",null,null,{"$f":"IF(B99=\"\",\"\",IF(Data!$A$1=1,$AH$5,IF(Data!$A$1=2,$AH$5*IF(K99=\"\",1,K99))))","v":""},null,null,"",null,null,""]
[null,"",{"$f":"IFERROR(INDEX(Fechas!$B$7:$U$198,Simulador!B100,Data!$D$3-1),\"\")","v":""},null,{"$f":"IF($J$5=2,IFERROR(INDEX(Fechas!$B$7:$U$198,Simulador!B100,Data!$D$3),\"\"),IF(B100>$U$5,\"\",E99+Data!$E$3))","v":""},null,"","",null,null,null,null,null,"",null,null,"",null,null,0,null,null,"",null,null,{"$f":"IF(B100=\"\",\"\",IF(Data!$A$1=1,$AH$5,IF(Data!$A$1=2,$AH$5*IF(K100=\"\",1,K100))))","v":""},null,null,"",null,null,""]
[null,"",{"$f":"IFERROR(INDEX(Fechas!$B$7:$U$198,Simulador!B101,Data!$D$3-1),\"\")","v":""},null,{"$f":"IF($J$5=2,IFERROR(INDEX(Fechas!$B$7:$U$198,Simulador!B101,Data!$D$3),\"\"),IF(B101>$U$5,\"\",E100+Data!$E$3))","v":""},null,"","",null,null,null,null,null,"",null,null,"",null,null,0,null,null,"",null,null,{"$f":"IF(B101=\"\",\"\",IF(Data!$A$1=1,$AH$5,IF(Data!$A$1=2,$AH$5*IF(K101=\"\",1,K101))))","v":""},null,null,"",null,null,""]
[null,"",{"$f":"IFERROR(INDEX(Fechas!$B$7:$U$198,Simulador!B102,Data!$D$3-1),\"\")","v":""},null,{"$f":"IF($J$5=2,IFERROR(INDEX(Fechas!$B$7:$U$198,Simulador!B102,Data!$D$3),\"\"),IF(B102>$U$5,\"\",E101+Data!$E$3))","v":""},null,"","",null,null,null,null,null,"",null,null,"",null,null,0,null,null,"",null,null,{"$f":"IF(B102=\"\",\"\",IF(Data!$A$1=1,$AH$5,IF(Data!$A$1=2,$AH$5*IF(K102=\"\",1,K102))))","v":""},null,null,"",null,null,""]
[null,"",{"$f":"IFERROR(INDEX(Fechas!$B$7:$U$198,Simulador!B103,Data!$D$3-1),\"\")","v":""},null,{"$f":"IF($J$5=2,IFERROR(INDEX(Fechas!$B$7:$U$198,Simulador!B103,Data!$D$3),\"\"),IF(B103>$U$5,\"\",E102+Data!$E$3))","v":""},null,"","",null,null,null,null,null,"",null,null,"",null,null,0,null,null,"",null,null,{"$f":"IF(B103=\"\",\"\",IF(Data!$A$1=1,$AH$5,IF(Data!$A$1=2,$AH$5*IF(K103=\"\",1,K103))))","v":""},null,null,"",null,null,""]
[null,"",{"$f":"IFERROR(INDEX(Fechas!$B$7:$U$198,Simulador!B104,Data!$D$3-1),\"\")","v":""},null,{"$f":"IF($J$5=2,IFERROR(INDEX(Fechas!$B$7:$U$198,Simulador!B104,Data!$D$3),\"\"),IF(B104>$U$5,\"\",E103+Data!$E$3))","v":""},null,"","",null,null,null,null,null,"",null,null,"",null,null,0,null,null,"",null,null,{"$f":"IF(B104=\"\",\"\",IF(Data!$A$1=1,$AH$5,IF(Data!$A$1=2,$AH$5*IF(K104=\"\",1,K104))))","v":""},null,null,"",null,null,""]
[null,"",{"$f":"IFERROR(INDEX(Fechas!$B$7:$U$198,Simulador!B105,Data!$D$3-1),\"\")","v":""},null,{"$f":"IF($J$5=2,IFERROR(INDEX(Fechas!$B$7:$U$198,Simulador!B105,Data!$D$3),\"\"),IF(B105>$U$5,\"\",E104+Data!$E$3))","v":""},null,"","",null,null,null,null,null,"",null,null,"",null,null,0,null,null,"",null,null,{"$f":"IF(B105=\"\",\"\",IF(Data!$A$1=1,$AH$5,IF(Data!$A$1=2,$AH$5*IF(K105=\"\",1,K105))))","v":""},null,null,"",null,null,""]
[null,"",{"$f":"IFERROR(INDEX(Fechas!$B$7:$U$198,Simulador!B106,Data!$D$3-1),\"\")","v":""},null,{"$f":"IF($J$5=2,IFERROR(INDEX(Fechas!$B$7:$U$198,Simulador!B106,Data!$D$3),\"\"),IF(B106>$U$5,\"\",E105+Data!$E$3))","v":""},null,"","",null,null,null,null,null,"",null,null,"",null,null,0,null,null,"",null,null,{"$f":"IF(B106=\"\",\"\",IF(Data!$A$1=1,$AH$5,IF(Data!$A$1=2,$AH$5*IF(K106=\"\",1,K106))))","v":""},null,null,"",null,null,""]
[null,"",{"$f":"IFERROR(INDEX(Fechas!$B$7:$U$198,Simulador!B107,Data!$D$3-1),\"\")","v":""},null,{"$f":"IF($J$5=2,IFERROR(INDEX(Fechas!$B$7:$U$198,Simulador!B107,Data!$D$3),\"\"),IF(B107>$U$5,\"\",E106+Data!$E$3))","v":""},null,"","",null,null,null,null,null,"",null,null,"",null,null,0,null,null,"",null,null,{"$f":"IF(B107=\"\",\"\",IF(Data!$A$1=1,$AH$5,IF(Data!$A$1=2,$AH$5*IF(K107=\"\",1,K107))))","v":""},null,null,"",null,null,""]
[null,"",{"$f":"IFERROR(INDEX(Fechas!$B$7:$U$198,Simulador!B108,Data!$D$3-1),\"\")","v":""},null,{"$f":"IF($J$5=2,IFERROR(INDEX(Fechas!$B$7:$U$198,Simulador!B108,Data!$D$3),\"\"),IF(B108>$U$5,\"\",E107+Data!$E$3))","v":""},null,"","",null,null,null,null,null,"",null,null,"",null,null,0,null,null,"",null,null,{"$f":"IF(B108=\"\",\"\",IF(Data!$A$1=1,$AH$5,IF(Data!$A$1=2,$AH$5*IF(K108=\"\",1,K108))))","v":""},null,null,"",null,null,""]
[null,"",{"$f":"IFERROR(INDEX(Fechas!$B$7:$U$198,Simulador!B109,Data!$D$3-1),\"\")","v":""},null,{"$f":"IF($J$5=2,IFERROR(INDEX(Fechas!$B$7:$U$198,Simulador!B109,Data!$D$3),\"\"),IF(B109>$U$5,\"\",E108+Data!$E$3))","v":""},null,"","",null,null,null,null,null,"",null,null,"",null,null,0,null,null,"",null,null,{"$f":"IF(B109=\"\",\"\",IF(Data!$A$1=1,$AH$5,IF(Data!$A$1=2,$AH$5*IF(K109=\"\",1,K109))))","v":""},null,null,"",null,null,""]
[null,"",{"$f":"IFERROR(INDEX(Fechas!$B$7:$U$198,Simulador!B110,Data!$D$3-1),\"\")","v":""},null,{"$f":"IF($J$5=2,IFERROR(INDEX(Fechas!$B$7:$U$198,Simulador!B110,Data!$D$3),\"\"),IF(B110>$U$5,\"\",E109+Data!$E$3))","v":""},null,"","",null,null,null,null,null,"",null,null,"",null,null,0,null,null,"",null,null,{"$f":"IF(B110=\"\",\"\",IF(Data!$A$1=1,$AH$5,IF(Data!$A$1=2,$AH$5*IF(K110=\"\",1,K110))))","v":""},null,null,"",null,null,""]
[null,"",{"$f":"IFERROR(INDEX(Fechas!$B$7:$U$198,Simulador!B111,Data!$D$3-1),\"\")","v":""},null,{"$f":"IF($J$5=2,IFERROR(INDEX(Fechas!$B$7:$U$198,Simulador!B111,Data!$D$3),\"\"),IF(B111>$U$5,\"\",E110+Data!$E$3))","v":""},null,"","",null,null,null,null,null,"",null,null,"",null,null,0,null,null,"",null,null,{"$f":"IF(B111=\"\",\"\",IF(Data!$A$1=1,$AH$5,IF(Data!$A$1=2,$AH$5*IF(K111=\"\",1,K111))))","v":""},null,null,"",null,null,""]
[null,"",{"$f":"IFERROR(INDEX(Fechas!$B$7:$U$198,Simulador!B112,Data!$D$3-1),\"\")","v":""},null,{"$f":"IF($J$5=2,IFERROR(INDEX(Fechas!$B$7:$U$198,Simulador!B112,Data!$D$3),\"\"),IF(B112>$U$5,\"\",E111+Data!$E$3))","v":""},null,"","",null,null,null,null,null,"",null,null,"",null,null,0,null,null,"",null,null,{"$f":"IF(B112=\"\",\"\",IF(Data!$A$1=1,$AH$5,IF(Data!$A$1=2,$AH$5*IF(K112=\"\",1,K112))))","v":""},null,null,"",null,null,""]
[null,"",{"$f":"IFERROR(INDEX(Fechas!$B$7:$U$198,Simulador!B113,Data!$D$3-1),\"\")","v":""},null,{"$f":"IF($J$5=2,IFERROR(INDEX(Fechas!$B$7:$U$198,Simulador!B113,Data!$D$3),\"\"),IF(B113>$U$5,\"\",E112+Data!$E$3))","v":""},null,"","",null,null,null,null,null,"",null,null,"",null,null,0,null,null,"",null,null,{"$f":"IF(B113=\"\",\"\",IF(Data!$A$1=1,$AH$5,IF(Data!$A$1=2,$AH$5*IF(K113=\"\",1,K113))))","v":""},null,null,"",null,null,""]
[null,"",{"$f":"IFERROR(INDEX(Fechas!$B$7:$U$198,Simulador!B114,Data!$D$3-1),\"\")","v":""},null,{"$f":"IF($J$5=2,IFERROR(INDEX(Fechas!$B$7:$U$198,Simulador!B114,Data!$D$3),\"\"),IF(B114>$U$5,\"\",E113+Data!$E$3))","v":""},null,"","",null,null,null,null,null,"",null,null,"",null,null,0,null,null,"",null,null,{"$f":"IF(B114=\"\",\"\",IF(Data!$A$1=1,$AH$5,IF(Data!$A$1=2,$AH$5*IF(K114=\"\",1,K114))))","v":""},null,null,"",null,null,""]
[null,"",{"$f":"IFERROR(INDEX(Fechas!$B$7:$U$198,Simulador!B115,Data!$D$3-1),\"\")","v":""},null,{"$f":"IF($J$5=2,IFERROR(INDEX(Fechas!$B$7:$U$198,Simulador!B115,Data!$D$3),\"\"),IF(B115>$U$5,\"\",E114+Data!$E$3))","v":""},null,"","",null,null,null,null,null,"",null,null,"",null,null,0,null,null,"",null,null,{"$f":"IF(B115=\"\",\"\",IF(Data!$A$1=1,$AH$5,IF(Data!$A$1=2,$AH$5*IF(K115=\"\",1,K115))))","v":""},null,null,"",null,null,""]
[null,"",{"$f":"IFERROR(INDEX(Fechas!$B$7:$U$198,Simulador!B116,Data!$D$3-1),\"\")","v":""},null,{"$f":"IF($J$5=2,IFERROR(INDEX(Fechas!$B$7:$U$198,Simulador!B116,Data!$D$3),\"\"),IF(B116>$U$5,\"\",E115+Data!$E$3))","v":""},null,"","",null,null,null,null,null,"",null,null,"",null,null,0,null,null,"",null,null,{"$f":"IF(B116=\"\",\"\",IF(Data!$A$1=1,$AH$5,IF(Data!$A$1=2,$AH$5*IF(K116=\"\",1,K116))))","v":""},null,null,"",null,null,""]
[null,"",{"$f":"IFERROR(INDEX(Fechas!$B$7:$U$198,Simulador!B117,Data!$D$3-1),\"\")","v":""},null,{"$f":"IF($J$5=2,IFERROR(INDEX(Fechas!$B$7:$U$198,Simulador!B117,Data!$D$3),\"\"),IF(B117>$U$5,\"\",E116+Data!$E$3))","v":""},null,"","",null,null,null,null,null,"",null,null,"",null,null,0,null,null,"",null,null,{"$f":"IF(B117=\"\",\"\",IF(Data!$A$1=1,$AH$5,IF(Data!$A$1=2,$AH$5*IF(K117=\"\",1,K117))))","v":""},null,null,"",null,null,""]
[null,"",{"$f":"IFERROR(INDEX(Fechas!$B$7:$U$198,Simulador!B118,Data!$D$3-1),\"\")","v":""},null,{"$f":"IF($J$5=2,IFERROR(INDEX(Fechas!$B$7:$U$198,Simulador!B118,Data!$D$3),\"\"),IF(B118>$U$5,\"\",E117+Data!$E$3))","v":""},null,"","",null,null,null,null,null,"",null,null,"",null,null,0,null,null,"",null,null,{"$f":"IF(B118=\"\",\"\",IF(Data!$A$1=1,$AH$5,IF(Data!$A$1=2,$AH$5*IF(K118=\"\",1,K118))))","v":""},null,null,"",null,null,""]
[null,"",{"$f":"IFERROR(INDEX(Fechas!$B$7:$U$198,Simulador!B119,Data!$D$3-1),\"\")","v":""},null,{"$f":"IF($J$5=2,IFERROR(INDEX(Fechas!$B$7:$U$198,Simulador!B119,Data!$D$3),\"\"),IF(B119>$U$5,\"\",E118+Data!$E$3))","v":""},null,"","",null,null,null,null,null,"",null,null,"",null,null,0,null,null,"",null,null,{"$f":"IF(B119=\"\",\"\",IF(Data!$A$1=1,$AH$5,IF(Data!$A$1=2,$AH$5*IF(K119=\"\",1,K119))))","v":""},null,null,"",null,null,""]
[null,"",{"$f":"IFERROR(INDEX(Fechas!$B$7:$U$198,Simulador!B120,Data!$D$3-1),\"\")","v":""},null,{"$f":"IF($J$5=2,IFERROR(INDEX(Fechas!$B$7:$U$198,Simulador!B120,Data!$D$3),\"\"),IF(B120>$U$5,\"\",E119+Data!$E$3))","v":""},null,"","",null,null,null,null,null,"",null,null,"",null,null,0,null,null,"",null,null,{"$f":"IF(B120=\"\",\"\",IF(Data!$A$1=1,$AH$5,IF(Data!$A$1=2,$AH$5*IF(K120=\"\",1,K120))))","v":""},null,null,"",null,null,""]
[null,"",{"$f":"IFERROR(INDEX(Fechas!$B$7:$U$198,Simulador!B121,Data!$D$3-1),\"\")","v":""},null,{"$f":"IF($J$5=2,IFERROR(INDEX(Fechas!$B$7:$U$198,Simulador!B121,Data!$D$3),\"\"),IF(B121>$U$5,\"\",E120+Data!$E$3))","v":""},null,"","",null,null,null,null,null,"",null,null,"",null,null,0,null,null,"",null,null,{"$f":"IF(B121=\"\",\"\",IF(Data!$A$1=1,$AH$5,IF(Data!$A$1=2,$AH$5*IF(K121=\"\",1,K121))))","v":""},null,null,"",null,null,""]
[null,"",{"$f":"IFERROR(INDEX(Fechas!$B$7:$U$198,Simulador!B122,Data!$D$3-1),\"\")","v":""},null,{"$f":"IF($J$5=2,IFERROR(INDEX(Fechas!$B$7:$U$198,Simulador!B122,Data!$D$3),\"\"),IF(B122>$U$5,\"\",E121+Data!$E$3))","v":""},null,"","",null,null,null,null,null,"",null,null,"",null,null,0,null,null,"",null,null,{"$f":"IF(B122=\"\",\"\",IF(Data!$A$1=1,$AH$5,IF(Data!$A$1=2,$AH$5*IF(K122=\"\",1,K122))))","v":""},null,null,"",null,null,""]
[null,"",{"$f":"IFERROR(INDEX(Fechas!$B$7:$U$198,Simulador!B123,Data!$D$3-1),\"\")","v":""},null,{"$f":"IF($J$5=2,IFERROR(INDEX(Fechas!$B$7:$U$198,Simulador!B123,Data!$D$3),\"\"),IF(B123>$U$5,\"\",E122+Data!$E$3))","v":""},null,"","",null,null,null,null,null,"",null,null,"",null,null,0,null,null,"",null,null,{"$f":"IF(B123=\"\",\"\",IF(Data!$A$1=1,$AH$5,IF(Data!$A$1=2,$AH$5*IF(K123=\"\",1,K123))))","v":""},null,null,"",null,null,""]
[null,"",{"$f":"IFERROR(INDEX(Fechas!$B$7:$U$198,Simulador!B124,Data!$D$3-1),\"\")","v":""},null,{"$f":"IF($J$5=2,IFERROR(INDEX(Fechas!$B$7:$U$198,Simulador!B124,Data!$D$3),\"\"),IF(B124>$U$5,\"\",E123+Data!$E$3))","v":""},null,"","",null,null,null,null,null,"",null,null,"",null,null,0,null,null,"",null,null,{"$f":"IF(B124=\"\",\"\",IF(Data!$A$1=1,$AH$5,IF(Data!$A$1=2,$AH$5*IF(K124=\"\",1,K124))))","v":""},null,null,"",null,null,""]
[null,"",{"$f":"IFERROR(INDEX(Fechas!$B$7:$U$198,Simulador!B125,Data!$D$3-1),\"\")","v":""},null,{"$f":"IF($J$5=2,IFERROR(INDEX(Fechas!$B$7:$U$198,Simulador!B125,Data!$D$3),\"\"),IF(B125>$U$5,\"\",E124+Data!$E$3))","v":""},null,"","",null,null,null,null,null,"",null,null,"",null,null,0,null,null,"",null,null,{"$f":"IF(B125=\"\",\"\",IF(Data!$A$1=1,$AH$5,IF(Data!$A$1=2,$AH$5*IF(K125=\"\",1,K125))))","v":""},null,null,"",null,null,""]
[null,"",{"$f":"IFERROR(INDEX(Fechas!$B$7:$U$198,Simulador!B126,Data!$D$3-1),\"\")","v":""},null,{"$f":"IF($J$5=2,IFERROR(INDEX(Fechas!$B$7:$U$198,Simulador!B126,Data!$D$3),\"\"),IF(B126>$U$5,\"\",E125+Data!$E$3))","v":""},null,"","",null,null,null,null,null,"",null,null,"",null,null,0,null,null,"",null,null,{"$f":"IF(B126=\"\",\"\",IF(Data!$A$1=1,$AH$5,IF(Data!$A$1=2,$AH$5*IF(K126=\"\",1,K126))))","v":""},null,null,"",null,null,""]
[null,"",{"$f":"IFERROR(INDEX(Fechas!$B$7:$U$198,Simulador!B127,Data!$D$3-1),\"\")","v":""},null,{"$f":"IF($J$5=2,IFERROR(INDEX(Fechas!$B$7:$U$198,Simulador!B127,Data!$D$3),\"\"),IF(B127>$U$5,\"\",E126+Data!$E$3))","v":""},null,"","",null,null,null,null,null,"",null,null,"",null,null,0,null,null,"",null,null,{"$f":"IF(B127=\"\",\"\",IF(Data!$A$1=1,$AH$5,IF(Data!$A$1=2,$AH$5*IF(K127=\"\",1,K127))))","v":""},null,null,"",null,null,""]
[null,"",{"$f":"IFERROR(INDEX(Fechas!$B$7:$U$198,Simulador!B128,Data!$D$3-1),\"\")","v":""},null,{"$f":"IF($J$5=2,IFERROR(INDEX(Fechas!$B$7:$U$198,Simulador!B128,Data!$D$3),\"\"),IF(B128>$U$5,\"\",E127+Data!$E$3))","v":""},null,"","",null,null,null,null,null,"",null,null,"",null,null,0,null,null,"",null,null,{"$f":"IF(B128=\"\",\"\",IF(Data!$A$1=1,$AH$5,IF(Data!$A$1=2,$AH$5*IF(K128=\"\",1,K128))))","v":""},null,null,"",null,null,""]
[null,"",{"$f":"IFERROR(INDEX(Fechas!$B$7:$U$198,Simulador!B129,Data!$D$3-1),\"\")","v":""},null,{"$f":"IF($J$5=2,IFERROR(INDEX(Fechas!$B$7:$U$198,Simulador!B129,Data!$D$3),\"\"),IF(B129>$U$5,\"\",E128+Data!$E$3))","v":""},null,"","",null,null,null,null,null,"",null,null,"",null,null,0,null,null,"",null,null,{"$f":"IF(B129=\"\",\"\",IF(Data!$A$1=1,$AH$5,IF(Data!$A$1=2,$AH$5*IF(K129=\"\",1,K129))))","v":""},null,null,"",null,null,""]
[null,"",{"$f":"IFERROR(INDEX(Fechas!$B$7:$U$198,Simulador!B130,Data!$D$3-1),\"\")","v":""},null,{"$f":"IF($J$5=2,IFERROR(INDEX(Fechas!$B$7:$U$198,Simulador!B130,Data!$D$3),\"\"),IF(B130>$U$5,\"\",E129+Data!$E$3))","v":""},null,"","",null,null,null,null,null,"",null,null,"",null,null,0,null,null,"",null,null,{"$f":"IF(B130=\"\",\"\",IF(Data!$A$1=1,$AH$5,IF(Data!$A$1=2,$AH$5*IF(K130=\"\",1,K130))))","v":""},null,null,"",null,null,""]
[null,"",{"$f":"IFERROR(INDEX(Fechas!$B$7:$U$198,Simulador!B131,Data!$D$3-1),\"\")","v":""},null,{"$f":"IF($J$5=2,IFERROR(INDEX(Fechas!$B$7:$U$198,Simulador!B131,Data!$D$3),\"\"),IF(B131>$U$5,\"\",E130+Data!$E$3))","v":""},null,"","",null,null,null,null,null,"",null,null,"",null,null,0,null,null,"",null,null,{"$f":"IF(B131=\"\",\"\",IF(Data!$A$1=1,$AH$5,IF(Data!$A$1=2,$AH$5*IF(K131=\"\",1,K131))))","v":""},null,null,"",null,null,""]
[null,"",{"$f":"IFERROR(INDEX(Fechas!$B$7:$U$198,Simulador!B132,Data!$D$3-1),\"\")","v":""},null,{"$f":"IF($J$5=2,IFERROR(INDEX(Fechas!$B$7:$U$198,Simulador!B132,Data!$D$3),\"\"),IF(B132>$U$5,\"\",E131+Data!$E$3))","v":""},null,"","",null,null,null,null,null,"",null,null,"",null,null,0,null,null,"",null,null,{"$f":"IF(B132=\"\",\"\",IF(Data!$A$1=1,$AH$5,IF(Data!$A$1=2,$AH$5*IF(K132=\"\",1,K132))))","v":""},null,null,"",null,null,""]
[null,"",{"$f":"IFERROR(INDEX(Fechas!$B$7:$U$198,Simulador!B133,Data!$D$3-1),\"\")","v":""},null,{"$f":"IF($J$5=2,IFERROR(INDEX(Fechas!$B$7:$U$198,Simulador!B133,Data!$D$3),\"\"),IF(B133>$U$5,\"\",E132+Data!$E$3))","v":""},null,"","",null,null,null,null,null,"",null,null,"",null,null,0,null,null,"",null,null,{"$f":"IF(B133=\"\",\"\",IF(Data!$A$1=1,$AH$5,IF(Data!$A$1=2,$AH$5*IF(K133=\"\",1,K133))))","v":""},null,null,"",null,null,""]
[null,"",{"$f":"IFERROR(INDEX(Fechas!$B$7:$U$198,Simulador!B134,Data!$D$3-1),\"\")","v":""},null,{"$f":"IF($J$5=2,IFERROR(INDEX(Fechas!$B$7:$U$198,Simulador!B134,Data!$D$3),\"\"),IF(B134>$U$5,\"\",E133+Data!$E$3))","v":""},null,"","",null,null,null,null,null,"",null,null,"",null,null,0,null,null,"",null,null,{"$f":"IF(B134=\"\",\"\",IF(Data!$A$1=1,$AH$5,IF(Data!$A$1=2,$AH$5*IF(K134=\"\",1,K134))))","v":""},null,null,"",null,null,""]
[null,"",{"$f":"IFERROR(INDEX(Fechas!$B$7:$U$198,Simulador!B135,Data!$D$3-1),\"\")","v":""},null,{"$f":"IF($J$5=2,IFERROR(INDEX(Fechas!$B$7:$U$198,Simulador!B135,Data!$D$3),\"\"),IF(B135>$U$5,\"\",E134+Data!$E$3))","v":""},null,"","",null,null,null,null,null,"",null,null,"",null,null,0,null,null,"",null,null,{"$f":"IF(B135=\"\",\"\",IF(Data!$A$1=1,$AH$5,IF(Data!$A$1=2,$AH$5*IF(K135=\"\",1,K135))))","v":""},null,null,"",null,null,""]
[null,"",{"$f":"IFERROR(INDEX(Fechas!$B$7:$U$198,Simulador!B136,Data!$D$3-1),\"\")","v":""},null,{"$f":"IF($J$5=2,IFERROR(INDEX(Fechas!$B$7:$U$198,Simulador!B136,Data!$D$3),\"\"),IF(B136>$U$5,\"\",E135+Data!$E$3))","v":""},null,"","",null,null,null,null,null,"",null,null,"",null,null,0,null,null,"",null,null,{"$f":"IF(B136=\"\",\"\",IF(Data!$A$1=1,$AH$5,IF(Data!$A$1=2,$AH$5*IF(K136=\"\",1,K136))))","v":""},null,null,"",null,null,""]
[null,"",{"$f":"IFERROR(INDEX(Fechas!$B$7:$U$198,Simulador!B137,Data!$D$3-1),\"\")","v":""},null,{"$f":"IF($J$5=2,IFERROR(INDEX(Fechas!$B$7:$U$198,Simulador!B137,Data!$D$3),\"\"),IF(B137>$U$5,\"\",E136+Data!$E$3))","v":""},null,"","",null,null,null,null,null,"",null,null,"",null,null,0,null,null,"",null,null,{"$f":"IF(B137=\"\",\"\",IF(Data!$A$1=1,$AH$5,IF(Data!$A$1=2,$AH$5*IF(K137=\"\",1,K137))))","v":""},null,null,"",null,null,""]
[null,"",{"$f":"IFERROR(INDEX(Fechas!$B$7:$U$198,Simulador!B138,Data!$D$3-1),\"\")","v":""},null,{"$f":"IF($J$5=2,IFERROR(INDEX(Fechas!$B$7:$U$198,Simulador!B138,Data!$D$3),\"\"),IF(B138>$U$5,\"\",E137+Data!$E$3))","v":""},null,"","",null,null,null,null,null,"",null,null,"",null,null,0,null,null,"",null,null,{"$f":"IF(B138=\"\",\"\",IF(Data!$A$1=1,$AH$5,IF(Data!$A$1=2,$AH$5*IF(K138=\"\",1,K138))))","v":""},null,null,"",null,null,""]
[null,"",{"$f":"IFERROR(INDEX(Fechas!$B$7:$U$198,Simulador!B139,Data!$D$3-1),\"\")","v":""},null,{"$f":"IF($J$5=2,IFERROR(INDEX(Fechas!$B$7:$U$198,Simulador!B139,Data!$D$3),\"\"),IF(B139>$U$5,\"\",E138+Data!$E$3))","v":""},null,"","",null,null,null,null,null,"",null,null,"",null,null,0,null,null,"",null,null,{"$f":"IF(B139=\"\",\"\",IF(Data!$A$1=1,$AH$5,IF(Data!$A$1=2,$AH$5*IF(K139=\"\",1,K139))))","v":""},null,null,"",null,null,""]
[null,"",{"$f":"IFERROR(INDEX(Fechas!$B$7:$U$198,Simulador!B140,Data!$D$3-1),\"\")","v":""},null,{"$f":"IF($J$5=2,IFERROR(INDEX(Fechas!$B$7:$U$198,Simulador!B140,Data!$D$3),\"\"),IF(B140>$U$5,\"\",E139+Data!$E$3))","v":""},null,"","",null,null,null,null,null,"",null,null,"",null,null,0,null,null,"",null,null,{"$f":"IF(B140=\"\",\"\",IF(Data!$A$1=1,$AH$5,IF(Data!$A$1=2,$AH$5*IF(K140=\"\",1,K140))))","v":""},null,null,"",null,null,""]
[null,"",{"$f":"IFERROR(INDEX(Fechas!$B$7:$U$198,Simulador!B141,Data!$D$3-1),\"\")","v":""},null,{"$f":"IF($J$5=2,IFERROR(INDEX(Fechas!$B$7:$U$198,Simulador!B141,Data!$D$3),\"\"),IF(B141>$U$5,\"\",E140+Data!$E$3))","v":""},null,"","",null,null,null,null,null,"",null,null,"",null,null,0,null,null,"",null,null,{"$f":"IF(B141=\"\",\"\",IF(Data!$A$1=1,$AH$5,IF(Data!$A$1=2,$AH$5*IF(K141=\"\",1,K141))))","v":""},null,null,"",null,null,""]
[null,"",{"$f":"IFERROR(INDEX(Fechas!$B$7:$U$198,Simulador!B142,Data!$D$3-1),\"\")","v":""},null,{"$f":"IF($J$5=2,IFERROR(INDEX(Fechas!$B$7:$U$198,Simulador!B142,Data!$D$3),\"\"),IF(B142>$U$5,\"\",E141+Data!$E$3))","v":""},null,"","",null,null,null,null,null,"",null,null,"",null,null,0,null,null,"",null,null,{"$f":"IF(B142=\"\",\"\",IF(Data!$A$1=1,$AH$5,IF(Data!$A$1=2,$AH$5*IF(K142=\"\",1,K142))))","v":""},null,null,"",null,null,""]
[null,"",{"$f":"IFERROR(INDEX(Fechas!$B$7:$U$198,Simulador!B143,Data!$D$3-1),\"\")","v":""},null,{"$f":"IF($J$5=2,IFERROR(INDEX(Fechas!$B$7:$U$198,Simulador!B143,Data!$D$3),\"\"),IF(B143>$U$5,\"\",E142+Data!$E$3))","v":""},null,"","",null,null,null,null,null,"",null,null,"",null,null,0,null,null,"",null,null,{"$f":"IF(B143=\"\",\"\",IF(Data!$A$1=1,$AH$5,IF(Data!$A$1=2,$AH$5*IF(K143=\"\",1,K143))))","v":""},null,null,"",null,null,""]
[null,"",{"$f":"IFERROR(INDEX(Fechas!$B$7:$U$198,Simulador!B144,Data!$D$3-1),\"\")","v":""},null,{"$f":"IF($J$5=2,IFERROR(INDEX(Fechas!$B$7:$U$198,Simulador!B144,Data!$D$3),\"\"),IF(B144>$U$5,\"\",E143+Data!$E$3))","v":""},null,"","",null,null,null,null,null,"",null,null,"",null,null,0,null,null,"",null,null,{"$f":"IF(B144=\"\",\"\",IF(Data!$A$1=1,$AH$5,IF(Data!$A$1=2,$AH$5*IF(K144=\"\",1,K144))))","v":""},null,null,"",null,null,""]
[null,"",{"$f":"IFERROR(INDEX(Fechas!$B$7:$U$198,Simulador!B145,Data!$D$3-1),\"\")","v":""},null,{"$f":"IF($J$5=2,IFERROR(INDEX(Fechas!$B$7:$U$198,Simulador!B145,Data!$D$3),\"\"),IF(B145>$U$5,\"\",E144+Data!$E$3))","v":""},null,"","",null,null,null,null,null,"",null,null,"",null,null,0,null,null,"",null,null,{"$f":"IF(B145=\"\",\"\",IF(Data!$A$1=1,$AH$5,IF(Data!$A$1=2,$AH$5*IF(K145=\"\",1,K145))))","v":""},null,null,"",null,null,""]
[null,"",{"$f":"IFERROR(INDEX(Fechas!$B$7:$U$198,Simulador!B146,Data!$D$3-1),\"\")","v":""},null,{"$f":"IF($J$5=2,IFERROR(INDEX(Fechas!$B$7:$U$198,Simulador!B146,Data!$D$3),\"\"),IF(B146>$U$5,\"\",E145+Data!$E$3))","v":""},null,"","",null,null,null,null,null,"",null,null,"",null,null,0,null,null,"",null,null,{"$f":"IF(B146=\"\",\"\",IF(Data!$A$1=1,$AH$5,IF(Data!$A$1=2,$AH$5*IF(K146=\"\",1,K146))))","v":""},null,null,"",null,null,""]
[null,"",{"$f":"IFERROR(INDEX(Fechas!$B$7:$U$198,Simulador!B147,Data!$D$3-1),\"\")","v":""},null,{"$f":"IF($J$5=2,IFERROR(INDEX(Fechas!$B$7:$U$198,Simulador!B147,Data!$D$3),\"\"),IF(B147>$U$5,\"\",E146+Data!$E$3))","v":""},null,"","",null,null,null,null,null,"",null,null,"",null,null,0,null,null,"",null,null,{"$f":"IF(B147=\"\",\"\",IF(Data!$A$1=1,$AH$5,IF(Data!$A$1=2,$AH$5*IF(K147=\"\",1,K147))))","v":""},null,null,"",null,null,""]
[null,{"$f":"IF(ROW(B148)-19>$U$5,\"\",ROW(B148)-19)","v":""},{"$f":"IFERROR(INDEX(Fechas!$B$7:$U$198,Simulador!B148,Data!$D$3-1),\"\")","v":""},null,{"$f":"IF($J$5=2,IFERROR(INDEX(Fechas!$B$7:$U$198,Simulador!B148,Data!$D$3),\"\"),IF(B148>$U$5,\"\",E147+Data!$E$3))","v":""},null,{"$f":"IF(B148=\"\",\"\",E148-E147)","v":""},{"$f":"IF(B148=\"\",\"\",H147-N148)","v":""},null,null,null,null,null,{"$f":"IF(B148=\"\",\"\",Z148-SUM(Q148:Y148))","v":""},null,null,{"$f":"IF(B148=\"\",\"\",IF(B147<=$U$5-1,H147*(((1+$N$9)^(G148/360))-1),1/0))","v":""},null,null,0,null,null,{"$f":"IF(B148=\"\",\"\",$E$10)","v":""},null,null,{"$f":"IF(B148=\"\",\"\",IF(Data!$A$1=1,$AH$5,IF(Data!$A$1=2,$AH$5*IF(K148=\"\",1,K148))))","v":""},null,null,{"$f":"IF(B148=\"\",\"\",Z148*$E$11)","v":""},null,null,{"$f":"IF(B148=\"\",\"\",Z148+AC148)","v":""}]
[null,"",{"$f":"IFERROR(INDEX(Fechas!$B$7:$U$198,Simulador!B149,Data!$D$3-1),\"\")","v":""},null,{"$f":"IF($J$5=2,IFERROR(INDEX(Fechas!$B$7:$U$198,Simulador!B149,Data!$D$3),\"\"),IF(B149>$U$5,\"\",E148+Data!$E$3))","v":""},null,"","",null,null,null,null,null,"",null,null,"",null,null,0,null,null,"",null,null,{"$f":"IF(B149=\"\",\"\",IF(Data!$A$1=1,$AH$5,IF(Data!$A$1=2,$AH$5*IF(K149=\"\",1,K149))))","v":""},null,null,"",null,null,""]
[null,"",{"$f":"IFERROR(INDEX(Fechas!$B$7:$U$198,Simulador!B150,Data!$D$3-1),\"\")","v":""},null,{"$f":"IF($J$5=2,IFERROR(INDEX(Fechas!$B$7:$U$198,Simulador!B150,Data!$D$3),\"\"),IF(B150>$U$5,\"\",E149+Data!$E$3))","v":""},null,"","",null,null,null,null,null,"",null,null,"",null,null,{"$f":"IF($E$9=0,0,IF(AND(B150<>\"\",C150<>0),IF($E$9*H149<1,1,$E$9*H149),\"\"))","v":0},null,null,"",null,null,{"$f":"IF(B150=\"\",\"\",IF(Data!$A$1=1,$AH$5,IF(Data!$A$1=2,$AH$5*IF(K150=\"\",1,K150))))","v":""},null,null,"",null,null,""]
[null,"",{"$f":"IFERROR(INDEX(Fechas!$B$7:$U$198,Simulador!B151,Data!$D$3-1),\"\")","v":""},null,{"$f":"IF($J$5=2,IFERROR(INDEX(Fechas!$B$7:$U$198,Simulador!B151,Data!$D$3),\"\"),IF(B151>$U$5,\"\",E150+Data!$E$3))","v":""},null,"","",null,null,null,null,null,"",null,null,"",null,null,0,null,null,"",null,null,{"$f":"IF(B151=\"\",\"\",IF(Data!$A$1=1,$AH$5,IF(Data!$A$1=2,$AH$5*IF(K151=\"\",1,K151))))","v":""},null,null,"",null,null,""]
[null,"",{"$f":"IFERROR(INDEX(Fechas!$B$7:$U$198,Simulador!B152,Data!$D$3-1),\"\")","v":""},null,{"$f":"IF($J$5=2,IFERROR(INDEX(Fechas!$B$7:$U$198,Simulador!B152,Data!$D$3),\"\"),IF(B152>$U$5,\"\",E151+Data!$E$3))","v":""},null,"","",null,null,null,null,null,"",null,null,"",null,null,0,null,null,"",null,null,{"$f":"IF(B152=\"\",\"\",IF(Data!$A$1=1,$AH$5,IF(Data!$A$1=2,$AH$5*IF(K152=\"\",1,K152))))","v":""},null,null,"",null,null,""]
[null,"",{"$f":"IFERROR(INDEX(Fechas!$B$7:$U$198,Simulador!B153,Data!$D$3-1),\"\")","v":""},null,{"$f":"IF($J$5=2,IFERROR(INDEX(Fechas!$B$7:$U$198,Simulador!B153,Data!$D$3),\"\"),IF(B153>$U$5,\"\",E152+Data!$E$3))","v":""},null,"","",null,null,null,null,null,"",null,null,"",null,null,0,null,null,"",null,null,{"$f":"IF(B153=\"\",\"\",IF(Data!$A$1=1,$AH$5,IF(Data!$A$1=2,$AH$5*IF(K153=\"\",1,K153))))","v":""},null,null,"",null,null,""]
[null,"",{"$f":"IFERROR(INDEX(Fechas!$B$7:$U$198,Simulador!B154,Data!$D$3-1),\"\")","v":""},null,{"$f":"IF($J$5=2,IFERROR(INDEX(Fechas!$B$7:$U$198,Simulador!B154,Data!$D$3),\"\"),IF(B154>$U$5,\"\",E153+Data!$E$3))","v":""},null,"","",null,null,null,null,null,"",null,null,"",null,null,0,null,null,"",null,null,{"$f":"IF(B154=\"\",\"\",IF(Data!$A$1=1,$AH$5,IF(Data!$A$1=2,$AH$5*IF(K154=\"\",1,K154))))","v":""},null,null,"",null,null,""]
[null,"",{"$f":"IFERROR(INDEX(Fechas!$B$7:$U$198,Simulador!B155,Data!$D$3-1),\"\")","v":""},null,{"$f":"IF($J$5=2,IFERROR(INDEX(Fechas!$B$7:$U$198,Simulador!B155,Data!$D$3),\"\"),IF(B155>$U$5,\"\",E154+Data!$E$3))","v":""},null,"","",null,null,null,null,null,"",null,null,"",null,null,0,null,null,"",null,null,{"$f":"IF(B155=\"\",\"\",IF(Data!$A$1=1,$AH$5,IF(Data!$A$1=2,$AH$5*IF(K155=\"\",1,K155))))","v":""},null,null,"",null,null,""]
[null,"",{"$f":"IFERROR(INDEX(Fechas!$B$7:$U$198,Simulador!B156,Data!$D$3-1),\"\")","v":""},null,{"$f":"IF($J$5=2,IFERROR(INDEX(Fechas!$B$7:$U$198,Simulador!B156,Data!$D$3),\"\"),IF(B156>$U$5,\"\",E155+Data!$E$3))","v":""},null,"","",null,null,null,null,null,"",null,null,"",null,null,0,null,null,"",null,null,{"$f":"IF(B156=\"\",\"\",IF(Data!$A$1=1,$AH$5,IF(Data!$A$1=2,$AH$5*IF(K156=\"\",1,K156))))","v":""},null,null,"",null,null,""]
[null,"",{"$f":"IFERROR(INDEX(Fechas!$B$7:$U$198,Simulador!B157,Data!$D$3-1),\"\")","v":""},null,{"$f":"IF($J$5=2,IFERROR(INDEX(Fechas!$B$7:$U$198,Simulador!B157,Data!$D$3),\"\"),IF(B157>$U$5,\"\",E156+Data!$E$3))","v":""},null,"","",null,null,null,null,null,"",null,null,"",null,null,0,null,null,"",null,null,{"$f":"IF(B157=\"\",\"\",IF(Data!$A$1=1,$AH$5,IF(Data!$A$1=2,$AH$5*IF(K157=\"\",1,K157))))","v":""},null,null,"",null,null,""]
[null,"",{"$f":"IFERROR(INDEX(Fechas!$B$7:$U$198,Simulador!B158,Data!$D$3-1),\"\")","v":""},null,{"$f":"IF($J$5=2,IFERROR(INDEX(Fechas!$B$7:$U$198,Simulador!B158,Data!$D$3),\"\"),IF(B158>$U$5,\"\",E157+Data!$E$3))","v":""},null,"","",null,null,null,null,null,"",null,null,"",null,null,0,null,null,"",null,null,{"$f":"IF(B158=\"\",\"\",IF(Data!$A$1=1,$AH$5,IF(Data!$A$1=2,$AH$5*IF(K158=\"\",1,K158))))","v":""},null,null,"",null,null,""]
[null,"",{"$f":"IFERROR(INDEX(Fechas!$B$7:$U$198,Simulador!B159,Data!$D$3-1),\"\")","v":""},null,{"$f":"IF($J$5=2,IFERROR(INDEX(Fechas!$B$7:$U$198,Simulador!B159,Data!$D$3),\"\"),IF(B159>$U$5,\"\",E158+Data!$E$3))","v":""},null,"","",null,null,null,null,null,"",null,null,"",null,null,0,null,null,"",null,null,{"$f":"IF(B159=\"\",\"\",IF(Data!$A$1=1,$AH$5,IF(Data!$A$1=2,$AH$5*IF(K159=\"\",1,K159))))","v":""},null,null,"",null,null,""]
[null,"",{"$f":"IFERROR(INDEX(Fechas!$B$7:$U$198,Simulador!B160,Data!$D$3-1),\"\")","v":""},null,{"$f":"IF($J$5=2,IFERROR(INDEX(Fechas!$B$7:$U$198,Simulador!B160,Data!$D$3),\"\"),IF(B160>$U$5,\"\",E159+Data!$E$3))","v":""},null,"","",null,null,null,null,null,"",null,null,"",null,null,0,null,null,"",null,null,{"$f":"IF(B160=\"\",\"\",IF(Data!$A$1=1,$AH$5,IF(Data!$A$1=2,$AH$5*IF(K160=\"\",1,K160))))","v":""},null,null,"",null,null,""]
[null,"",{"$f":"IFERROR(INDEX(Fechas!$B$7:$U$198,Simulador!B161,Data!$D$3-1),\"\")","v":""},null,{"$f":"IF($J$5=2,IFERROR(INDEX(Fechas!$B$7:$U$198,Simulador!B161,Data!$D$3),\"\"),IF(B161>$U$5,\"\",E160+Data!$E$3))","v":""},null,"","",null,null,null,null,null,"",null,null,"",null,null,0,null,null,"",null,null,{"$f":"IF(B161=\"\",\"\",IF(Data!$A$1=1,$AH$5,IF(Data!$A$1=2,$AH$5*IF(K161=\"\",1,K161))))","v":""},null,null,"",null,null,""]
[null,"",{"$f":"IFERROR(INDEX(Fechas!$B$7:$U$198,Simulador!B162,Data!$D$3-1),\"\")","v":""},null,{"$f":"IF($J$5=2,IFERROR(INDEX(Fechas!$B$7:$U$198,Simulador!B162,Data!$D$3),\"\"),IF(B162>$U$5,\"\",E161+Data!$E$3))","v":""},null,"","",null,null,null,null,null,"",null,null,"",null,null,0,null,null,"",null,null,{"$f":"IF(B162=\"\",\"\",IF(Data!$A$1=1,$AH$5,IF(Data!$A$1=2,$AH$5*IF(K162=\"\",1,K162))))","v":""},null,null,"",null,null,""]
[null,"",{"$f":"IFERROR(INDEX(Fechas!$B$7:$U$198,Simulador!B163,Data!$D$3-1),\"\")","v":""},null,{"$f":"IF($J$5=2,IFERROR(INDEX(Fechas!$B$7:$U$198,Simulador!B163,Data!$D$3),\"\"),IF(B163>$U$5,\"\",E162+Data!$E$3))","v":""},null,"","",null,null,null,null,null,"",null,null,"",null,null,0,null,null,"",null,null,{"$f":"IF(B163=\"\",\"\",IF(Data!$A$1=1,$AH$5,IF(Data!$A$1=2,$AH$5*IF(K163=\"\",1,K163))))","v":""},null,null,"",null,null,""]
[null,"",{"$f":"IFERROR(INDEX(Fechas!$B$7:$U$198,Simulador!B164,Data!$D$3-1),\"\")","v":""},null,{"$f":"IF($J$5=2,IFERROR(INDEX(Fechas!$B$7:$U$198,Simulador!B164,Data!$D$3),\"\"),IF(B164>$U$5,\"\",E163+Data!$E$3))","v":""},null,"","",null,null,null,null,null,"",null,null,"",null,null,0,null,null,"",null,null,{"$f":"IF(B164=\"\",\"\",IF(Data!$A$1=1,$AH$5,IF(Data!$A$1=2,$AH$5*IF(K164=\"\",1,K164))))","v":""},null,null,"",null,null,""]
[null,"",{"$f":"IFERROR(INDEX(Fechas!$B$7:$U$198,Simulador!B165,Data!$D$3-1),\"\")","v":""},null,{"$f":"IF($J$5=2,IFERROR(INDEX(Fechas!$B$7:$U$198,Simulador!B165,Data!$D$3),\"\"),IF(B165>$U$5,\"\",E164+Data!$E$3))","v":""},null,"","",null,null,null,null,null,"",null,null,"",null,null,0,null,null,"",null,null,{"$f":"IF(B165=\"\",\"\",IF(Data!$A$1=1,$AH$5,IF(Data!$A$1=2,$AH$5*IF(K165=\"\",1,K165))))","v":""},null,null,"",null,null,""]
[null,"",{"$f":"IFERROR(INDEX(Fechas!$B$7:$U$198,Simulador!B166,Data!$D$3-1),\"\")","v":""},null,{"$f":"IF($J$5=2,IFERROR(INDEX(Fechas!$B$7:$U$198,Simulador!B166,Data!$D$3),\"\"),IF(B166>$U$5,\"\",E165+Data!$E$3))","v":""},null,"","",null,null,null,null,null,"",null,null,"",null,null,0,null,null,"",null,null,{"$f":"IF(B166=\"\",\"\",IF(Data!$A$1=1,$AH$5,IF(Data!$A$1=2,$AH$5*IF(K166=\"\",1,K166))))","v":""},null,null,"",null,null,""]
[null,"",{"$f":"IFERROR(INDEX(Fechas!$B$7:$U$198,Simulador!B167,Data!$D$3-1),\"\")","v":""},null,{"$f":"IF($J$5=2,IFERROR(INDEX(Fechas!$B$7:$U$198,Simulador!B167,Data!$D$3),\"\"),IF(B167>$U$5,\"\",E166+Data!$E$3))","v":""},null,"","",null,null,null,null,null,"",null,null,"",null,null,0,null,null,"",null,null,{"$f":"IF(B167=\"\",\"\",IF(Data!$A$1=1,$AH$5,IF(Data!$A$1=2,$AH$5*IF(K167=\"\",1,K167))))","v":""},null,null,"",null,null,""]
[null,"",{"$f":"IFERROR(INDEX(Fechas!$B$7:$U$198,Simulador!B168,Data!$D$3-1),\"\")","v":""},null,{"$f":"IF($J$5=2,IFERROR(INDEX(Fechas!$B$7:$U$198,Simulador!B168,Data!$D$3),\"\"),IF(B168>$U$5,\"\",E167+Data!$E$3))","v":""},null,"","",null,null,null,null,null,"",null,null,"",null,null,0,null,null,"",null,null,{"$f":"IF(B168=\"\",\"\",IF(Data!$A$1=1,$AH$5,IF(Data!$A$1=2,$AH$5*IF(K168=\"\",1,K168))))","v":""},null,null,"",null,null,""]
[null,"",{"$f":"IFERROR(INDEX(Fechas!$B$7:$U$198,Simulador!B169,Data!$D$3-1),\"\")","v":""},null,{"$f":"IF($J$5=2,IFERROR(INDEX(Fechas!$B$7:$U$198,Simulador!B169,Data!$D$3),\"\"),IF(B169>$U$5,\"\",E168+Data!$E$3))","v":""},null,"","",null,null,null,null,null,"",null,null,"",null,null,0,null,null,"",null,null,{"$f":"IF(B169=\"\",\"\",IF(Data!$A$1=1,$AH$5,IF(Data!$A$1=2,$AH$5*IF(K169=\"\",1,K169))))","v":""},null,null,"",null,null,""]
[null,"",{"$f":"IFERROR(INDEX(Fechas!$B$7:$U$198,Simulador!B170,Data!$D$3-1),\"\")","v":""},null,{"$f":"IF($J$5=2,IFERROR(INDEX(Fechas!$B$7:$U$198,Simulador!B170,Data!$D$3),\"\"),IF(B170>$U$5,\"\",E169+Data!$E$3))","v":""},null,"","",null,null,null,null,null,"",null,null,"",null,null,0,null,null,"",null,null,{"$f":"IF(B170=\"\",\"\",IF(Data!$A$1=1,$AH$5,IF(Data!$A$1=2,$AH$5*IF(K170=\"\",1,K170))))","v":""},null,null,"",null,null,""]
[null,"",{"$f":"IFERROR(INDEX(Fechas!$B$7:$U$198,Simulador!B171,Data!$D$3-1),\"\")","v":""},null,{"$f":"IF($J$5=2,IFERROR(INDEX(Fechas!$B$7:$U$198,Simulador!B171,Data!$D$3),\"\"),IF(B171>$U$5,\"\",E170+Data!$E$3))","v":""},null,"","",null,null,null,null,null,"",null,null,"",null,null,0,null,null,"",null,null,{"$f":"IF(B171=\"\",\"\",IF(Data!$A$1=1,$AH$5,IF(Data!$A$1=2,$AH$5*IF(K171=\"\",1,K171))))","v":""},null,null,"",null,null,""]
[null,"",{"$f":"IFERROR(INDEX(Fechas!$B$7:$U$198,Simulador!B172,Data!$D$3-1),\"\")","v":""},null,{"$f":"IF($J$5=2,IFERROR(INDEX(Fechas!$B$7:$U$198,Simulador!B172,Data!$D$3),\"\"),IF(B172>$U$5,\"\",E171+Data!$E$3))","v":""},null,"","",null,null,null,null,null,"",null,null,"",null,null,0,null,null,"",null,null,{"$f":"IF(B172=\"\",\"\",IF(Data!$A$1=1,$AH$5,IF(Data!$A$1=2,$AH$5*IF(K172=\"\",1,K172))))","v":""},null,null,"",null,null,""]
[null,"",{"$f":"IFERROR(INDEX(Fechas!$B$7:$U$198,Simulador!B173,Data!$D$3-1),\"\")","v":""},null,{"$f":"IF($J$5=2,IFERROR(INDEX(Fechas!$B$7:$U$198,Simulador!B173,Data!$D$3),\"\"),IF(B173>$U$5,\"\",E172+Data!$E$3))","v":""},null,"","",null,null,null,null,null,"",null,null,"",null,null,0,null,null,"",null,null,{"$f":"IF(B173=\"\",\"\",IF(Data!$A$1=1,$AH$5,IF(Data!$A$1=2,$AH$5*IF(K173=\"\",1,K173))))","v":""},null,null,"",null,null,""]
[null,"",{"$f":"IFERROR(INDEX(Fechas!$B$7:$U$198,Simulador!B174,Data!$D$3-1),\"\")","v":""},null,{"$f":"IF($J$5=2,IFERROR(INDEX(Fechas!$B$7:$U$198,Simulador!B174,Data!$D$3),\"\"),IF(B174>$U$5,\"\",E173+Data!$E$3))","v":""},null,"","",null,null,null,null,null,"",null,null,"",null,null,0,null,null,"",null,null,{"$f":"IF(B174=\"\",\"\",IF(Data!$A$1=1,$AH$5,IF(Data!$A$1=2,$AH$5*IF(K174=\"\",1,K174))))","v":""},null,null,"",null,null,""]
[null,"",{"$f":"IFERROR(INDEX(Fechas!$B$7:$U$198,Simulador!B175,Data!$D$3-1),\"\")","v":""},null,{"$f":"IF($J$5=2,IFERROR(INDEX(Fechas!$B$7:$U$198,Simulador!B175,Data!$D$3),\"\"),IF(B175>$U$5,\"\",E174+Data!$E$3))","v":""},null,"","",null,null,null,null,null,"",null,null,"",null,null,0,null,null,"",null,null,{"$f":"IF(B175=\"\",\"\",IF(Data!$A$1=1,$AH$5,IF(Data!$A$1=2,$AH$5*IF(K175=\"\",1,K175))))","v":""},null,null,"",null,null,""]
[null,"",{"$f":"IFERROR(INDEX(Fechas!$B$7:$U$198,Simulador!B176,Data!$D$3-1),\"\")","v":""},null,{"$f":"IF($J$5=2,IFERROR(INDEX(Fechas!$B$7:$U$198,Simulador!B176,Data!$D$3),\"\"),IF(B176>$U$5,\"\",E175+Data!$E$3))","v":""},null,"","",null,null,null,null,null,"",null,null,"",null,null,0,null,null,"",null,null,{"$f":"IF(B176=\"\",\"\",IF(Data!$A$1=1,$AH$5,IF(Data!$A$1=2,$AH$5*IF(K176=\"\",1,K176))))","v":""},null,null,"",null,null,""]
[null,"",{"$f":"IFERROR(INDEX(Fechas!$B$7:$U$198,Simulador!B177,Data!$D$3-1),\"\")","v":""},null,{"$f":"IF($J$5=2,IFERROR(INDEX(Fechas!$B$7:$U$198,Simulador!B177,Data!$D$3),\"\"),IF(B177>$U$5,\"\",E176+Data!$E$3))","v":""},null,"","",null,null,null,null,null,"",null,null,"",null,null,0,null,null,"",null,null,{"$f":"IF(B177=\"\",\"\",IF(Data!$A$1=1,$AH$5,IF(Data!$A$1=2,$AH$5*IF(K177=\"\",1,K177))))","v":""},null,null,"",null,null,""]
[null,"",{"$f":"IFERROR(INDEX(Fechas!$B$7:$U$198,Simulador!B178,Data!$D$3-1),\"\")","v":""},null,{"$f":"IF($J$5=2,IFERROR(INDEX(Fechas!$B$7:$U$198,Simulador!B178,Data!$D$3),\"\"),IF(B178>$U$5,\"\",E177+Data!$E$3))","v":""},null,"","",null,null,null,null,null,"",null,null,"",null,null,0,null,null,"",null,null,{"$f":"IF(B178=\"\",\"\",IF(Data!$A$1=1,$AH$5,IF(Data!$A$1=2,$AH$5*IF(K178=\"\",1,K178))))","v":""},null,null,"",null,null,""]
[null,"",{"$f":"IFERROR(INDEX(Fechas!$B$7:$U$198,Simulador!B179,Data!$D$3-1),\"\")","v":""},null,{"$f":"IF($J$5=2,IFERROR(INDEX(Fechas!$B$7:$U$198,Simulador!B179,Data!$D$3),\"\"),IF(B179>$U$5,\"\",E178+Data!$E$3))","v":""},null,"","",null,null,null,null,null,"",null,null,"",null,null,0,null,null,"",null,null,{"$f":"IF(B179=\"\",\"\",IF(Data!$A$1=1,$AH$5,IF(Data!$A$1=2,$AH$5*IF(K179=\"\",1,K179))))","v":""},null,null,"",null,null,""]
[null,"",{"$f":"IFERROR(INDEX(Fechas!$B$7:$U$198,Simulador!B180,Data!$D$3-1),\"\")","v":""},null,{"$f":"IF($J$5=2,IFERROR(INDEX(Fechas!$B$7:$U$198,Simulador!B180,Data!$D$3),\"\"),IF(B180>$U$5,\"\",E179+Data!$E$3))","v":""},null,"","",null,null,null,null,null,"",null,null,"",null,null,0,null,null,"",null,null,{"$f":"IF(B180=\"\",\"\",IF(Data!$A$1=1,$AH$5,IF(Data!$A$1=2,$AH$5*IF(K180=\"\",1,K180))))","v":""},null,null,"",null,null,""]
[null,"",{"$f":"IFERROR(INDEX(Fechas!$B$7:$U$198,Simulador!B181,Data!$D$3-1),\"\")","v":""},null,{"$f":"IF($J$5=2,IFERROR(INDEX(Fechas!$B$7:$U$198,Simulador!B181,Data!$D$3),\"\"),IF(B181>$U$5,\"\",E180+Data!$E$3))","v":""},null,"","",null,null,null,null,null,"",null,null,"",null,null,0,null,null,"",null,null,{"$f":"IF(B181=\"\",\"\",IF(Data!$A$1=1,$AH$5,IF(Data!$A$1=2,$AH$5*IF(K181=\"\",1,K181))))","v":""},null,null,"",null,null,""]
[null,"",{"$f":"IFERROR(INDEX(Fechas!$B$7:$U$198,Simulador!B182,Data!$D$3-1),\"\")","v":""},null,{"$f":"IF($J$5=2,IFERROR(INDEX(Fechas!$B$7:$U$198,Simulador!B182,Data!$D$3),\"\"),IF(B182>$U$5,\"\",E181+Data!$E$3))","v":""},null,"","",null,null,null,null,null,"",null,null,"",null,null,0,null,null,"",null,null,{"$f":"IF(B182=\"\",\"\",IF(Data!$A$1=1,$AH$5,IF(Data!$A$1=2,$AH$5*IF(K182=\"\",1,K182))))","v":""},null,null,"",null,null,""]
[null,"",{"$f":"IFERROR(INDEX(Fechas!$B$7:$U$198,Simulador!B183,Data!$D$3-1),\"\")","v":""},null,{"$f":"IF($J$5=2,IFERROR(INDEX(Fechas!$B$7:$U$198,Simulador!B183,Data!$D$3),\"\"),IF(B183>$U$5,\"\",E182+Data!$E$3))","v":""},null,"","",null,null,null,null,null,"",null,null,"",null,null,0,null,null,"",null,null,{"$f":"IF(B183=\"\",\"\",IF(Data!$A$1=1,$AH$5,IF(Data!$A$1=2,$AH$5*IF(K183=\"\",1,K183))))","v":""},null,null,"",null,null,""]
[null,"",{"$f":"IFERROR(INDEX(Fechas!$B$7:$U$198,Simulador!B184,Data!$D$3-1),\"\")","v":""},null,{"$f":"IF($J$5=2,IFERROR(INDEX(Fechas!$B$7:$U$198,Simulador!B184,Data!$D$3),\"\"),IF(B184>$U$5,\"\",E183+Data!$E$3))","v":""},null,"","",null,null,null,null,null,"",null,null,"",null,null,0,null,null,"",null,null,{"$f":"IF(B184=\"\",\"\",IF(Data!$A$1=1,$AH$5,IF(Data!$A$1=2,$AH$5*IF(K184=\"\",1,K184))))","v":""},null,null,"",null,null,""]
[null,"",{"$f":"IFERROR(INDEX(Fechas!$B$7:$U$198,Simulador!B185,Data!$D$3-1),\"\")","v":""},null,{"$f":"IF($J$5=2,IFERROR(INDEX(Fechas!$B$7:$U$198,Simulador!B185,Data!$D$3),\"\"),IF(B185>$U$5,\"\",E184+Data!$E$3))","v":""},null,"","",null,null,null,null,null,"",null,null,"",null,null,0,null,null,"",null,null,{"$f":"IF(B185=\"\",\"\",IF(Data!$A$1=1,$AH$5,IF(Data!$A$1=2,$AH$5*IF(K185=\"\",1,K185))))","v":""},null,null,"",null,null,""]
[null,"",{"$f":"IFERROR(INDEX(Fechas!$B$7:$U$198,Simulador!B186,Data!$D$3-1),\"\")","v":""},null,{"$f":"IF($J$5=2,IFERROR(INDEX(Fechas!$B$7:$U$198,Simulador!B186,Data!$D$3),\"\"),IF(B186>$U$5,\"\",E185+Data!$E$3))","v":""},null,"","",null,null,null,null,null,"",null,null,"",null,null,0,null,null,"",null,null,{"$f":"IF(B186=\"\",\"\",IF(Data!$A$1=1,$AH$5,IF(Data!$A$1=2,$AH$5*IF(K186=\"\",1,K186))))","v":""},null,null,"",null,null,""]
[null,"",{"$f":"IFERROR(INDEX(Fechas!$B$7:$U$198,Simulador!B187,Data!$D$3-1),\"\")","v":""},null,{"$f":"IF($J$5=2,IFERROR(INDEX(Fechas!$B$7:$U$198,Simulador!B187,Data!$D$3),\"\"),IF(B187>$U$5,\"\",E186+Data!$E$3))","v":""},null,"","",null,null,null,null,null,"",null,null,"",null,null,0,null,null,"",null,null,{"$f":"IF(B187=\"\",\"\",IF(Data!$A$1=1,$AH$5,IF(Data!$A$1=2,$AH$5*IF(K187=\"\",1,K187))))","v":""},null,null,"",null,null,""]
[null,"",{"$f":"IFERROR(INDEX(Fechas!$B$7:$U$198,Simulador!B188,Data!$D$3-1),\"\")","v":""},null,{"$f":"IF($J$5=2,IFERROR(INDEX(Fechas!$B$7:$U$198,Simulador!B188,Data!$D$3),\"\"),IF(B188>$U$5,\"\",E187+Data!$E$3))","v":""},null,"","",null,null,null,null,null,"",null,null,"",null,null,0,null,null,"",null,null,{"$f":"IF(B188=\"\",\"\",IF(Data!$A$1=1,$AH$5,IF(Data!$A$1=2,$AH$5*IF(K188=\"\",1,K188))))","v":""},null,null,"",null,null,""]
[null,"",{"$f":"IFERROR(INDEX(Fechas!$B$7:$U$198,Simulador!B189,Data!$D$3-1),\"\")","v":""},null,{"$f":"IF($J$5=2,IFERROR(INDEX(Fechas!$B$7:$U$198,Simulador!B189,Data!$D$3),\"\"),IF(B189>$U$5,\"\",E188+Data!$E$3))","v":""},null,"","",null,null,null,null,null,"",null,null,"",null,null,0,null,null,"",null,null,{"$f":"IF(B189=\"\",\"\",IF(Data!$A$1=1,$AH$5,IF(Data!$A$1=2,$AH$5*IF(K189=\"\",1,K189))))","v":""},null,null,"",null,null,""]
[null,"",{"$f":"IFERROR(INDEX(Fechas!$B$7:$U$198,Simulador!B190,Data!$D$3-1),\"\")","v":""},null,{"$f":"IF($J$5=2,IFERROR(INDEX(Fechas!$B$7:$U$198,Simulador!B190,Data!$D$3),\"\"),IF(B190>$U$5,\"\",E189+Data!$E$3))","v":""},null,"","",null,null,null,null,null,"",null,null,"",null,null,0,null,null,"",null,null,{"$f":"IF(B190=\"\",\"\",IF(Data!$A$1=1,$AH$5,IF(Data!$A$1=2,$AH$5*IF(K190=\"\",1,K190))))","v":""},null,null,"",null,null,""]
[null,"",{"$f":"IFERROR(INDEX(Fechas!$B$7:$U$198,Simulador!B191,Data!$D$3-1),\"\")","v":""},null,{"$f":"IF($J$5=2,IFERROR(INDEX(Fechas!$B$7:$U$198,Simulador!B191,Data!$D$3),\"\"),IF(B191>$U$5,\"\",E190+Data!$E$3))","v":""},null,"","",null,null,null,null,null,"",null,null,"",null,null,0,null,null,"",null,null,{"$f":"IF(B191=\"\",\"\",IF(Data!$A$1=1,$AH$5,IF(Data!$A$1=2,$AH$5*IF(K191=\"\",1,K191))))","v":""},null,null,"",null,null,""]
[null,"",{"$f":"IFERROR(INDEX(Fechas!$B$7:$U$198,Simulador!B192,Data!$D$3-1),\"\")","v":""},null,{"$f":"IF($J$5=2,IFERROR(INDEX(Fechas!$B$7:$U$198,Simulador!B192,Data!$D$3),\"\"),IF(B192>$U$5,\"\",E191+Data!$E$3))","v":""},null,"","",null,null,null,null,null,"",null,null,"",null,null,0,null,null,"",null,null,{"$f":"IF(B192=\"\",\"\",IF(Data!$A$1=1,$AH$5,IF(Data!$A$1=2,$AH$5*IF(K192=\"\",1,K192))))","v":""},null,null,"",null,null,""]
[null,"",{"$f":"IFERROR(INDEX(Fechas!$B$7:$U$198,Simulador!B193,Data!$D$3-1),\"\")","v":""},null,{"$f":"IF($J$5=2,IFERROR(INDEX(Fechas!$B$7:$U$198,Simulador!B193,Data!$D$3),\"\"),IF(B193>$U$5,\"\",E192+Data!$E$3))","v":""},null,"","",null,null,null,null,null,"",null,null,"",null,null,0,null,null,"",null,null,{"$f":"IF(B193=\"\",\"\",IF(Data!$A$1=1,$AH$5,IF(Data!$A$1=2,$AH$5*IF(K193=\"\",1,K193))))","v":""},null,null,"",null,null,""]
[null,"",{"$f":"IFERROR(INDEX(Fechas!$B$7:$U$198,Simulador!B194,Data!$D$3-1),\"\")","v":""},null,{"$f":"IF($J$5=2,IFERROR(INDEX(Fechas!$B$7:$U$198,Simulador!B194,Data!$D$3),\"\"),IF(B194>$U$5,\"\",E193+Data!$E$3))","v":""},null,"","",null,null,null,null,null,"",null,null,"",null,null,0,null,null,"",null,null,{"$f":"IF(B194=\"\",\"\",IF(Data!$A$1=1,$AH$5,IF(Data!$A$1=2,$AH$5*IF(K194=\"\",1,K194))))","v":""},null,null,"",null,null,""]
[null,"",{"$f":"IFERROR(INDEX(Fechas!$B$7:$U$198,Simulador!B195,Data!$D$3-1),\"\")","v":""},null,{"$f":"IF($J$5=2,IFERROR(INDEX(Fechas!$B$7:$U$198,Simulador!B195,Data!$D$3),\"\"),IF(B195>$U$5,\"\",E194+Data!$E$3))","v":""},null,"","",null,null,null,null,null,"",null,null,"",null,null,0,null,null,"",null,null,{"$f":"IF(B195=\"\",\"\",IF(Data!$A$1=1,$AH$5,IF(Data!$A$1=2,$AH$5*IF(K195=\"\",1,K195))))","v":""},null,null,"",null,null,""]
[null,"",{"$f":"IFERROR(INDEX(Fechas!$B$7:$U$198,Simulador!B196,Data!$D$3-1),\"\")","v":""},null,{"$f":"IF($J$5=2,IFERROR(INDEX(Fechas!$B$7:$U$198,Simulador!B196,Data!$D$3),\"\"),IF(B196>$U$5,\"\",E195+Data!$E$3))","v":""},null,"","",null,null,null,null,null,"",null,null,"",null,null,0,null,null,"",null,null,{"$f":"IF(B196=\"\",\"\",IF(Data!$A$1=1,$AH$5,IF(Data!$A$1=2,$AH$5*IF(K196=\"\",1,K196))))","v":""},null,null,"",null,null,""]
[null,"",{"$f":"IFERROR(INDEX(Fechas!$B$7:$U$198,Simulador!B197,Data!$D$3-1),\"\")","v":""},null,{"$f":"IF($J$5=2,IFERROR(INDEX(Fechas!$B$7:$U$198,Simulador!B197,Data!$D$3),\"\"),IF(B197>$U$5,\"\",E196+Data!$E$3))","v":""},null,"","",null,null,null,null,null,"",null,null,"",null,null,0,null,null,"",null,null,{"$f":"IF(B197=\"\",\"\",IF(Data!$A$1=1,$AH$5,IF(Data!$A$1=2,$AH$5*IF(K197=\"\",1,K197))))","v":""},null,null,"",null,null,""]
[null,"",{"$f":"IFERROR(INDEX(Fechas!$B$7:$U$198,Simulador!B198,Data!$D$3-1),\"\")","v":""},null,{"$f":"IF($J$5=2,IFERROR(INDEX(Fechas!$B$7:$U$198,Simulador!B198,Data!$D$3),\"\"),IF(B198>$U$5,\"\",E197+Data!$E$3))","v":""},null,"","",null,null,null,null,null,"",null,null,"",null,null,0,null,null,"",null,null,{"$f":"IF(B198=\"\",\"\",IF(Data!$A$1=1,$AH$5,IF(Data!$A$1=2,$AH$5*IF(K198=\"\",1,K198))))","v":""},null,null,"",null,null,""]
[null,"",{"$f":"IFERROR(INDEX(Fechas!$B$7:$U$198,Simulador!B199,Data!$D$3-1),\"\")","v":""},null,{"$f":"IF($J$5=2,IFERROR(INDEX(Fechas!$B$7:$U$198,Simulador!B199,Data!$D$3),\"\"),IF(B199>$U$5,\"\",E198+Data!$E$3))","v":""},null,"","",null,null,null,null,null,"",null,null,"",null,null,0,null,null,"",null,null,{"$f":"IF(B199=\"\",\"\",IF(Data!$A$1=1,$AH$5,IF(Data!$A$1=2,$AH$5*IF(K199=\"\",1,K199))))","v":""},null,null,"",null,null,""]
[null,"",{"$f":"IFERROR(INDEX(Fechas!$B$7:$U$198,Simulador!B200,Data!$D$3-1),\"\")","v":""},null,{"$f":"IF($J$5=2,IFERROR(INDEX(Fechas!$B$7:$U$198,Simulador!B200,Data!$D$3),\"\"),IF(B200>$U$5,\"\",E199+Data!$E$3))","v":""},null,"","",null,null,null,null,null,"",null,null,"",null,null,0,null,null,"",null,null,{"$f":"IF(B200=\"\",\"\",IF(Data!$A$1=1,$AH$5,IF(Data!$A$1=2,$AH$5*IF(K200=\"\",1,K200))))","v":""},null,null,"",null,null,""]
[null,"",{"$f":"IFERROR(INDEX(Fechas!$B$7:$U$198,Simulador!B201,Data!$D$3-1),\"\")","v":""},null,{"$f":"IF($J$5=2,IFERROR(INDEX(Fechas!$B$7:$U$198,Simulador!B201,Data!$D$3),\"\"),IF(B201>$U$5,\"\",E200+Data!$E$3))","v":""},null,"","",null,null,null,null,null,"",null,null,"",null,null,0,null,null,"",null,null,{"$f":"IF(B201=\"\",\"\",IF(Data!$A$1=1,$AH$5,IF(Data!$A$1=2,$AH$5*IF(K201=\"\",1,K201))))","v":""},null,null,"",null,null,""]
[null,"",{"$f":"IFERROR(INDEX(Fechas!$B$7:$U$198,Simulador!B202,Data!$D$3-1),\"\")","v":""},null,{"$f":"IF($J$5=2,IFERROR(INDEX(Fechas!$B$7:$U$198,Simulador!B202,Data!$D$3),\"\"),IF(B202>$U$5,\"\",E201+Data!$E$3))","v":""},null,"","",null,null,null,null,null,"",null,null,"",null,null,0,null,null,"",null,null,{"$f":"IF(B202=\"\",\"\",IF(Data!$A$1=1,$AH$5,IF(Data!$A$1=2,$AH$5*IF(K202=\"\",1,K202))))","v":""},null,null,"",null,null,""]
[null,"",{"$f":"IFERROR(INDEX(Fechas!$B$7:$U$198,Simulador!B203,Data!$D$3-1),\"\")","v":""},null,{"$f":"IF($J$5=2,IFERROR(INDEX(Fechas!$B$7:$U$198,Simulador!B203,Data!$D$3),\"\"),IF(B203>$U$5,\"\",E202+Data!$E$3))","v":""},null,"","",null,null,null,null,null,"",null,null,"",null,null,0,null,null,"",null,null,{"$f":"IF(B203=\"\",\"\",IF(Data!$A$1=1,$AH$5,IF(Data!$A$1=2,$AH$5*IF(K203=\"\",1,K203))))","v":""},null,null,"",null,null,""]
[null,"",{"$f":"IFERROR(INDEX(Fechas!$B$7:$U$198,Simulador!B204,Data!$D$3-1),\"\")","v":""},null,{"$f":"IF($J$5=2,IFERROR(INDEX(Fechas!$B$7:$U$198,Simulador!B204,Data!$D$3),\"\"),IF(B204>$U$5,\"\",E203+Data!$E$3))","v":""},null,"","",null,null,null,null,null,"",null,null,"",null,null,0,null,null,"",null,null,{"$f":"IF(B204=\"\",\"\",IF(Data!$A$1=1,$AH$5,IF(Data!$A$1=2,$AH$5*IF(K204=\"\",1,K204))))","v":""},null,null,"",null,null,""]
[null,"",{"$f":"IFERROR(INDEX(Fechas!$B$7:$U$198,Simulador!B205,Data!$D$3-1),\"\")","v":""},null,{"$f":"IF($J$5=2,IFERROR(INDEX(Fechas!$B$7:$U$198,Simulador!B205,Data!$D$3),\"\"),IF(B205>$U$5,\"\",E204+Data!$E$3))","v":""},null,"","",null,null,null,null,null,"",null,null,"",null,null,0,null,null,"",null,null,{"$f":"IF(B205=\"\",\"\",IF(Data!$A$1=1,$AH$5,IF(Data!$A$1=2,$AH$5*IF(K205=\"\",1,K205))))","v":""},null,null,"",null,null,""]
[null,"",{"$f":"IFERROR(INDEX(Fechas!$B$7:$U$198,Simulador!B206,Data!$D$3-1),\"\")","v":""},null,{"$f":"IF($J$5=2,IFERROR(INDEX(Fechas!$B$7:$U$198,Simulador!B206,Data!$D$3),\"\"),IF(B206>$U$5,\"\",E205+Data!$E$3))","v":""},null,"","",null,null,null,null,null,"",null,null,"",null,null,0,null,null,"",null,null,{"$f":"IF(B206=\"\",\"\",IF(Data!$A$1=1,$AH$5,IF(Data!$A$1=2,$AH$5*IF(K206=\"\",1,K206))))","v":""},null,null,"",null,null,""]
[null,"",{"$f":"IFERROR(INDEX(Fechas!$B$7:$U$198,Simulador!B207,Data!$D$3-1),\"\")","v":""},null,{"$f":"IF($J$5=2,IFERROR(INDEX(Fechas!$B$7:$U$198,Simulador!B207,Data!$D$3),\"\"),IF(B207>$U$5,\"\",E206+Data!$E$3))","v":""},null,"","",null,null,null,null,null,"",null,null,"",null,null,0,null,null,"",null,null,{"$f":"IF(B207=\"\",\"\",IF(Data!$A$1=1,$AH$5,IF(Data!$A$1=2,$AH$5*IF(K207=\"\",1,K207))))","v":""},null,null,"",null,null,""]
[null,"",{"$f":"IFERROR(INDEX(Fechas!$B$7:$U$198,Simulador!B208,Data!$D$3-1),\"\")","v":""},null,{"$f":"IF($J$5=2,IFERROR(INDEX(Fechas!$B$7:$U$198,Simulador!B208,Data!$D$3),\"\"),IF(B208>$U$5,\"\",E207+Data!$E$3))","v":""},null,"","",null,null,null,null,null,"",null,null,"",null,null,0,null,null,"",null,null,{"$f":"IF(B208=\"\",\"\",IF(Data!$A$1=1,$AH$5,IF(Data!$A$1=2,$AH$5*IF(K208=\"\",1,K208))))","v":""},null,null,"",null,null,""]
[null,"",{"$f":"IFERROR(INDEX(Fechas!$B$7:$U$198,Simulador!B209,Data!$D$3-1),\"\")","v":""},null,{"$f":"IF($J$5=2,IFERROR(INDEX(Fechas!$B$7:$U$198,Simulador!B209,Data!$D$3),\"\"),IF(B209>$U$5,\"\",E208+Data!$E$3))","v":""},null,"","",null,null,null,null,null,"",null,null,"",null,null,0,null,null,"",null,null,{"$f":"IF(B209=\"\",\"\",IF(Data!$A$1=1,$AH$5,IF(Data!$A$1=2,$AH$5*IF(K209=\"\",1,K209))))","v":""},null,null,"",null,null,""]
[null,"",{"$f":"IFERROR(INDEX(Fechas!$B$7:$U$198,Simulador!B210,Data!$D$3-1),\"\")","v":""},null,{"$f":"IF($J$5=2,IFERROR(INDEX(Fechas!$B$7:$U$198,Simulador!B210,Data!$D$3),\"\"),IF(B210>$U$5,\"\",E209+Data!$E$3))","v":""},null,"","",null,null,null,null,null,"",null,null,"",null,null,0,null,null,"",null,null,{"$f":"IF(B210=\"\",\"\",IF(Data!$A$1=1,$AH$5,IF(Data!$A$1=2,$AH$5*IF(K210=\"\",1,K210))))","v":""},null,null,"",null,null,""]
[null,"",{"$f":"IFERROR(INDEX(Fechas!$B$7:$U$198,Simulador!B211,Data!$D$3-1),\"\")","v":""},null,{"$f":"IF($J$5=2,IFERROR(INDEX(Fechas!$B$7:$U$198,Simulador!B211,Data!$D$3),\"\"),IF(B211>$U$5,\"\",E210+Data!$E$3))","v":""},null,"","",null,null,null,null,null,"",null,null,"",null,null,{"$f":"IF(E199=0,0,IF(AND(B211<>\"\",C211<>0),IF($E$9*H210<1,1,$E$9*H210),\"\"))","v":""},null,null,"",null,null,{"$f":"IF(B211=\"\",\"\",IF(Data!$A$1=1,$AH$5,IF(Data!$A$1=2,$AH$5*IF(K211=\"\",1,K211))))","v":""},null,null,"",null,null,""]
[null,{"$f":"IF(ROW(B212)-19>$U$5,\"\",ROW(B212)-19)","v":""},{"$f":"IFERROR(INDEX(Fechas!$B$7:$U$198,Simulador!B212,Data!$D$3-1),\"\")","v":""},null,{"$f":"IF($J$5=2,IFERROR(INDEX(Fechas!$B$7:$U$198,Simulador!B212,Data!$D$3),\"\"),IF(B212>$U$5,\"\",E211+Data!$E$3))","v":""},null,{"$f":"IF(B212=\"\",\"\",E212-E211)","v":""},{"$f":"IF(B212=\"\",\"\",H211-N212)","v":""},null,null,null,null,null,{"$f":"IF(B212=\"\",\"\",Z212-SUM(Q212:Y212))","v":""},null,null,{"$f":"IF(B212=\"\",\"\",IF(B211<=$U$5-1,H211*(((1+$N$9)^(G212/360))-1),1/0))","v":""},null,null,"",null,null,{"$f":"IF(B212=\"\",\"\",$E$10)","v":""},null,null,{"$f":"IF(B212=\"\",\"\",IF(Data!$A$1=1,$AH$5,IF(Data!$A$1=2,$AH$5*IF(K212=\"\",1,K212))))","v":""},null,null,{"$f":"IF(B212=\"\",\"\",Z212*$E$11)","v":""},null,null,{"$f":"IF(B212=\"\",\"\",Z212+AC212)","v":""}]
[null,"",{"$f":"IFERROR(INDEX(Fechas!$B$7:$U$198,Simulador!B213,Data!$D$3-1),\"\")","v":""},null,{"$f":"IF($J$5=2,IFERROR(INDEX(Fechas!$B$7:$U$198,Simulador!B213,Data!$D$3),\"\"),IF(B213>$U$5,\"\",E212+Data!$E$3))","v":""},null,"","",null,null,null,null,null,"",null,null,"",null,null,"",null,null,"",null,null,{"$f":"IF(B213=\"\",\"\",IF(Data!$A$1=1,$AH$5,IF(Data!$A$1=2,$AH$5*IF(K213=\"\",1,K213))))","v":""},null,null,"",null,null,""]
[null,"",{"$f":"IFERROR(INDEX(Fechas!$B$7:$U$198,Simulador!B214,Data!$D$3-1),\"\")","v":""},null,{"$f":"IF($J$5=2,IFERROR(INDEX(Fechas!$B$7:$U$198,Simulador!B214,Data!$D$3),\"\"),IF(B214>$U$5,\"\",E213+Data!$E$3))","v":""},null,"","",null,null,null,null,null,"",null,null,"",null,null,{"$f":"IF(E202=0,0,IF(AND(B214<>\"\",C214<>0),IF($E$9*H213<1,1,$E$9*H213),\"\"))","v":""},null,null,"",null,null,{"$f":"IF(B214=\"\",\"\",IF(Data!$A$1=1,$AH$5,IF(Data!$A$1=2,$AH$5*IF(K214=\"\",1,K214))))","v":""},null,null,"",null,null,""]
[null,"",{"$f":"IFERROR(INDEX(Fechas!$B$7:$U$198,Simulador!B215,Data!$D$3-1),\"\")","v":""},null,{"$f":"IF($J$5=2,IFERROR(INDEX(Fechas!$B$7:$U$198,Simulador!B215,Data!$D$3),\"\"),IF(B215>$U$5,\"\",E214+Data!$E$3))","v":""},null,"","",null,null,null,null,null,"",null,null,"",null,null,"",null,null,"",null,null,{"$f":"IF(B215=\"\",\"\",IF(Data!$A$1=1,$AH$5,IF(Data!$A$1=2,$AH$5*IF(K215=\"\",1,K215))))","v":""},null,null,"",null,null,""]
[null,"",{"$f":"IFERROR(INDEX(Fechas!$B$7:$U$198,Simulador!B216,Data!$D$3-1),\"\")","v":""},null,{"$f":"IF($J$5=2,IFERROR(INDEX(Fechas!$B$7:$U$198,Simulador!B216,Data!$D$3),\"\"),IF(B216>$U$5,\"\",E215+Data!$E$3))","v":""},null,"","",null,null,null,null,null,"",null,null,"",null,null,"",null,null,"",null,null,{"$f":"IF(B216=\"\",\"\",IF(Data!$A$1=1,$AH$5,IF(Data!$A$1=2,$AH$5*IF(K216=\"\",1,K216))))","v":""},null,null,"",null,null,""]
[null,"",{"$f":"IFERROR(INDEX(Fechas!$B$7:$U$198,Simulador!B217,Data!$D$3-1),\"\")","v":""},null,{"$f":"IF($J$5=2,IFERROR(INDEX(Fechas!$B$7:$U$198,Simulador!B217,Data!$D$3),\"\"),IF(B217>$U$5,\"\",E216+Data!$E$3))","v":""},null,"","",null,null,null,null,null,"",null,null,"",null,null,"",null,null,"",null,null,{"$f":"IF(B217=\"\",\"\",IF(Data!$A$1=1,$AH$5,IF(Data!$A$1=2,$AH$5*IF(K217=\"\",1,K217))))","v":""},null,null,"",null,null,""]
[null,"",{"$f":"IFERROR(INDEX(Fechas!$B$7:$U$198,Simulador!B218,Data!$D$3-1),\"\")","v":""},null,{"$f":"IF($J$5=2,IFERROR(INDEX(Fechas!$B$7:$U$198,Simulador!B218,Data!$D$3),\"\"),IF(B218>$U$5,\"\",E217+Data!$E$3))","v":""},null,"","",null,null,null,null,null,"",null,null,"",null,null,"",null,null,"",null,null,{"$f":"IF(B218=\"\",\"\",IF(Data!$A$1=1,$AH$5,IF(Data!$A$1=2,$AH$5*IF(K218=\"\",1,K218))))","v":""},null,null,"",null,null,""]
[null,"",{"$f":"IFERROR(INDEX(Fechas!$B$7:$U$198,Simulador!B219,Data!$D$3-1),\"\")","v":""},null,{"$f":"IF($J$5=2,IFERROR(INDEX(Fechas!$B$7:$U$198,Simulador!B219,Data!$D$3),\"\"),IF(B219>$U$5,\"\",E218+Data!$E$3))","v":""},null,"","",null,null,null,null,null,"",null,null,"",null,null,"",null,null,"",null,null,{"$f":"IF(B219=\"\",\"\",IF(Data!$A$1=1,$AH$5,IF(Data!$A$1=2,$AH$5*IF(K219=\"\",1,K219))))","v":""},null,null,"",null,null,""]
[null,"",{"$f":"IFERROR(INDEX(Fechas!$B$7:$U$198,Simulador!B220,Data!$D$3-1),\"\")","v":""},null,{"$f":"IF($J$5=2,IFERROR(INDEX(Fechas!$B$7:$U$198,Simulador!B220,Data!$D$3),\"\"),IF(B220>$U$5,\"\",E219+Data!$E$3))","v":""},null,"","",null,null,null,null,null,"",null,null,"",null,null,"",null,null,"",null,null,{"$f":"IF(B220=\"\",\"\",IF(Data!$A$1=1,$AH$5,IF(Data!$A$1=2,$AH$5*IF(K220=\"\",1,K220))))","v":""},null,null,"",null,null,""]
[null,"",{"$f":"IFERROR(INDEX(Fechas!$B$7:$U$198,Simulador!B221,Data!$D$3-1),\"\")","v":""},null,{"$f":"IF($J$5=2,IFERROR(INDEX(Fechas!$B$7:$U$198,Simulador!B221,Data!$D$3),\"\"),IF(B221>$U$5,\"\",E220+Data!$E$3))","v":""},null,"","",null,null,null,null,null,"",null,null,"",null,null,"",null,null,"",null,null,{"$f":"IF(B221=\"\",\"\",IF(Data!$A$1=1,$AH$5,IF(Data!$A$1=2,$AH$5*IF(K221=\"\",1,K221))))","v":""},null,null,"",null,null,""]
[null,"",{"$f":"IFERROR(INDEX(Fechas!$B$7:$U$198,Simulador!B222,Data!$D$3-1),\"\")","v":""},null,{"$f":"IF($J$5=2,IFERROR(INDEX(Fechas!$B$7:$U$198,Simulador!B222,Data!$D$3),\"\"),IF(B222>$U$5,\"\",E221+Data!$E$3))","v":""},null,"","",null,null,null,null,null,"",null,null,"",null,null,"",null,null,"",null,null,{"$f":"IF(B222=\"\",\"\",IF(Data!$A$1=1,$AH$5,IF(Data!$A$1=2,$AH$5*IF(K222=\"\",1,K222))))","v":""},null,null,"",null,null,""]
[null,"",{"$f":"IFERROR(INDEX(Fechas!$B$7:$U$198,Simulador!B223,Data!$D$3-1),\"\")","v":""},null,{"$f":"IF($J$5=2,IFERROR(INDEX(Fechas!$B$7:$U$198,Simulador!B223,Data!$D$3),\"\"),IF(B223>$U$5,\"\",E222+Data!$E$3))","v":""},null,"","",null,null,null,null,null,"",null,null,"",null,null,"",null,null,"",null,null,{"$f":"IF(B223=\"\",\"\",IF(Data!$A$1=1,$AH$5,IF(Data!$A$1=2,$AH$5*IF(K223=\"\",1,K223))))","v":""},null,null,"",null,null,""]
[null,"",{"$f":"IFERROR(INDEX(Fechas!$B$7:$U$198,Simulador!B224,Data!$D$3-1),\"\")","v":""},null,{"$f":"IF($J$5=2,IFERROR(INDEX(Fechas!$B$7:$U$198,Simulador!B224,Data!$D$3),\"\"),IF(B224>$U$5,\"\",E223+Data!$E$3))","v":""},null,"","",null,null,null,null,null,"",null,null,"",null,null,"",null,null,"",null,null,{"$f":"IF(B224=\"\",\"\",IF(Data!$A$1=1,$AH$5,IF(Data!$A$1=2,$AH$5*IF(K224=\"\",1,K224))))","v":""},null,null,"",null,null,""]
[null,"",{"$f":"IFERROR(INDEX(Fechas!$B$7:$U$198,Simulador!B225,Data!$D$3-1),\"\")","v":""},null,{"$f":"IF($J$5=2,IFERROR(INDEX(Fechas!$B$7:$U$198,Simulador!B225,Data!$D$3),\"\"),IF(B225>$U$5,\"\",E224+Data!$E$3))","v":""},null,"","",null,null,null,null,null,"",null,null,"",null,null,"",null,null,"",null,null,{"$f":"IF(B225=\"\",\"\",IF(Data!$A$1=1,$AH$5,IF(Data!$A$1=2,$AH$5*IF(K225=\"\",1,K225))))","v":""},null,null,"",null,null,""]
[null,"",{"$f":"IFERROR(INDEX(Fechas!$B$7:$U$198,Simulador!B226,Data!$D$3-1),\"\")","v":""},null,{"$f":"IF($J$5=2,IFERROR(INDEX(Fechas!$B$7:$U$198,Simulador!B226,Data!$D$3),\"\"),IF(B226>$U$5,\"\",E225+Data!$E$3))","v":""},null,"","",null,null,null,null,null,"",null,null,"",null,null,"",null,null,"",null,null,{"$f":"IF(B226=\"\",\"\",IF(Data!$A$1=1,$AH$5,IF(Data!$A$1=2,$AH$5*IF(K226=\"\",1,K226))))","v":""},null,null,"",null,null,""]
[null,"",{"$f":"IFERROR(INDEX(Fechas!$B$7:$U$198,Simulador!B227,Data!$D$3-1),\"\")","v":""},null,{"$f":"IF($J$5=2,IFERROR(INDEX(Fechas!$B$7:$U$198,Simulador!B227,Data!$D$3),\"\"),IF(B227>$U$5,\"\",E226+Data!$E$3))","v":""},null,"","",null,null,null,null,null,"",null,null,"",null,null,"",null,null,"",null,null,{"$f":"IF(B227=\"\",\"\",IF(Data!$A$1=1,$AH$5,IF(Data!$A$1=2,$AH$5*IF(K227=\"\",1,K227))))","v":""},null,null,"",null,null,""]
[null,"",{"$f":"IFERROR(INDEX(Fechas!$B$7:$U$198,Simulador!B228,Data!$D$3-1),\"\")","v":""},null,{"$f":"IF($J$5=2,IFERROR(INDEX(Fechas!$B$7:$U$198,Simulador!B228,Data!$D$3),\"\"),IF(B228>$U$5,\"\",E227+Data!$E$3))","v":""},null,"","",null,null,null,null,null,"",null,null,"",null,null,"",null,null,"",null,null,{"$f":"IF(B228=\"\",\"\",IF(Data!$A$1=1,$AH$5,IF(Data!$A$1=2,$AH$5*IF(K228=\"\",1,K228))))","v":""},null,null,"",null,null,""]
[null,"",{"$f":"IFERROR(INDEX(Fechas!$B$7:$U$198,Simulador!B229,Data!$D$3-1),\"\")","v":""},null,{"$f":"IF($J$5=2,IFERROR(INDEX(Fechas!$B$7:$U$198,Simulador!B229,Data!$D$3),\"\"),IF(B229>$U$5,\"\",E228+Data!$E$3))","v":""},null,"","",null,null,null,null,null,"",null,null,"",null,null,"",null,null,"",null,null,{"$f":"IF(B229=\"\",\"\",IF(Data!$A$1=1,$AH$5,IF(Data!$A$1=2,$AH$5*IF(K229=\"\",1,K229))))","v":""},null,null,"",null,null,""]
[null,"",{"$f":"IFERROR(INDEX(Fechas!$B$7:$U$198,Simulador!B230,Data!$D$3-1),\"\")","v":""},null,{"$f":"IF($J$5=2,IFERROR(INDEX(Fechas!$B$7:$U$198,Simulador!B230,Data!$D$3),\"\"),IF(B230>$U$5,\"\",E229+Data!$E$3))","v":""},null,"","",null,null,null,null,null,"",null,null,"",null,null,"",null,null,"",null,null,{"$f":"IF(B230=\"\",\"\",IF(Data!$A$1=1,$AH$5,IF(Data!$A$1=2,$AH$5*IF(K230=\"\",1,K230))))","v":""},null,null,"",null,null,""]
[null,"",{"$f":"IFERROR(INDEX(Fechas!$B$7:$U$198,Simulador!B231,Data!$D$3-1),\"\")","v":""},null,{"$f":"IF($J$5=2,IFERROR(INDEX(Fechas!$B$7:$U$198,Simulador!B231,Data!$D$3),\"\"),IF(B231>$U$5,\"\",E230+Data!$E$3))","v":""},null,"","",null,null,null,null,null,"",null,null,"",null,null,"",null,null,"",null,null,{"$f":"IF(B231=\"\",\"\",IF(Data!$A$1=1,$AH$5,IF(Data!$A$1=2,$AH$5*IF(K231=\"\",1,K231))))","v":""},null,null,"",null,null,""]
[null,"",{"$f":"IFERROR(INDEX(Fechas!$B$7:$U$198,Simulador!B232,Data!$D$3-1),\"\")","v":""},null,{"$f":"IF($J$5=2,IFERROR(INDEX(Fechas!$B$7:$U$198,Simulador!B232,Data!$D$3),\"\"),IF(B232>$U$5,\"\",E231+Data!$E$3))","v":""},null,"","",null,null,null,null,null,"",null,null,"",null,null,"",null,null,"",null,null,{"$f":"IF(B232=\"\",\"\",IF(Data!$A$1=1,$AH$5,IF(Data!$A$1=2,$AH$5*IF(K232=\"\",1,K232))))","v":""},null,null,"",null,null,""]
[null,"",{"$f":"IFERROR(INDEX(Fechas!$B$7:$U$198,Simulador!B233,Data!$D$3-1),\"\")","v":""},null,{"$f":"IF($J$5=2,IFERROR(INDEX(Fechas!$B$7:$U$198,Simulador!B233,Data!$D$3),\"\"),IF(B233>$U$5,\"\",E232+Data!$E$3))","v":""},null,"","",null,null,null,null,null,"",null,null,"",null,null,"",null,null,"",null,null,{"$f":"IF(B233=\"\",\"\",IF(Data!$A$1=1,$AH$5,IF(Data!$A$1=2,$AH$5*IF(K233=\"\",1,K233))))","v":""},null,null,"",null,null,""]
[null,"",{"$f":"IFERROR(INDEX(Fechas!$B$7:$U$198,Simulador!B234,Data!$D$3-1),\"\")","v":""},null,{"$f":"IF($J$5=2,IFERROR(INDEX(Fechas!$B$7:$U$198,Simulador!B234,Data!$D$3),\"\"),IF(B234>$U$5,\"\",E233+Data!$E$3))","v":""},null,"","",null,null,null,null,null,"",null,null,"",null,null,"",null,null,"",null,null,{"$f":"IF(B234=\"\",\"\",IF(Data!$A$1=1,$AH$5,IF(Data!$A$1=2,$AH$5*IF(K234=\"\",1,K234))))","v":""},null,null,"",null,null,""]
[null,"",{"$f":"IFERROR(INDEX(Fechas!$B$7:$U$198,Simulador!B235,Data!$D$3-1),\"\")","v":""},null,{"$f":"IF($J$5=2,IFERROR(INDEX(Fechas!$B$7:$U$198,Simulador!B235,Data!$D$3),\"\"),IF(B235>$U$5,\"\",E234+Data!$E$3))","v":""},null,"","",null,null,null,null,null,"",null,null,"",null,null,"",null,null,"",null,null,{"$f":"IF(B235=\"\",\"\",IF(Data!$A$1=1,$AH$5,IF(Data!$A$1=2,$AH$5*IF(K235=\"\",1,K235))))","v":""},null,null,"",null,null,""]
[null,"",{"$f":"IFERROR(INDEX(Fechas!$B$7:$U$198,Simulador!B236,Data!$D$3-1),\"\")","v":""},null,{"$f":"IF($J$5=2,IFERROR(INDEX(Fechas!$B$7:$U$198,Simulador!B236,Data!$D$3),\"\"),IF(B236>$U$5,\"\",E235+Data!$E$3))","v":""},null,"","",null,null,null,null,null,"",null,null,"",null,null,"",null,null,"",null,null,{"$f":"IF(B236=\"\",\"\",IF(Data!$A$1=1,$AH$5,IF(Data!$A$1=2,$AH$5*IF(K236=\"\",1,K236))))","v":""},null,null,"",null,null,""]
[null,"",{"$f":"IFERROR(INDEX(Fechas!$B$7:$U$198,Simulador!B237,Data!$D$3-1),\"\")","v":""},null,{"$f":"IF($J$5=2,IFERROR(INDEX(Fechas!$B$7:$U$198,Simulador!B237,Data!$D$3),\"\"),IF(B237>$U$5,\"\",E236+Data!$E$3))","v":""},null,"","",null,null,null,null,null,"",null,null,"",null,null,"",null,null,"",null,null,{"$f":"IF(B237=\"\",\"\",IF(Data!$A$1=1,$AH$5,IF(Data!$A$1=2,$AH$5*IF(K237=\"\",1,K237))))","v":""},null,null,"",null,null,""]
[null,"",{"$f":"IFERROR(INDEX(Fechas!$B$7:$U$198,Simulador!B238,Data!$D$3-1),\"\")","v":""},null,{"$f":"IF($J$5=2,IFERROR(INDEX(Fechas!$B$7:$U$198,Simulador!B238,Data!$D$3),\"\"),IF(B238>$U$5,\"\",E237+Data!$E$3))","v":""},null,"","",null,null,null,null,null,"",null,null,"",null,null,"",null,null,"",null,null,{"$f":"IF(B238=\"\",\"\",IF(Data!$A$1=1,$AH$5,IF(Data!$A$1=2,$AH$5*IF(K238=\"\",1,K238))))","v":""},null,null,"",null,null,""]
[null,"",{"$f":"IFERROR(INDEX(Fechas!$B$7:$U$198,Simulador!B239,Data!$D$3-1),\"\")","v":""},null,{"$f":"IF($J$5=2,IFERROR(INDEX(Fechas!$B$7:$U$198,Simulador!B239,Data!$D$3),\"\"),IF(B239>$U$5,\"\",E238+Data!$E$3))","v":""},null,"","",null,null,null,null,null,"",null,null,"",null,null,"",null,null,"",null,null,{"$f":"IF(B239=\"\",\"\",IF(Data!$A$1=1,$AH$5,IF(Data!$A$1=2,$AH$5*IF(K239=\"\",1,K239))))","v":""},null,null,"",null,null,""]
[null,"",{"$f":"IFERROR(INDEX(Fechas!$B$7:$U$198,Simulador!B240,Data!$D$3-1),\"\")","v":""},null,{"$f":"IF($J$5=2,IFERROR(INDEX(Fechas!$B$7:$U$198,Simulador!B240,Data!$D$3),\"\"),IF(B240>$U$5,\"\",E239+Data!$E$3))","v":""},null,"","",null,null,null,null,null,"",null,null,"",null,null,"",null,null,"",null,null,{"$f":"IF(B240=\"\",\"\",IF(Data!$A$1=1,$AH$5,IF(Data!$A$1=2,$AH$5*IF(K240=\"\",1,K240))))","v":""},null,null,"",null,null,""]
[null,"",{"$f":"IFERROR(INDEX(Fechas!$B$7:$U$198,Simulador!B241,Data!$D$3-1),\"\")","v":""},null,{"$f":"IF($J$5=2,IFERROR(INDEX(Fechas!$B$7:$U$198,Simulador!B241,Data!$D$3),\"\"),IF(B241>$U$5,\"\",E240+Data!$E$3))","v":""},null,"","",null,null,null,null,null,"",null,null,"",null,null,"",null,null,"",null,null,{"$f":"IF(B241=\"\",\"\",IF(Data!$A$1=1,$AH$5,IF(Data!$A$1=2,$AH$5*IF(K241=\"\",1,K241))))","v":""},null,null,"",null,null,""]
[null,"",{"$f":"IFERROR(INDEX(Fechas!$B$7:$U$198,Simulador!B242,Data!$D$3-1),\"\")","v":""},null,{"$f":"IF($J$5=2,IFERROR(INDEX(Fechas!$B$7:$U$198,Simulador!B242,Data!$D$3),\"\"),IF(B242>$U$5,\"\",E241+Data!$E$3))","v":""},null,"","",null,null,null,null,null,"",null,null,"",null,null,"",null,null,"",null,null,{"$f":"IF(B242=\"\",\"\",IF(Data!$A$1=1,$AH$5,IF(Data!$A$1=2,$AH$5*IF(K242=\"\",1,K242))))","v":""},null,null,"",null,null,""]
[null,"",{"$f":"IFERROR(INDEX(Fechas!$B$7:$U$198,Simulador!B243,Data!$D$3-1),\"\")","v":""},null,{"$f":"IF($J$5=2,IFERROR(INDEX(Fechas!$B$7:$U$198,Simulador!B243,Data!$D$3),\"\"),IF(B243>$U$5,\"\",E242+Data!$E$3))","v":""},null,"","",null,null,null,null,null,"",null,null,"",null,null,"",null,null,"",null,null,{"$f":"IF(B243=\"\",\"\",IF(Data!$A$1=1,$AH$5,IF(Data!$A$1=2,$AH$5*IF(K243=\"\",1,K243))))","v":""},null,null,"",null,null,""]
[null,"",{"$f":"IFERROR(INDEX(Fechas!$B$7:$U$198,Simulador!B244,Data!$D$3-1),\"\")","v":""},null,{"$f":"IF($J$5=2,IFERROR(INDEX(Fechas!$B$7:$U$198,Simulador!B244,Data!$D$3),\"\"),IF(B244>$U$5,\"\",E243+Data!$E$3))","v":""},null,"","",null,null,null,null,null,"",null,null,"",null,null,"",null,null,"",null,null,{"$f":"IF(B244=\"\",\"\",IF(Data!$A$1=1,$AH$5,IF(Data!$A$1=2,$AH$5*IF(K244=\"\",1,K244))))","v":""},null,null,"",null,null,""]
[null,"",{"$f":"IFERROR(INDEX(Fechas!$B$7:$U$198,Simulador!B245,Data!$D$3-1),\"\")","v":""},null,{"$f":"IF($J$5=2,IFERROR(INDEX(Fechas!$B$7:$U$198,Simulador!B245,Data!$D$3),\"\"),IF(B245>$U$5,\"\",E244+Data!$E$3))","v":""},null,"","",null,null,null,null,null,"",null,null,"",null,null,"",null,null,"",null,null,{"$f":"IF(B245=\"\",\"\",IF(Data!$A$1=1,$AH$5,IF(Data!$A$1=2,$AH$5*IF(K245=\"\",1,K245))))","v":""},null,null,"",null,null,""]
[null,"",{"$f":"IFERROR(INDEX(Fechas!$B$7:$U$198,Simulador!B246,Data!$D$3-1),\"\")","v":""},null,{"$f":"IF($J$5=2,IFERROR(INDEX(Fechas!$B$7:$U$198,Simulador!B246,Data!$D$3),\"\"),IF(B246>$U$5,\"\",E245+Data!$E$3))","v":""},null,"","",null,null,null,null,null,"",null,null,"",null,null,{"$f":"IF(AND(B246<>\"\",C246<>0),$E$9*H245,\"\")","v":""},null,null,"",null,null,{"$f":"IF(B246=\"\",\"\",IF(Data!$A$1=1,$AH$5,IF(Data!$A$1=2,$AH$5*IF(K246=\"\",1,K246))))","v":""},null,null,"",null,null,""]
[null,"",{"$f":"IFERROR(INDEX(Fechas!$B$7:$U$198,Simulador!B247,Data!$D$3-1),\"\")","v":""},null,{"$f":"IF($J$5=2,IFERROR(INDEX(Fechas!$B$7:$U$198,Simulador!B247,Data!$D$3),\"\"),IF(B247>$U$5,\"\",E246+Data!$E$3))","v":""},null,"","",null,null,null,null,null,"",null,null,"",null,null,"",null,null,"",null,null,{"$f":"IF(B247=\"\",\"\",IF(Data!$A$1=1,$AH$5,IF(Data!$A$1=2,$AH$5*IF(K247=\"\",1,K247))))","v":""},null,null,"",null,null,""]
[null,"",{"$f":"IFERROR(INDEX(Fechas!$B$7:$U$198,Simulador!B248,Data!$D$3-1),\"\")","v":""},null,{"$f":"IF($J$5=2,IFERROR(INDEX(Fechas!$B$7:$U$198,Simulador!B248,Data!$D$3),\"\"),IF(B248>$U$5,\"\",E247+Data!$E$3))","v":""},null,"","",null,null,null,null,null,"",null,null,"",null,null,"",null,null,"",null,null,{"$f":"IF(B248=\"\",\"\",IF(Data!$A$1=1,$AH$5,IF(Data!$A$1=2,$AH$5*IF(K248=\"\",1,K248))))","v":""},null,null,"",null,null,""]
[null,"",{"$f":"IFERROR(INDEX(Fechas!$B$7:$U$198,Simulador!B249,Data!$D$3-1),\"\")","v":""},null,{"$f":"IF($J$5=2,IFERROR(INDEX(Fechas!$B$7:$U$198,Simulador!B249,Data!$D$3),\"\"),IF(B249>$U$5,\"\",E248+Data!$E$3))","v":""},null,"","",null,null,null,null,null,"",null,null,"",null,null,"",null,null,"",null,null,{"$f":"IF(B249=\"\",\"\",IF(Data!$A$1=1,$AH$5,IF(Data!$A$1=2,$AH$5*IF(K249=\"\",1,K249))))","v":""},null,null,"",null,null,""]
[null,"",{"$f":"IFERROR(INDEX(Fechas!$B$7:$U$198,Simulador!B250,Data!$D$3-1),\"\")","v":""},null,{"$f":"IF($J$5=2,IFERROR(INDEX(Fechas!$B$7:$U$198,Simulador!B250,Data!$D$3),\"\"),IF(B250>$U$5,\"\",E249+Data!$E$3))","v":""},null,"","",null,null,null,null,null,"",null,null,"",null,null,"",null,null,"",null,null,{"$f":"IF(B250=\"\",\"\",IF(Data!$A$1=1,$AH$5,IF(Data!$A$1=2,$AH$5*IF(K250=\"\",1,K250))))","v":""},null,null,"",null,null,""]
[null,"",{"$f":"IFERROR(INDEX(Fechas!$B$7:$U$198,Simulador!B251,Data!$D$3-1),\"\")","v":""},null,{"$f":"IF($J$5=2,IFERROR(INDEX(Fechas!$B$7:$U$198,Simulador!B251,Data!$D$3),\"\"),IF(B251>$U$5,\"\",E250+Data!$E$3))","v":""},null,"","",null,null,null,null,null,"",null,null,"",null,null,"",null,null,"",null,null,{"$f":"IF(B251=\"\",\"\",IF(Data!$A$1=1,$AH$5,IF(Data!$A$1=2,$AH$5*IF(K251=\"\",1,K251))))","v":""},null,null,"",null,null,""]
[null,"",{"$f":"IFERROR(INDEX(Fechas!$B$7:$U$198,Simulador!B252,Data!$D$3-1),\"\")","v":""},null,{"$f":"IF($J$5=2,IFERROR(INDEX(Fechas!$B$7:$U$198,Simulador!B252,Data!$D$3),\"\"),IF(B252>$U$5,\"\",E251+Data!$E$3))","v":""},null,"","",null,null,null,null,null,"",null,null,"",null,null,"",null,null,"",null,null,{"$f":"IF(B252=\"\",\"\",IF(Data!$A$1=1,$AH$5,IF(Data!$A$1=2,$AH$5*IF(K252=\"\",1,K252))))","v":""},null,null,"",null,null,""]
[null,"",{"$f":"IFERROR(INDEX(Fechas!$B$7:$U$198,Simulador!B253,Data!$D$3-1),\"\")","v":""},null,{"$f":"IF($J$5=2,IFERROR(INDEX(Fechas!$B$7:$U$198,Simulador!B253,Data!$D$3),\"\"),IF(B253>$U$5,\"\",E252+Data!$E$3))","v":""},null,"","",null,null,null,null,null,"",null,null,"",null,null,"",null,null,"",null,null,{"$f":"IF(B253=\"\",\"\",IF(Data!$A$1=1,$AH$5,IF(Data!$A$1=2,$AH$5*IF(K253=\"\",1,K253))))","v":""},null,null,"",null,null,""]
[null,"",{"$f":"IFERROR(INDEX(Fechas!$B$7:$U$198,Simulador!B254,Data!$D$3-1),\"\")","v":""},null,{"$f":"IF($J$5=2,IFERROR(INDEX(Fechas!$B$7:$U$198,Simulador!B254,Data!$D$3),\"\"),IF(B254>$U$5,\"\",E253+Data!$E$3))","v":""},null,"","",null,null,null,null,null,"",null,null,"",null,null,"",null,null,"",null,null,{"$f":"IF(B254=\"\",\"\",IF(Data!$A$1=1,$AH$5,IF(Data!$A$1=2,$AH$5*IF(K254=\"\",1,K254))))","v":""},null,null,"",null,null,""]
[null,"",{"$f":"IFERROR(INDEX(Fechas!$B$7:$U$198,Simulador!B255,Data!$D$3-1),\"\")","v":""},null,{"$f":"IF($J$5=2,IFERROR(INDEX(Fechas!$B$7:$U$198,Simulador!B255,Data!$D$3),\"\"),IF(B255>$U$5,\"\",E254+Data!$E$3))","v":""},null,"","",null,null,null,null,null,"",null,null,"",null,null,"",null,null,"",null,null,{"$f":"IF(B255=\"\",\"\",IF(Data!$A$1=1,$AH$5,IF(Data!$A$1=2,$AH$5*IF(K255=\"\",1,K255))))","v":""},null,null,"",null,null,""]
[null,"",{"$f":"IFERROR(INDEX(Fechas!$B$7:$U$198,Simulador!B256,Data!$D$3-1),\"\")","v":""},null,{"$f":"IF($J$5=2,IFERROR(INDEX(Fechas!$B$7:$U$198,Simulador!B256,Data!$D$3),\"\"),IF(B256>$U$5,\"\",E255+Data!$E$3))","v":""},null,"","",null,null,null,null,null,"",null,null,"",null,null,"",null,null,"",null,null,{"$f":"IF(B256=\"\",\"\",IF(Data!$A$1=1,$AH$5,IF(Data!$A$1=2,$AH$5*IF(K256=\"\",1,K256))))","v":""},null,null,"",null,null,""]
[null,"",{"$f":"IFERROR(INDEX(Fechas!$B$7:$U$198,Simulador!B257,Data!$D$3-1),\"\")","v":""},null,{"$f":"IF($J$5=2,IFERROR(INDEX(Fechas!$B$7:$U$198,Simulador!B257,Data!$D$3),\"\"),IF(B257>$U$5,\"\",E256+Data!$E$3))","v":""},null,"","",null,null,null,null,null,"",null,null,"",null,null,"",null,null,"",null,null,{"$f":"IF(B257=\"\",\"\",IF(Data!$A$1=1,$AH$5,IF(Data!$A$1=2,$AH$5*IF(K257=\"\",1,K257))))","v":""},null,null,"",null,null,""]
[null,"",{"$f":"IFERROR(INDEX(Fechas!$B$7:$U$198,Simulador!B258,Data!$D$3-1),\"\")","v":""},null,{"$f":"IF($J$5=2,IFERROR(INDEX(Fechas!$B$7:$U$198,Simulador!B258,Data!$D$3),\"\"),IF(B258>$U$5,\"\",E257+Data!$E$3))","v":""},null,"","",null,null,null,null,null,"",null,null,"",null,null,"",null,null,"",null,null,{"$f":"IF(B258=\"\",\"\",IF(Data!$A$1=1,$AH$5,IF(Data!$A$1=2,$AH$5*IF(K258=\"\",1,K258))))","v":""},null,null,"",null,null,""]
[null,"",{"$f":"IFERROR(INDEX(Fechas!$B$7:$U$198,Simulador!B259,Data!$D$3-1),\"\")","v":""},null,{"$f":"IF($J$5=2,IFERROR(INDEX(Fechas!$B$7:$U$198,Simulador!B259,Data!$D$3),\"\"),IF(B259>$U$5,\"\",E258+Data!$E$3))","v":""},null,"","",null,null,null,null,null,"",null,null,"",null,null,"",null,null,"",null,null,{"$f":"IF(B259=\"\",\"\",IF(Data!$A$1=1,$AH$5,IF(Data!$A$1=2,$AH$5*IF(K259=\"\",1,K259))))","v":""},null,null,"",null,null,""]
[null,"",{"$f":"IFERROR(INDEX(Fechas!$B$7:$U$198,Simulador!B260,Data!$D$3-1),\"\")","v":""},null,{"$f":"IF($J$5=2,IFERROR(INDEX(Fechas!$B$7:$U$198,Simulador!B260,Data!$D$3),\"\"),IF(B260>$U$5,\"\",E259+Data!$E$3))","v":""},null,"","",null,null,null,null,null,"",null,null,"",null,null,"",null,null,"",null,null,{"$f":"IF(B260=\"\",\"\",IF(Data!$A$1=1,$AH$5,IF(Data!$A$1=2,$AH$5*IF(K260=\"\",1,K260))))","v":""},null,null,"",null,null,""]
[null,"",{"$f":"IFERROR(INDEX(Fechas!$B$7:$U$198,Simulador!B261,Data!$D$3-1),\"\")","v":""},null,{"$f":"IF($J$5=2,IFERROR(INDEX(Fechas!$B$7:$U$198,Simulador!B261,Data!$D$3),\"\"),IF(B261>$U$5,\"\",E260+Data!$E$3))","v":""},null,"","",null,null,null,null,null,"",null,null,"",null,null,"",null,null,"",null,null,{"$f":"IF(B261=\"\",\"\",IF(Data!$A$1=1,$AH$5,IF(Data!$A$1=2,$AH$5*IF(K261=\"\",1,K261))))","v":""},null,null,"",null,null,""]
[null,"",{"$f":"IFERROR(INDEX(Fechas!$B$7:$U$198,Simulador!B262,Data!$D$3-1),\"\")","v":""},null,{"$f":"IF($J$5=2,IFERROR(INDEX(Fechas!$B$7:$U$198,Simulador!B262,Data!$D$3),\"\"),IF(B262>$U$5,\"\",E261+Data!$E$3))","v":""},null,"","",null,null,null,null,null,"",null,null,"",null,null,"",null,null,"",null,null,{"$f":"IF(B262=\"\",\"\",IF(Data!$A$1=1,$AH$5,IF(Data!$A$1=2,$AH$5*IF(K262=\"\",1,K262))))","v":""},null,null,"",null,null,""]
[null,"",{"$f":"IFERROR(INDEX(Fechas!$B$7:$U$198,Simulador!B263,Data!$D$3-1),\"\")","v":""},null,{"$f":"IF($J$5=2,IFERROR(INDEX(Fechas!$B$7:$U$198,Simulador!B263,Data!$D$3),\"\"),IF(B263>$U$5,\"\",E262+Data!$E$3))","v":""},null,"","",null,null,null,null,null,"",null,null,"",null,null,"",null,null,"",null,null,{"$f":"IF(B263=\"\",\"\",IF(Data!$A$1=1,$AH$5,IF(Data!$A$1=2,$AH$5*IF(K263=\"\",1,K263))))","v":""},null,null,"",null,null,""]
[null,"",{"$f":"IFERROR(INDEX(Fechas!$B$7:$U$198,Simulador!B264,Data!$D$3-1),\"\")","v":""},null,{"$f":"IF($J$5=2,IFERROR(INDEX(Fechas!$B$7:$U$198,Simulador!B264,Data!$D$3),\"\"),IF(B264>$U$5,\"\",E263+Data!$E$3))","v":""},null,"","",null,null,null,null,null,"",null,null,"",null,null,"",null,null,"",null,null,{"$f":"IF(B264=\"\",\"\",IF(Data!$A$1=1,$AH$5,IF(Data!$A$1=2,$AH$5*IF(K264=\"\",1,K264))))","v":""},null,null,"",null,null,""]
[null,"",{"$f":"IFERROR(INDEX(Fechas!$B$7:$U$198,Simulador!B265,Data!$D$3-1),\"\")","v":""},null,{"$f":"IF($J$5=2,IFERROR(INDEX(Fechas!$B$7:$U$198,Simulador!B265,Data!$D$3),\"\"),IF(B265>$U$5,\"\",E264+Data!$E$3))","v":""},null,"","",null,null,null,null,null,"",null,null,"",null,null,"",null,null,"",null,null,{"$f":"IF(B265=\"\",\"\",IF(Data!$A$1=1,$AH$5,IF(Data!$A$1=2,$AH$5*IF(K265=\"\",1,K265))))","v":""},null,null,"",null,null,""]
[null,"",{"$f":"IFERROR(INDEX(Fechas!$B$7:$U$198,Simulador!B266,Data!$D$3-1),\"\")","v":""},null,{"$f":"IF($J$5=2,IFERROR(INDEX(Fechas!$B$7:$U$198,Simulador!B266,Data!$D$3),\"\"),IF(B266>$U$5,\"\",E265+Data!$E$3))","v":""},null,"","",null,null,null,null,null,"",null,null,"",null,null,"",null,null,"",null,null,{"$f":"IF(B266=\"\",\"\",IF(Data!$A$1=1,$AH$5,IF(Data!$A$1=2,$AH$5*IF(K266=\"\",1,K266))))","v":""},null,null,"",null,null,""]
[null,"",{"$f":"IFERROR(INDEX(Fechas!$B$7:$U$198,Simulador!B267,Data!$D$3-1),\"\")","v":""},null,{"$f":"IF($J$5=2,IFERROR(INDEX(Fechas!$B$7:$U$198,Simulador!B267,Data!$D$3),\"\"),IF(B267>$U$5,\"\",E266+Data!$E$3))","v":""},null,"","",null,null,null,null,null,"",null,null,"",null,null,"",null,null,"",null,null,{"$f":"IF(B267=\"\",\"\",IF(Data!$A$1=1,$AH$5,IF(Data!$A$1=2,$AH$5*IF(K267=\"\",1,K267))))","v":""},null,null,"",null,null,""]
[null,"",{"$f":"IFERROR(INDEX(Fechas!$B$7:$U$198,Simulador!B268,Data!$D$3-1),\"\")","v":""},null,{"$f":"IF($J$5=2,IFERROR(INDEX(Fechas!$B$7:$U$198,Simulador!B268,Data!$D$3),\"\"),IF(B268>$U$5,\"\",E267+Data!$E$3))","v":""},null,"","",null,null,null,null,null,"",null,null,"",null,null,"",null,null,"",null,null,{"$f":"IF(B268=\"\",\"\",IF(Data!$A$1=1,$AH$5,IF(Data!$A$1=2,$AH$5*IF(K268=\"\",1,K268))))","v":""},null,null,"",null,null,""]
[null,"",{"$f":"IFERROR(INDEX(Fechas!$B$7:$U$198,Simulador!B269,Data!$D$3-1),\"\")","v":""},null,{"$f":"IF($J$5=2,IFERROR(INDEX(Fechas!$B$7:$U$198,Simulador!B269,Data!$D$3),\"\"),IF(B269>$U$5,\"\",E268+Data!$E$3))","v":""},null,"","",null,null,null,null,null,"",null,null,"",null,null,"",null,null,"",null,null,{"$f":"IF(B269=\"\",\"\",IF(Data!$A$1=1,$AH$5,IF(Data!$A$1=2,$AH$5*IF(K269=\"\",1,K269))))","v":""},null,null,"",null,null,""]
[null,"",{"$f":"IFERROR(INDEX(Fechas!$B$7:$U$198,Simulador!B270,Data!$D$3-1),\"\")","v":""},null,{"$f":"IF($J$5=2,IFERROR(INDEX(Fechas!$B$7:$U$198,Simulador!B270,Data!$D$3),\"\"),IF(B270>$U$5,\"\",E269+Data!$E$3))","v":""},null,"","",null,null,null,null,null,"",null,null,"",null,null,"",null,null,"",null,null,{"$f":"IF(B270=\"\",\"\",IF(Data!$A$1=1,$AH$5,IF(Data!$A$1=2,$AH$5*IF(K270=\"\",1,K270))))","v":""},null,null,"",null,null,""]
[null,"",{"$f":"IFERROR(INDEX(Fechas!$B$7:$U$198,Simulador!B271,Data!$D$3-1),\"\")","v":""},null,{"$f":"IF($J$5=2,IFERROR(INDEX(Fechas!$B$7:$U$198,Simulador!B271,Data!$D$3),\"\"),IF(B271>$U$5,\"\",E270+Data!$E$3))","v":""},null,"","",null,null,null,null,null,"",null,null,"",null,null,"",null,null,"",null,null,{"$f":"IF(B271=\"\",\"\",IF(Data!$A$1=1,$AH$5,IF(Data!$A$1=2,$AH$5*IF(K271=\"\",1,K271))))","v":""},null,null,"",null,null,""]
[null,"",{"$f":"IFERROR(INDEX(Fechas!$B$7:$U$198,Simulador!B272,Data!$D$3-1),\"\")","v":""},null,{"$f":"IF($J$5=2,IFERROR(INDEX(Fechas!$B$7:$U$198,Simulador!B272,Data!$D$3),\"\"),IF(B272>$U$5,\"\",E271+Data!$E$3))","v":""},null,"","",null,null,null,null,null,"",null,null,"",null,null,"",null,null,"",null,null,{"$f":"IF(B272=\"\",\"\",IF(Data!$A$1=1,$AH$5,IF(Data!$A$1=2,$AH$5*IF(K272=\"\",1,K272))))","v":""},null,null,"",null,null,""]
[null,"",{"$f":"IFERROR(INDEX(Fechas!$B$7:$U$198,Simulador!B273,Data!$D$3-1),\"\")","v":""},null,{"$f":"IF($J$5=2,IFERROR(INDEX(Fechas!$B$7:$U$198,Simulador!B273,Data!$D$3),\"\"),IF(B273>$U$5,\"\",E272+Data!$E$3))","v":""},null,"","",null,null,null,null,null,"",null,null,"",null,null,"",null,null,"",null,null,{"$f":"IF(B273=\"\",\"\",IF(Data!$A$1=1,$AH$5,IF(Data!$A$1=2,$AH$5*IF(K273=\"\",1,K273))))","v":""},null,null,"",null,null,""]
[null,"",{"$f":"IFERROR(INDEX(Fechas!$B$7:$U$198,Simulador!B274,Data!$D$3-1),\"\")","v":""},null,{"$f":"IF($J$5=2,IFERROR(INDEX(Fechas!$B$7:$U$198,Simulador!B274,Data!$D$3),\"\"),IF(B274>$U$5,\"\",E273+Data!$E$3))","v":""},null,"","",null,null,null,null,null,"",null,null,"",null,null,"",null,null,"",null,null,{"$f":"IF(B274=\"\",\"\",IF(Data!$A$1=1,$AH$5,IF(Data!$A$1=2,$AH$5*IF(K274=\"\",1,K274))))","v":""},null,null,"",null,null,""]
[null,"",{"$f":"IFERROR(INDEX(Fechas!$B$7:$U$198,Simulador!B275,Data!$D$3-1),\"\")","v":""},null,{"$f":"IF($J$5=2,IFERROR(INDEX(Fechas!$B$7:$U$198,Simulador!B275,Data!$D$3),\"\"),IF(B275>$U$5,\"\",E274+Data!$E$3))","v":""},null,"","",null,null,null,null,null,"",null,null,"",null,null,"",null,null,"",null,null,{"$f":"IF(B275=\"\",\"\",IF(Data!$A$1=1,$AH$5,IF(Data!$A$1=2,$AH$5*IF(K275=\"\",1,K275))))","v":""},null,null,"",null,null,""]
[null,{"$f":"IF(ROW(B276)-19>$U$5,\"\",ROW(B276)-19)","v":""},{"$f":"IFERROR(INDEX(Fechas!$B$7:$U$198,Simulador!B276,Data!$D$3-1),\"\")","v":""},null,{"$f":"IF($J$5=2,IFERROR(INDEX(Fechas!$B$7:$U$198,Simulador!B276,Data!$D$3),\"\"),IF(B276>$U$5,\"\",E275+Data!$E$3))","v":""},null,{"$f":"IF(B276=\"\",\"\",E276-E275)","v":""},{"$f":"IF(B276=\"\",\"\",H275-N276)","v":""},null,null,null,null,null,{"$f":"IF(B276=\"\",\"\",Z276-SUM(Q276:Y276))","v":""},null,null,{"$f":"IF(B276=\"\",\"\",IF(B275<=$U$5-1,H275*(((1+$N$9)^(G276/360))-1),1/0))","v":""},null,null,{"$f":"IF(AND(B276<>\"\",C276<>0),$E$9*H275,\"\")","v":""},null,null,{"$f":"IF(B276=\"\",\"\",$E$10)","v":""},null,null,{"$f":"IF(B276=\"\",\"\",IF(Data!$A$1=1,$AH$5,IF(Data!$A$1=2,$AH$5*IF(K276=\"\",1,K276))))","v":""},null,null,{"$f":"IF(B276=\"\",\"\",Z276*$E$11)","v":""},null,null,{"$f":"IF(B276=\"\",\"\",Z276+AC276)","v":""}]
[null,"",{"$f":"IFERROR(INDEX(Fechas!$B$7:$U$198,Simulador!B277,Data!$D$3-1),\"\")","v":""},null,{"$f":"IF($J$5=2,IFERROR(INDEX(Fechas!$B$7:$U$198,Simulador!B277,Data!$D$3),\"\"),IF(B277>$U$5,\"\",E276+Data!$E$3))","v":""},null,"","",null,null,null,null,null,"",null,null,"",null,null,"",null,null,"",null,null,{"$f":"IF(B277=\"\",\"\",IF(Data!$A$1=1,$AH$5,IF(Data!$A$1=2,$AH$5*IF(K277=\"\",1,K277))))","v":""},null,null,"",null,null,""]
[null,"",{"$f":"IFERROR(INDEX(Fechas!$B$7:$U$198,Simulador!B278,Data!$D$3-1),\"\")","v":""},null,{"$f":"IF($J$5=2,IFERROR(INDEX(Fechas!$B$7:$U$198,Simulador!B278,Data!$D$3),\"\"),IF(B278>$U$5,\"\",E277+Data!$E$3))","v":""},null,"","",null,null,null,null,null,"",null,null,"",null,null,"",null,null,"",null,null,{"$f":"IF(B278=\"\",\"\",IF(Data!$A$1=1,$AH$5,IF(Data!$A$1=2,$AH$5*IF(K278=\"\",1,K278))))","v":""},null,null,"",null,null,""]
[null,"",{"$f":"IFERROR(INDEX(Fechas!$B$7:$U$198,Simulador!B279,Data!$D$3-1),\"\")","v":""},null,{"$f":"IF($J$5=2,IFERROR(INDEX(Fechas!$B$7:$U$198,Simulador!B279,Data!$D$3),\"\"),IF(B279>$U$5,\"\",E278+Data!$E$3))","v":""},null,"","",null,null,null,null,null,"",null,null,"",null,null,"",null,null,"",null,null,{"$f":"IF(B279=\"\",\"\",IF(Data!$A$1=1,$AH$5,IF(Data!$A$1=2,$AH$5*IF(K279=\"\",1,K279))))","v":""},null,null,"",null,null,""]
[null,"",{"$f":"IFERROR(INDEX(Fechas!$B$7:$U$198,Simulador!B280,Data!$D$3-1),\"\")","v":""},null,{"$f":"IF($J$5=2,IFERROR(INDEX(Fechas!$B$7:$U$198,Simulador!B280,Data!$D$3),\"\"),IF(B280>$U$5,\"\",E279+Data!$E$3))","v":""},null,"","",null,null,null,null,null,"",null,null,"",null,null,"",null,null,"",null,null,{"$f":"IF(B280=\"\",\"\",IF(Data!$A$1=1,$AH$5,IF(Data!$A$1=2,$AH$5*IF(K280=\"\",1,K280))))","v":""},null,null,"",null,null,""]
[null,"",{"$f":"IFERROR(INDEX(Fechas!$B$7:$U$198,Simulador!B281,Data!$D$3-1),\"\")","v":""},null,{"$f":"IF($J$5=2,IFERROR(INDEX(Fechas!$B$7:$U$198,Simulador!B281,Data!$D$3),\"\"),IF(B281>$U$5,\"\",E280+Data!$E$3))","v":""},null,"","",null,null,null,null,null,"",null,null,"",null,null,"",null,null,"",null,null,{"$f":"IF(B281=\"\",\"\",IF(Data!$A$1=1,$AH$5,IF(Data!$A$1=2,$AH$5*IF(K281=\"\",1,K281))))","v":""},null,null,"",null,null,""]
[null,"",{"$f":"IFERROR(INDEX(Fechas!$B$7:$U$198,Simulador!B282,Data!$D$3-1),\"\")","v":""},null,{"$f":"IF($J$5=2,IFERROR(INDEX(Fechas!$B$7:$U$198,Simulador!B282,Data!$D$3),\"\"),IF(B282>$U$5,\"\",E281+Data!$E$3))","v":""},null,"","",null,null,null,null,null,"",null,null,"",null,null,"",null,null,"",null,null,{"$f":"IF(B282=\"\",\"\",IF(Data!$A$1=1,$AH$5,IF(Data!$A$1=2,$AH$5*IF(K282=\"\",1,K282))))","v":""},null,null,"",null,null,""]
[null,"",{"$f":"IFERROR(INDEX(Fechas!$B$7:$U$198,Simulador!B283,Data!$D$3-1),\"\")","v":""},null,{"$f":"IF($J$5=2,IFERROR(INDEX(Fechas!$B$7:$U$198,Simulador!B283,Data!$D$3),\"\"),IF(B283>$U$5,\"\",E282+Data!$E$3))","v":""},null,"","",null,null,null,null,null,"",null,null,"",null,null,"",null,null,"",null,null,{"$f":"IF(B283=\"\",\"\",IF(Data!$A$1=1,$AH$5,IF(Data!$A$1=2,$AH$5*IF(K283=\"\",1,K283))))","v":""},null,null,"",null,null,""]
[null,"",{"$f":"IFERROR(INDEX(Fechas!$B$7:$U$198,Simulador!B284,Data!$D$3-1),\"\")","v":""},null,{"$f":"IF($J$5=2,IFERROR(INDEX(Fechas!$B$7:$U$198,Simulador!B284,Data!$D$3),\"\"),IF(B284>$U$5,\"\",E283+Data!$E$3))","v":""},null,"","",null,null,null,null,null,"",null,null,"",null,null,"",null,null,"",null,null,{"$f":"IF(B284=\"\",\"\",IF(Data!$A$1=1,$AH$5,IF(Data!$A$1=2,$AH$5*IF(K284=\"\",1,K284))))","v":""},null,null,"",null,null,""]
[null,"",{"$f":"IFERROR(INDEX(Fechas!$B$7:$U$198,Simulador!B285,Data!$D$3-1),\"\")","v":""},null,{"$f":"IF($J$5=2,IFERROR(INDEX(Fechas!$B$7:$U$198,Simulador!B285,Data!$D$3),\"\"),IF(B285>$U$5,\"\",E284+Data!$E$3))","v":""},null,"","",null,null,null,null,null,"",null,null,"",null,null,"",null,null,"",null,null,{"$f":"IF(B285=\"\",\"\",IF(Data!$A$1=1,$AH$5,IF(Data!$A$1=2,$AH$5*IF(K285=\"\",1,K285))))","v":""},null,null,"",null,null,""]
[null,"",{"$f":"IFERROR(INDEX(Fechas!$B$7:$U$198,Simulador!B286,Data!$D$3-1),\"\")","v":""},null,{"$f":"IF($J$5=2,IFERROR(INDEX(Fechas!$B$7:$U$198,Simulador!B286,Data!$D$3),\"\"),IF(B286>$U$5,\"\",E285+Data!$E$3))","v":""},null,"","",null,null,null,null,null,"",null,null,"",null,null,"",null,null,"",null,null,{"$f":"IF(B286=\"\",\"\",IF(Data!$A$1=1,$AH$5,IF(Data!$A$1=2,$AH$5*IF(K286=\"\",1,K286))))","v":""},null,null,"",null,null,""]
[null,"",{"$f":"IFERROR(INDEX(Fechas!$B$7:$U$198,Simulador!B287,Data!$D$3-1),\"\")","v":""},null,{"$f":"IF($J$5=2,IFERROR(INDEX(Fechas!$B$7:$U$198,Simulador!B287,Data!$D$3),\"\"),IF(B287>$U$5,\"\",E286+Data!$E$3))","v":""},null,"","",null,null,null,null,null,"",null,null,"",null,null,"",null,null,"",null,null,{"$f":"IF(B287=\"\",\"\",IF(Data!$A$1=1,$AH$5,IF(Data!$A$1=2,$AH$5*IF(K287=\"\",1,K287))))","v":""},null,null,"",null,null,""]
[null,"",{"$f":"IFERROR(INDEX(Fechas!$B$7:$U$198,Simulador!B288,Data!$D$3-1),\"\")","v":""},null,{"$f":"IF($J$5=2,IFERROR(INDEX(Fechas!$B$7:$U$198,Simulador!B288,Data!$D$3),\"\"),IF(B288>$U$5,\"\",E287+Data!$E$3))","v":""},null,"","",null,null,null,null,null,"",null,null,"",null,null,"",null,null,"",null,null,{"$f":"IF(B288=\"\",\"\",IF(Data!$A$1=1,$AH$5,IF(Data!$A$1=2,$AH$5*IF(K288=\"\",1,K288))))","v":""},null,null,"",null,null,""]
[null,"",{"$f":"IFERROR(INDEX(Fechas!$B$7:$U$198,Simulador!B289,Data!$D$3-1),\"\")","v":""},null,{"$f":"IF($J$5=2,IFERROR(INDEX(Fechas!$B$7:$U$198,Simulador!B289,Data!$D$3),\"\"),IF(B289>$U$5,\"\",E288+Data!$E$3))","v":""},null,"","",null,null,null,null,null,"",null,null,"",null,null,"",null,null,"",null,null,{"$f":"IF(B289=\"\",\"\",IF(Data!$A$1=1,$AH$5,IF(Data!$A$1=2,$AH$5*IF(K289=\"\",1,K289))))","v":""},null,null,"",null,null,""]
[null,"",{"$f":"IFERROR(INDEX(Fechas!$B$7:$U$198,Simulador!B290,Data!$D$3-1),\"\")","v":""},null,{"$f":"IF($J$5=2,IFERROR(INDEX(Fechas!$B$7:$U$198,Simulador!B290,Data!$D$3),\"\"),IF(B290>$U$5,\"\",E289+Data!$E$3))","v":""},null,"","",null,null,null,null,null,"",null,null,"",null,null,"",null,null,"",null,null,{"$f":"IF(B290=\"\",\"\",IF(Data!$A$1=1,$AH$5,IF(Data!$A$1=2,$AH$5*IF(K290=\"\",1,K290))))","v":""},null,null,"",null,null,""]
[null,"",{"$f":"IFERROR(INDEX(Fechas!$B$7:$U$198,Simulador!B291,Data!$D$3-1),\"\")","v":""},null,{"$f":"IF($J$5=2,IFERROR(INDEX(Fechas!$B$7:$U$198,Simulador!B291,Data!$D$3),\"\"),IF(B291>$U$5,\"\",E290+Data!$E$3))","v":""},null,"","",null,null,null,null,null,"",null,null,"",null,null,"",null,null,"",null,null,{"$f":"IF(B291=\"\",\"\",IF(Data!$A$1=1,$AH$5,IF(Data!$A$1=2,$AH$5*IF(K291=\"\",1,K291))))","v":""},null,null,"",null,null,""]
[null,"",{"$f":"IFERROR(INDEX(Fechas!$B$7:$U$198,Simulador!B292,Data!$D$3-1),\"\")","v":""},null,{"$f":"IF($J$5=2,IFERROR(INDEX(Fechas!$B$7:$U$198,Simulador!B292,Data!$D$3),\"\"),IF(B292>$U$5,\"\",E291+Data!$E$3))","v":""},null,"","",null,null,null,null,null,"",null,null,"",null,null,"",null,null,"",null,null,{"$f":"IF(B292=\"\",\"\",IF(Data!$A$1=1,$AH$5,IF(Data!$A$1=2,$AH$5*IF(K292=\"\",1,K292))))","v":""},null,null,"",null,null,""]
[null,"",{"$f":"IFERROR(INDEX(Fechas!$B$7:$U$198,Simulador!B293,Data!$D$3-1),\"\")","v":""},null,{"$f":"IF($J$5=2,IFERROR(INDEX(Fechas!$B$7:$U$198,Simulador!B293,Data!$D$3),\"\"),IF(B293>$U$5,\"\",E292+Data!$E$3))","v":""},null,"","",null,null,null,null,null,"",null,null,"",null,null,"",null,null,"",null,null,{"$f":"IF(B293=\"\",\"\",IF(Data!$A$1=1,$AH$5,IF(Data!$A$1=2,$AH$5*IF(K293=\"\",1,K293))))","v":""},null,null,"",null,null,""]
[null,"",{"$f":"IFERROR(INDEX(Fechas!$B$7:$U$198,Simulador!B294,Data!$D$3-1),\"\")","v":""},null,{"$f":"IF($J$5=2,IFERROR(INDEX(Fechas!$B$7:$U$198,Simulador!B294,Data!$D$3),\"\"),IF(B294>$U$5,\"\",E293+Data!$E$3))","v":""},null,"","",null,null,null,null,null,"",null,null,"",null,null,"",null,null,"",null,null,{"$f":"IF(B294=\"\",\"\",IF(Data!$A$1=1,$AH$5,IF(Data!$A$1=2,$AH$5*IF(K294=\"\",1,K294))))","v":""},null,null,"",null,null,""]
[null,"",{"$f":"IFERROR(INDEX(Fechas!$B$7:$U$198,Simulador!B295,Data!$D$3-1),\"\")","v":""},null,{"$f":"IF($J$5=2,IFERROR(INDEX(Fechas!$B$7:$U$198,Simulador!B295,Data!$D$3),\"\"),IF(B295>$U$5,\"\",E294+Data!$E$3))","v":""},null,"","",null,null,null,null,null,"",null,null,"",null,null,"",null,null,"",null,null,{"$f":"IF(B295=\"\",\"\",IF(Data!$A$1=1,$AH$5,IF(Data!$A$1=2,$AH$5*IF(K295=\"\",1,K295))))","v":""},null,null,"",null,null,""]
[null,"",{"$f":"IFERROR(INDEX(Fechas!$B$7:$U$198,Simulador!B296,Data!$D$3-1),\"\")","v":""},null,{"$f":"IF($J$5=2,IFERROR(INDEX(Fechas!$B$7:$U$198,Simulador!B296,Data!$D$3),\"\"),IF(B296>$U$5,\"\",E295+Data!$E$3))","v":""},null,"","",null,null,null,null,null,"",null,null,"",null,null,"",null,null,"",null,null,{"$f":"IF(B296=\"\",\"\",IF(Data!$A$1=1,$AH$5,IF(Data!$A$1=2,$AH$5*IF(K296=\"\",1,K296))))","v":""},null,null,"",null,null,""]
[null,"",{"$f":"IFERROR(INDEX(Fechas!$B$7:$U$198,Simulador!B297,Data!$D$3-1),\"\")","v":""},null,{"$f":"IF($J$5=2,IFERROR(INDEX(Fechas!$B$7:$U$198,Simulador!B297,Data!$D$3),\"\"),IF(B297>$U$5,\"\",E296+Data!$E$3))","v":""},null,"","",null,null,null,null,null,"",null,null,"",null,null,"",null,null,"",null,null,{"$f":"IF(B297=\"\",\"\",IF(Data!$A$1=1,$AH$5,IF(Data!$A$1=2,$AH$5*IF(K297=\"\",1,K297))))","v":""},null,null,"",null,null,""]
[null,"",{"$f":"IFERROR(INDEX(Fechas!$B$7:$U$198,Simulador!B298,Data!$D$3-1),\"\")","v":""},null,{"$f":"IF($J$5=2,IFERROR(INDEX(Fechas!$B$7:$U$198,Simulador!B298,Data!$D$3),\"\"),IF(B298>$U$5,\"\",E297+Data!$E$3))","v":""},null,"","",null,null,null,null,null,"",null,null,"",null,null,"",null,null,"",null,null,{"$f":"IF(B298=\"\",\"\",IF(Data!$A$1=1,$AH$5,IF(Data!$A$1=2,$AH$5*IF(K298=\"\",1,K298))))","v":""},null,null,"",null,null,""]
[null,"",{"$f":"IFERROR(INDEX(Fechas!$B$7:$U$198,Simulador!B299,Data!$D$3-1),\"\")","v":""},null,{"$f":"IF($J$5=2,IFERROR(INDEX(Fechas!$B$7:$U$198,Simulador!B299,Data!$D$3),\"\"),IF(B299>$U$5,\"\",E298+Data!$E$3))","v":""},null,"","",null,null,null,null,null,"",null,null,"",null,null,"",null,null,"",null,null,{"$f":"IF(B299=\"\",\"\",IF(Data!$A$1=1,$AH$5,IF(Data!$A$1=2,$AH$5*IF(K299=\"\",1,K299))))","v":""},null,null,"",null,null,""]
[null,"",{"$f":"IFERROR(INDEX(Fechas!$B$7:$U$198,Simulador!B300,Data!$D$3-1),\"\")","v":""},null,{"$f":"IF($J$5=2,IFERROR(INDEX(Fechas!$B$7:$U$198,Simulador!B300,Data!$D$3),\"\"),IF(B300>$U$5,\"\",E299+Data!$E$3))","v":""},null,"","",null,null,null,null,null,"",null,null,"",null,null,"",null,null,"",null,null,{"$f":"IF(B300=\"\",\"\",IF(Data!$A$1=1,$AH$5,IF(Data!$A$1=2,$AH$5*IF(K300=\"\",1,K300))))","v":""},null,null,"",null,null,""]
[null,"",{"$f":"IFERROR(INDEX(Fechas!$B$7:$U$198,Simulador!B301,Data!$D$3-1),\"\")","v":""},null,{"$f":"IF($J$5=2,IFERROR(INDEX(Fechas!$B$7:$U$198,Simulador!B301,Data!$D$3),\"\"),IF(B301>$U$5,\"\",E300+Data!$E$3))","v":""},null,"","",null,null,null,null,null,"",null,null,"",null,null,"",null,null,"",null,null,{"$f":"IF(B301=\"\",\"\",IF(Data!$A$1=1,$AH$5,IF(Data!$A$1=2,$AH$5*IF(K301=\"\",1,K301))))","v":""},null,null,"",null,null,""]
[null,"",{"$f":"IFERROR(INDEX(Fechas!$B$7:$U$198,Simulador!B302,Data!$D$3-1),\"\")","v":""},null,{"$f":"IF($J$5=2,IFERROR(INDEX(Fechas!$B$7:$U$198,Simulador!B302,Data!$D$3),\"\"),IF(B302>$U$5,\"\",E301+Data!$E$3))","v":""},null,"","",null,null,null,null,null,"",null,null,"",null,null,"",null,null,"",null,null,{"$f":"IF(B302=\"\",\"\",IF(Data!$A$1=1,$AH$5,IF(Data!$A$1=2,$AH$5*IF(K302=\"\",1,K302))))","v":""},null,null,"",null,null,""]
[null,"",{"$f":"IFERROR(INDEX(Fechas!$B$7:$U$198,Simulador!B303,Data!$D$3-1),\"\")","v":""},null,{"$f":"IF($J$5=2,IFERROR(INDEX(Fechas!$B$7:$U$198,Simulador!B303,Data!$D$3),\"\"),IF(B303>$U$5,\"\",E302+Data!$E$3))","v":""},null,"","",null,null,null,null,null,"",null,null,"",null,null,"",null,null,"",null,null,{"$f":"IF(B303=\"\",\"\",IF(Data!$A$1=1,$AH$5,IF(Data!$A$1=2,$AH$5*IF(K303=\"\",1,K303))))","v":""},null,null,"",null,null,""]
[null,"",{"$f":"IFERROR(INDEX(Fechas!$B$7:$U$198,Simulador!B304,Data!$D$3-1),\"\")","v":""},null,{"$f":"IF($J$5=2,IFERROR(INDEX(Fechas!$B$7:$U$198,Simulador!B304,Data!$D$3),\"\"),IF(B304>$U$5,\"\",E303+Data!$E$3))","v":""},null,"","",null,null,null,null,null,"",null,null,"",null,null,"",null,null,"",null,null,{"$f":"IF(B304=\"\",\"\",IF(Data!$A$1=1,$AH$5,IF(Data!$A$1=2,$AH$5*IF(K304=\"\",1,K304))))","v":""},null,null,"",null,null,""]
[null,"",{"$f":"IFERROR(INDEX(Fechas!$B$7:$U$198,Simulador!B305,Data!$D$3-1),\"\")","v":""},null,{"$f":"IF($J$5=2,IFERROR(INDEX(Fechas!$B$7:$U$198,Simulador!B305,Data!$D$3),\"\"),IF(B305>$U$5,\"\",E304+Data!$E$3))","v":""},null,"","",null,null,null,null,null,"",null,null,"",null,null,"",null,null,"",null,null,{"$f":"IF(B305=\"\",\"\",IF(Data!$A$1=1,$AH$5,IF(Data!$A$1=2,$AH$5*IF(K305=\"\",1,K305))))","v":""},null,null,"",null,null,""]
[null,"",{"$f":"IFERROR(INDEX(Fechas!$B$7:$U$198,Simulador!B306,Data!$D$3-1),\"\")","v":""},null,{"$f":"IF($J$5=2,IFERROR(INDEX(Fechas!$B$7:$U$198,Simulador!B306,Data!$D$3),\"\"),IF(B306>$U$5,\"\",E305+Data!$E$3))","v":""},null,"","",null,null,null,null,null,"",null,null,"",null,null,"",null,null,"",null,null,{"$f":"IF(B306=\"\",\"\",IF(Data!$A$1=1,$AH$5,IF(Data!$A$1=2,$AH$5*IF(K306=\"\",1,K306))))","v":""},null,null,"",null,null,""]
[null,"",{"$f":"IFERROR(INDEX(Fechas!$B$7:$U$198,Simulador!B307,Data!$D$3-1),\"\")","v":""},null,{"$f":"IF($J$5=2,IFERROR(INDEX(Fechas!$B$7:$U$198,Simulador!B307,Data!$D$3),\"\"),IF(B307>$U$5,\"\",E306+Data!$E$3))","v":""},null,"","",null,null,null,null,null,"",null,null,"",null,null,"",null,null,"",null,null,{"$f":"IF(B307=\"\",\"\",IF(Data!$A$1=1,$AH$5,IF(Data!$A$1=2,$AH$5*IF(K307=\"\",1,K307))))","v":""},null,null,"",null,null,""]
[null,"",{"$f":"IFERROR(INDEX(Fechas!$B$7:$U$198,Simulador!B308,Data!$D$3-1),\"\")","v":""},null,{"$f":"IF($J$5=2,IFERROR(INDEX(Fechas!$B$7:$U$198,Simulador!B308,Data!$D$3),\"\"),IF(B308>$U$5,\"\",E307+Data!$E$3))","v":""},null,"","",null,null,null,null,null,"",null,null,"",null,null,"",null,null,"",null,null,{"$f":"IF(B308=\"\",\"\",IF(Data!$A$1=1,$AH$5,IF(Data!$A$1=2,$AH$5*IF(K308=\"\",1,K308))))","v":""},null,null,"",null,null,""]
[null,"",{"$f":"IFERROR(INDEX(Fechas!$B$7:$U$198,Simulador!B309,Data!$D$3-1),\"\")","v":""},null,{"$f":"IF($J$5=2,IFERROR(INDEX(Fechas!$B$7:$U$198,Simulador!B309,Data!$D$3),\"\"),IF(B309>$U$5,\"\",E308+Data!$E$3))","v":""},null,"","",null,null,null,null,null,"",null,null,"",null,null,"",null,null,"",null,null,{"$f":"IF(B309=\"\",\"\",IF(Data!$A$1=1,$AH$5,IF(Data!$A$1=2,$AH$5*IF(K309=\"\",1,K309))))","v":""},null,null,"",null,null,""]
[null,"",{"$f":"IFERROR(INDEX(Fechas!$B$7:$U$198,Simulador!B310,Data!$D$3-1),\"\")","v":""},null,{"$f":"IF($J$5=2,IFERROR(INDEX(Fechas!$B$7:$U$198,Simulador!B310,Data!$D$3),\"\"),IF(B310>$U$5,\"\",E309+Data!$E$3))","v":""},null,"","",null,null,null,null,null,"",null,null,"",null,null,"",null,null,"",null,null,{"$f":"IF(B310=\"\",\"\",IF(Data!$A$1=1,$AH$5,IF(Data!$A$1=2,$AH$5*IF(K310=\"\",1,K310))))","v":""},null,null,"",null,null,""]
[null,"",{"$f":"IFERROR(INDEX(Fechas!$B$7:$U$198,Simulador!B311,Data!$D$3-1),\"\")","v":""},null,{"$f":"IF($J$5=2,IFERROR(INDEX(Fechas!$B$7:$U$198,Simulador!B311,Data!$D$3),\"\"),IF(B311>$U$5,\"\",E310+Data!$E$3))","v":""},null,"","",null,null,null,null,null,"",null,null,"",null,null,"",null,null,"",null,null,{"$f":"IF(B311=\"\",\"\",IF(Data!$A$1=1,$AH$5,IF(Data!$A$1=2,$AH$5*IF(K311=\"\",1,K311))))","v":""},null,null,"",null,null,""]
[null,"",{"$f":"IFERROR(INDEX(Fechas!$B$7:$U$198,Simulador!B312,Data!$D$3-1),\"\")","v":""},null,{"$f":"IF($J$5=2,IFERROR(INDEX(Fechas!$B$7:$U$198,Simulador!B312,Data!$D$3),\"\"),IF(B312>$U$5,\"\",E311+Data!$E$3))","v":""},null,"","",null,null,null,null,null,"",null,null,"",null,null,"",null,null,"",null,null,{"$f":"IF(B312=\"\",\"\",IF(Data!$A$1=1,$AH$5,IF(Data!$A$1=2,$AH$5*IF(K312=\"\",1,K312))))","v":""},null,null,"",null,null,""]
[null,"",{"$f":"IFERROR(INDEX(Fechas!$B$7:$U$198,Simulador!B313,Data!$D$3-1),\"\")","v":""},null,{"$f":"IF($J$5=2,IFERROR(INDEX(Fechas!$B$7:$U$198,Simulador!B313,Data!$D$3),\"\"),IF(B313>$U$5,\"\",E312+Data!$E$3))","v":""},null,"","",null,null,null,null,null,"",null,null,"",null,null,"",null,null,"",null,null,{"$f":"IF(B313=\"\",\"\",IF(Data!$A$1=1,$AH$5,IF(Data!$A$1=2,$AH$5*IF(K313=\"\",1,K313))))","v":""},null,null,"",null,null,""]
[null,"",{"$f":"IFERROR(INDEX(Fechas!$B$7:$U$198,Simulador!B314,Data!$D$3-1),\"\")","v":""},null,{"$f":"IF($J$5=2,IFERROR(INDEX(Fechas!$B$7:$U$198,Simulador!B314,Data!$D$3),\"\"),IF(B314>$U$5,\"\",E313+Data!$E$3))","v":""},null,"","",null,null,null,null,null,"",null,null,"",null,null,"",null,null,"",null,null,{"$f":"IF(B314=\"\",\"\",IF(Data!$A$1=1,$AH$5,IF(Data!$A$1=2,$AH$5*IF(K314=\"\",1,K314))))","v":""},null,null,"",null,null,""]
[null,"",{"$f":"IFERROR(INDEX(Fechas!$B$7:$U$198,Simulador!B315,Data!$D$3-1),\"\")","v":""},null,{"$f":"IF($J$5=2,IFERROR(INDEX(Fechas!$B$7:$U$198,Simulador!B315,Data!$D$3),\"\"),IF(B315>$U$5,\"\",E314+Data!$E$3))","v":""},null,"","",null,null,null,null,null,"",null,null,"",null,null,"",null,null,"",null,null,{"$f":"IF(B315=\"\",\"\",IF(Data!$A$1=1,$AH$5,IF(Data!$A$1=2,$AH$5*IF(K315=\"\",1,K315))))","v":""},null,null,"",null,null,""]
[null,"",{"$f":"IFERROR(INDEX(Fechas!$B$7:$U$198,Simulador!B316,Data!$D$3-1),\"\")","v":""},null,{"$f":"IF($J$5=2,IFERROR(INDEX(Fechas!$B$7:$U$198,Simulador!B316,Data!$D$3),\"\"),IF(B316>$U$5,\"\",E315+Data!$E$3))","v":""},null,"","",null,null,null,null,null,"",null,null,"",null,null,"",null,null,"",null,null,{"$f":"IF(B316=\"\",\"\",IF(Data!$A$1=1,$AH$5,IF(Data!$A$1=2,$AH$5*IF(K316=\"\",1,K316))))","v":""},null,null,"",null,null,""]
[null,"",{"$f":"IFERROR(INDEX(Fechas!$B$7:$U$198,Simulador!B317,Data!$D$3-1),\"\")","v":""},null,{"$f":"IF($J$5=2,IFERROR(INDEX(Fechas!$B$7:$U$198,Simulador!B317,Data!$D$3),\"\"),IF(B317>$U$5,\"\",E316+Data!$E$3))","v":""},null,"","",null,null,null,null,null,"",null,null,"",null,null,"",null,null,"",null,null,{"$f":"IF(B317=\"\",\"\",IF(Data!$A$1=1,$AH$5,IF(Data!$A$1=2,$AH$5*IF(K317=\"\",1,K317))))","v":""},null,null,"",null,null,""]
[null,"",{"$f":"IFERROR(INDEX(Fechas!$B$7:$U$198,Simulador!B318,Data!$D$3-1),\"\")","v":""},null,{"$f":"IF($J$5=2,IFERROR(INDEX(Fechas!$B$7:$U$198,Simulador!B318,Data!$D$3),\"\"),IF(B318>$U$5,\"\",E317+Data!$E$3))","v":""},null,"","",null,null,null,null,null,"",null,null,"",null,null,"",null,null,"",null,null,{"$f":"IF(B318=\"\",\"\",IF(Data!$A$1=1,$AH$5,IF(Data!$A$1=2,$AH$5*IF(K318=\"\",1,K318))))","v":""},null,null,"",null,null,""]
[null,"",{"$f":"IFERROR(INDEX(Fechas!$B$7:$U$198,Simulador!B319,Data!$D$3-1),\"\")","v":""},null,{"$f":"IF($J$5=2,IFERROR(INDEX(Fechas!$B$7:$U$198,Simulador!B319,Data!$D$3),\"\"),IF(B319>$U$5,\"\",E318+Data!$E$3))","v":""},null,"","",null,null,null,null,null,"",null,null,"",null,null,"",null,null,"",null,null,{"$f":"IF(B319=\"\",\"\",IF(Data!$A$1=1,$AH$5,IF(Data!$A$1=2,$AH$5*IF(K319=\"\",1,K319))))","v":""},null,null,"",null,null,""]
[null,"",{"$f":"IFERROR(INDEX(Fechas!$B$7:$U$198,Simulador!B320,Data!$D$3-1),\"\")","v":""},null,{"$f":"IF($J$5=2,IFERROR(INDEX(Fechas!$B$7:$U$198,Simulador!B320,Data!$D$3),\"\"),IF(B320>$U$5,\"\",E319+Data!$E$3))","v":""},null,"","",null,null,null,null,null,"",null,null,"",null,null,"",null,null,"",null,null,{"$f":"IF(B320=\"\",\"\",IF(Data!$A$1=1,$AH$5,IF(Data!$A$1=2,$AH$5*IF(K320=\"\",1,K320))))","v":""},null,null,"",null,null,""]
[null,"",{"$f":"IFERROR(INDEX(Fechas!$B$7:$U$198,Simulador!B321,Data!$D$3-1),\"\")","v":""},null,{"$f":"IF($J$5=2,IFERROR(INDEX(Fechas!$B$7:$U$198,Simulador!B321,Data!$D$3),\"\"),IF(B321>$U$5,\"\",E320+Data!$E$3))","v":""},null,"","",null,null,null,null,null,"",null,null,"",null,null,"",null,null,"",null,null,{"$f":"IF(B321=\"\",\"\",IF(Data!$A$1=1,$AH$5,IF(Data!$A$1=2,$AH$5*IF(K321=\"\",1,K321))))","v":""},null,null,"",null,null,""]
[null,"",{"$f":"IFERROR(INDEX(Fechas!$B$7:$U$198,Simulador!B322,Data!$D$3-1),\"\")","v":""},null,{"$f":"IF($J$5=2,IFERROR(INDEX(Fechas!$B$7:$U$198,Simulador!B322,Data!$D$3),\"\"),IF(B322>$U$5,\"\",E321+Data!$E$3))","v":""},null,"","",null,null,null,null,null,"",null,null,"",null,null,"",null,null,"",null,null,{"$f":"IF(B322=\"\",\"\",IF(Data!$A$1=1,$AH$5,IF(Data!$A$1=2,$AH$5*IF(K322=\"\",1,K322))))","v":""},null,null,"",null,null,""]
[null,"",{"$f":"IFERROR(INDEX(Fechas!$B$7:$U$198,Simulador!B323,Data!$D$3-1),\"\")","v":""},null,{"$f":"IF($J$5=2,IFERROR(INDEX(Fechas!$B$7:$U$198,Simulador!B323,Data!$D$3),\"\"),IF(B323>$U$5,\"\",E322+Data!$E$3))","v":""},null,"","",null,null,null,null,null,"",null,null,"",null,null,"",null,null,"",null,null,{"$f":"IF(B323=\"\",\"\",IF(Data!$A$1=1,$AH$5,IF(Data!$A$1=2,$AH$5*IF(K323=\"\",1,K323))))","v":""},null,null,"",null,null,""]
[null,"",{"$f":"IFERROR(INDEX(Fechas!$B$7:$U$198,Simulador!B324,Data!$D$3-1),\"\")","v":""},null,{"$f":"IF($J$5=2,IFERROR(INDEX(Fechas!$B$7:$U$198,Simulador!B324,Data!$D$3),\"\"),IF(B324>$U$5,\"\",E323+Data!$E$3))","v":""},null,"","",null,null,null,null,null,"",null,null,"",null,null,"",null,null,"",null,null,{"$f":"IF(B324=\"\",\"\",IF(Data!$A$1=1,$AH$5,IF(Data!$A$1=2,$AH$5*IF(K324=\"\",1,K324))))","v":""},null,null,"",null,null,""]
[null,"",{"$f":"IFERROR(INDEX(Fechas!$B$7:$U$198,Simulador!B325,Data!$D$3-1),\"\")","v":""},null,{"$f":"IF($J$5=2,IFERROR(INDEX(Fechas!$B$7:$U$198,Simulador!B325,Data!$D$3),\"\"),IF(B325>$U$5,\"\",E324+Data!$E$3))","v":""},null,"","",null,null,null,null,null,"",null,null,"",null,null,"",null,null,"",null,null,{"$f":"IF(B325=\"\",\"\",IF(Data!$A$1=1,$AH$5,IF(Data!$A$1=2,$AH$5*IF(K325=\"\",1,K325))))","v":""},null,null,"",null,null,""]
[null,"",{"$f":"IFERROR(INDEX(Fechas!$B$7:$U$198,Simulador!B326,Data!$D$3-1),\"\")","v":""},null,{"$f":"IF($J$5=2,IFERROR(INDEX(Fechas!$B$7:$U$198,Simulador!B326,Data!$D$3),\"\"),IF(B326>$U$5,\"\",E325+Data!$E$3))","v":""},null,"","",null,null,null,null,null,"",null,null,"",null,null,"",null,null,"",null,null,{"$f":"IF(B326=\"\",\"\",IF(Data!$A$1=1,$AH$5,IF(Data!$A$1=2,$AH$5*IF(K326=\"\",1,K326))))","v":""},null,null,"",null,null,""]
[null,"",{"$f":"IFERROR(INDEX(Fechas!$B$7:$U$198,Simulador!B327,Data!$D$3-1),\"\")","v":""},null,{"$f":"IF($J$5=2,IFERROR(INDEX(Fechas!$B$7:$U$198,Simulador!B327,Data!$D$3),\"\"),IF(B327>$U$5,\"\",E326+Data!$E$3))","v":""},null,"","",null,null,null,null,null,"",null,null,"",null,null,"",null,null,"",null,null,{"$f":"IF(B327=\"\",\"\",IF(Data!$A$1=1,$AH$5,IF(Data!$A$1=2,$AH$5*IF(K327=\"\",1,K327))))","v":""},null,null,"",null,null,""]
[null,"",{"$f":"IFERROR(INDEX(Fechas!$B$7:$U$198,Simulador!B328,Data!$D$3-1),\"\")","v":""},null,{"$f":"IF($J$5=2,IFERROR(INDEX(Fechas!$B$7:$U$198,Simulador!B328,Data!$D$3),\"\"),IF(B328>$U$5,\"\",E327+Data!$E$3))","v":""},null,"","",null,null,null,null,null,"",null,null,"",null,null,"",null,null,"",null,null,{"$f":"IF(B328=\"\",\"\",IF(Data!$A$1=1,$AH$5,IF(Data!$A$1=2,$AH$5*IF(K328=\"\",1,K328))))","v":""},null,null,"",null,null,""]
[null,"",{"$f":"IFERROR(INDEX(Fechas!$B$7:$U$198,Simulador!B329,Data!$D$3-1),\"\")","v":""},null,{"$f":"IF($J$5=2,IFERROR(INDEX(Fechas!$B$7:$U$198,Simulador!B329,Data!$D$3),\"\"),IF(B329>$U$5,\"\",E328+Data!$E$3))","v":""},null,"","",null,null,null,null,null,"",null,null,"",null,null,"",null,null,"",null,null,{"$f":"IF(B329=\"\",\"\",IF(Data!$A$1=1,$AH$5,IF(Data!$A$1=2,$AH$5*IF(K329=\"\",1,K329))))","v":""},null,null,"",null,null,""]
[null,"",{"$f":"IFERROR(INDEX(Fechas!$B$7:$U$198,Simulador!B330,Data!$D$3-1),\"\")","v":""},null,{"$f":"IF($J$5=2,IFERROR(INDEX(Fechas!$B$7:$U$198,Simulador!B330,Data!$D$3),\"\"),IF(B330>$U$5,\"\",E329+Data!$E$3))","v":""},null,"","",null,null,null,null,null,"",null,null,"",null,null,"",null,null,"",null,null,{"$f":"IF(B330=\"\",\"\",IF(Data!$A$1=1,$AH$5,IF(Data!$A$1=2,$AH$5*IF(K330=\"\",1,K330))))","v":""},null,null,"",null,null,""]
[null,"",{"$f":"IFERROR(INDEX(Fechas!$B$7:$U$198,Simulador!B331,Data!$D$3-1),\"\")","v":""},null,{"$f":"IF($J$5=2,IFERROR(INDEX(Fechas!$B$7:$U$198,Simulador!B331,Data!$D$3),\"\"),IF(B331>$U$5,\"\",E330+Data!$E$3))","v":""},null,"","",null,null,null,null,null,"",null,null,"",null,null,"",null,null,"",null,null,{"$f":"IF(B331=\"\",\"\",IF(Data!$A$1=1,$AH$5,IF(Data!$A$1=2,$AH$5*IF(K331=\"\",1,K331))))","v":""},null,null,"",null,null,""]
[null,"",{"$f":"IFERROR(INDEX(Fechas!$B$7:$U$198,Simulador!B332,Data!$D$3-1),\"\")","v":""},null,{"$f":"IF($J$5=2,IFERROR(INDEX(Fechas!$B$7:$U$198,Simulador!B332,Data!$D$3),\"\"),IF(B332>$U$5,\"\",E331+Data!$E$3))","v":""},null,"","",null,null,null,null,null,"",null,null,"",null,null,"",null,null,"",null,null,{"$f":"IF(B332=\"\",\"\",IF(Data!$A$1=1,$AH$5,IF(Data!$A$1=2,$AH$5*IF(K332=\"\",1,K332))))","v":""},null,null,"",null,null,""]
[null,"",{"$f":"IFERROR(INDEX(Fechas!$B$7:$U$198,Simulador!B333,Data!$D$3-1),\"\")","v":""},null,{"$f":"IF($J$5=2,IFERROR(INDEX(Fechas!$B$7:$U$198,Simulador!B333,Data!$D$3),\"\"),IF(B333>$U$5,\"\",E332+Data!$E$3))","v":""},null,"","",null,null,null,null,null,"",null,null,"",null,null,"",null,null,"",null,null,{"$f":"IF(B333=\"\",\"\",IF(Data!$A$1=1,$AH$5,IF(Data!$A$1=2,$AH$5*IF(K333=\"\",1,K333))))","v":""},null,null,"",null,null,""]
[null,"",{"$f":"IFERROR(INDEX(Fechas!$B$7:$U$198,Simulador!B334,Data!$D$3-1),\"\")","v":""},null,{"$f":"IF($J$5=2,IFERROR(INDEX(Fechas!$B$7:$U$198,Simulador!B334,Data!$D$3),\"\"),IF(B334>$U$5,\"\",E333+Data!$E$3))","v":""},null,"","",null,null,null,null,null,"",null,null,"",null,null,"",null,null,"",null,null,{"$f":"IF(B334=\"\",\"\",IF(Data!$A$1=1,$AH$5,IF(Data!$A$1=2,$AH$5*IF(K334=\"\",1,K334))))","v":""},null,null,"",null,null,""]
[null,"",{"$f":"IFERROR(INDEX(Fechas!$B$7:$U$198,Simulador!B335,Data!$D$3-1),\"\")","v":""},null,{"$f":"IF($J$5=2,IFERROR(INDEX(Fechas!$B$7:$U$198,Simulador!B335,Data!$D$3),\"\"),IF(B335>$U$5,\"\",E334+Data!$E$3))","v":""},null,"","",null,null,null,null,null,"",null,null,"",null,null,"",null,null,"",null,null,{"$f":"IF(B335=\"\",\"\",IF(Data!$A$1=1,$AH$5,IF(Data!$A$1=2,$AH$5*IF(K335=\"\",1,K335))))","v":""},null,null,"",null,null,""]
[null,"",{"$f":"IFERROR(INDEX(Fechas!$B$7:$U$198,Simulador!B336,Data!$D$3-1),\"\")","v":""},null,{"$f":"IF($J$5=2,IFERROR(INDEX(Fechas!$B$7:$U$198,Simulador!B336,Data!$D$3),\"\"),IF(B336>$U$5,\"\",E335+Data!$E$3))","v":""},null,"","",null,null,null,null,null,"",null,null,"",null,null,"",null,null,"",null,null,{"$f":"IF(B336=\"\",\"\",IF(Data!$A$1=1,$AH$5,IF(Data!$A$1=2,$AH$5*IF(K336=\"\",1,K336))))","v":""},null,null,"",null,null,""]
[null,"",{"$f":"IFERROR(INDEX(Fechas!$B$7:$U$198,Simulador!B337,Data!$D$3-1),\"\")","v":""},null,{"$f":"IF($J$5=2,IFERROR(INDEX(Fechas!$B$7:$U$198,Simulador!B337,Data!$D$3),\"\"),IF(B337>$U$5,\"\",E336+Data!$E$3))","v":""},null,"","",null,null,null,null,null,"",null,null,"",null,null,"",null,null,"",null,null,{"$f":"IF(B337=\"\",\"\",IF(Data!$A$1=1,$AH$5,IF(Data!$A$1=2,$AH$5*IF(K337=\"\",1,K337))))","v":""},null,null,"",null,null,""]
[null,"",{"$f":"IFERROR(INDEX(Fechas!$B$7:$U$198,Simulador!B338,Data!$D$3-1),\"\")","v":""},null,{"$f":"IF($J$5=2,IFERROR(INDEX(Fechas!$B$7:$U$198,Simulador!B338,Data!$D$3),\"\"),IF(B338>$U$5,\"\",E337+Data!$E$3))","v":""},null,"","",null,null,null,null,null,"",null,null,"",null,null,"",null,null,"",null,null,{"$f":"IF(B338=\"\",\"\",IF(Data!$A$1=1,$AH$5,IF(Data!$A$1=2,$AH$5*IF(K338=\"\",1,K338))))","v":""},null,null,"",null,null,""]
[null,"",{"$f":"IFERROR(INDEX(Fechas!$B$7:$U$198,Simulador!B339,Data!$D$3-1),\"\")","v":""},null,{"$f":"IF($J$5=2,IFERROR(INDEX(Fechas!$B$7:$U$198,Simulador!B339,Data!$D$3),\"\"),IF(B339>$U$5,\"\",E338+Data!$E$3))","v":""},null,"","",null,null,null,null,null,"",null,null,"",null,null,"",null,null,"",null,null,{"$f":"IF(B339=\"\",\"\",IF(Data!$A$1=1,$AH$5,IF(Data!$A$1=2,$AH$5*IF(K339=\"\",1,K339))))","v":""},null,null,"",null,null,""]
[null,{"$f":"IF(ROW(B340)-19>$U$5,\"\",ROW(B340)-19)","v":""},{"$f":"IFERROR(INDEX(Fechas!$B$7:$U$198,Simulador!B340,Data!$D$3-1),\"\")","v":""},null,{"$f":"IF($J$5=2,IFERROR(INDEX(Fechas!$B$7:$U$198,Simulador!B340,Data!$D$3),\"\"),IF(B340>$U$5,\"\",E339+Data!$E$3))","v":""},null,{"$f":"IF(B340=\"\",\"\",E340-E339)","v":""},{"$f":"IF(B340=\"\",\"\",H339-N340)","v":""},null,null,null,null,null,{"$f":"IF(B340=\"\",\"\",Z340-SUM(Q340:Y340))","v":""},null,null,{"$f":"IF(B340=\"\",\"\",IF(B339<=$U$5-1,H339*(((1+$N$9)^(G340/360))-1),1/0))","v":""},null,null,{"$f":"IF(AND(B340<>\"\",C340<>0),$E$9*H339,\"\")","v":""},null,null,"",null,null,{"$f":"IF(B340=\"\",\"\",IF(Data!$A$1=1,$AH$5,IF(Data!$A$1=2,$AH$5*IF(K340=\"\",1,K340))))","v":""},null,null,{"$f":"IF(B340=\"\",\"\",Z340*$E$11)","v":""},null,null,{"$f":"IF(B340=\"\",\"\",Z340+AC340)","v":""}]
[null,"",{"$f":"IFERROR(INDEX(Fechas!$B$7:$U$198,Simulador!B341,Data!$D$3-1),\"\")","v":""},null,{"$f":"IF($J$5=2,IFERROR(INDEX(Fechas!$B$7:$U$198,Simulador!B341,Data!$D$3),\"\"),IF(B341>$U$5,\"\",E340+Data!$E$3))","v":""},null,"","",null,null,null,null,null,"",null,null,"",null,null,"",null,null,{"$f":"IF(B341=\"\",\"\",$E$10)","v":""},null,null,{"$f":"IF(B341=\"\",\"\",IF(Data!$A$1=1,$AH$5,IF(Data!$A$1=2,$AH$5*IF(K341=\"\",1,K341))))","v":""},null,null,"",null,null,""]
[null,"",{"$f":"IFERROR(INDEX(Fechas!$B$7:$U$198,Simulador!B342,Data!$D$3-1),\"\")","v":""},null,{"$f":"IF($J$5=2,IFERROR(INDEX(Fechas!$B$7:$U$198,Simulador!B342,Data!$D$3),\"\"),IF(B342>$U$5,\"\",E341+Data!$E$3))","v":""},null,"","",null,null,null,null,null,"",null,null,"",null,null,"",null,null,"",null,null,{"$f":"IF(B342=\"\",\"\",IF(Data!$A$1=1,$AH$5,IF(Data!$A$1=2,$AH$5*IF(K342=\"\",1,K342))))","v":""},null,null,"",null,null,""]
[null,"",{"$f":"IFERROR(INDEX(Fechas!$B$7:$U$198,Simulador!B343,Data!$D$3-1),\"\")","v":""},null,{"$f":"IF($J$5=2,IFERROR(INDEX(Fechas!$B$7:$U$198,Simulador!B343,Data!$D$3),\"\"),IF(B343>$U$5,\"\",E342+Data!$E$3))","v":""},null,"","",null,null,null,null,null,"",null,null,"",null,null,"",null,null,"",null,null,{"$f":"IF(B343=\"\",\"\",IF(Data!$A$1=1,$AH$5,IF(Data!$A$1=2,$AH$5*IF(K343=\"\",1,K343))))","v":""},null,null,"",null,null,""]
[null,"",{"$f":"IFERROR(INDEX(Fechas!$B$7:$U$198,Simulador!B344,Data!$D$3-1),\"\")","v":""},null,{"$f":"IF($J$5=2,IFERROR(INDEX(Fechas!$B$7:$U$198,Simulador!B344,Data!$D$3),\"\"),IF(B344>$U$5,\"\",E343+Data!$E$3))","v":""},null,"","",null,null,null,null,null,"",null,null,"",null,null,"",null,null,"",null,null,{"$f":"IF(B344=\"\",\"\",IF(Data!$A$1=1,$AH$5,IF(Data!$A$1=2,$AH$5*IF(K344=\"\",1,K344))))","v":""},null,null,"",null,null,""]
[null,"",{"$f":"IFERROR(INDEX(Fechas!$B$7:$U$198,Simulador!B345,Data!$D$3-1),\"\")","v":""},null,{"$f":"IF($J$5=2,IFERROR(INDEX(Fechas!$B$7:$U$198,Simulador!B345,Data!$D$3),\"\"),IF(B345>$U$5,\"\",E344+Data!$E$3))","v":""},null,"","",null,null,null,null,null,"",null,null,"",null,null,"",null,null,"",null,null,{"$f":"IF(B345=\"\",\"\",IF(Data!$A$1=1,$AH$5,IF(Data!$A$1=2,$AH$5*IF(K345=\"\",1,K345))))","v":""},null,null,"",null,null,""]
[null,"",{"$f":"IFERROR(INDEX(Fechas!$B$7:$U$198,Simulador!B346,Data!$D$3-1),\"\")","v":""},null,{"$f":"IF($J$5=2,IFERROR(INDEX(Fechas!$B$7:$U$198,Simulador!B346,Data!$D$3),\"\"),IF(B346>$U$5,\"\",E345+Data!$E$3))","v":""},null,"","",null,null,null,null,null,"",null,null,"",null,null,"",null,null,"",null,null,{"$f":"IF(B346=\"\",\"\",IF(Data!$A$1=1,$AH$5,IF(Data!$A$1=2,$AH$5*IF(K346=\"\",1,K346))))","v":""},null,null,"",null,null,""]
[null,"",{"$f":"IFERROR(INDEX(Fechas!$B$7:$U$198,Simulador!B347,Data!$D$3-1),\"\")","v":""},null,{"$f":"IF($J$5=2,IFERROR(INDEX(Fechas!$B$7:$U$198,Simulador!B347,Data!$D$3),\"\"),IF(B347>$U$5,\"\",E346+Data!$E$3))","v":""},null,"","",null,null,null,null,null,"",null,null,"",null,null,"",null,null,"",null,null,{"$f":"IF(B347=\"\",\"\",IF(Data!$A$1=1,$AH$5,IF(Data!$A$1=2,$AH$5*IF(K347=\"\",1,K347))))","v":""},null,null,"",null,null,""]
[null,"",{"$f":"IFERROR(INDEX(Fechas!$B$7:$U$198,Simulador!B348,Data!$D$3-1),\"\")","v":""},null,{"$f":"IF($J$5=2,IFERROR(INDEX(Fechas!$B$7:$U$198,Simulador!B348,Data!$D$3),\"\"),IF(B348>$U$5,\"\",E347+Data!$E$3))","v":""},null,"","",null,null,null,null,null,"",null,null,"",null,null,"",null,null,"",null,null,{"$f":"IF(B348=\"\",\"\",IF(Data!$A$1=1,$AH$5,IF(Data!$A$1=2,$AH$5*IF(K348=\"\",1,K348))))","v":""},null,null,"",null,null,""]
[null,"",{"$f":"IFERROR(INDEX(Fechas!$B$7:$U$198,Simulador!B349,Data!$D$3-1),\"\")","v":""},null,{"$f":"IF($J$5=2,IFERROR(INDEX(Fechas!$B$7:$U$198,Simulador!B349,Data!$D$3),\"\"),IF(B349>$U$5,\"\",E348+Data!$E$3))","v":""},null,"","",null,null,null,null,null,"",null,null,"",null,null,"",null,null,"",null,null,{"$f":"IF(B349=\"\",\"\",IF(Data!$A$1=1,$AH$5,IF(Data!$A$1=2,$AH$5*IF(K349=\"\",1,K349))))","v":""},null,null,"",null,null,""]
[null,"",{"$f":"IFERROR(INDEX(Fechas!$B$7:$U$198,Simulador!B350,Data!$D$3-1),\"\")","v":""},null,{"$f":"IF($J$5=2,IFERROR(INDEX(Fechas!$B$7:$U$198,Simulador!B350,Data!$D$3),\"\"),IF(B350>$U$5,\"\",E349+Data!$E$3))","v":""},null,"","",null,null,null,null,null,"",null,null,"",null,null,"",null,null,"",null,null,{"$f":"IF(B350=\"\",\"\",IF(Data!$A$1=1,$AH$5,IF(Data!$A$1=2,$AH$5*IF(K350=\"\",1,K350))))","v":""},null,null,"",null,null,""]
[null,"",{"$f":"IFERROR(INDEX(Fechas!$B$7:$U$198,Simulador!B351,Data!$D$3-1),\"\")","v":""},null,{"$f":"IF($J$5=2,IFERROR(INDEX(Fechas!$B$7:$U$198,Simulador!B351,Data!$D$3),\"\"),IF(B351>$U$5,\"\",E350+Data!$E$3))","v":""},null,"","",null,null,null,null,null,"",null,null,"",null,null,"",null,null,"",null,null,{"$f":"IF(B351=\"\",\"\",IF(Data!$A$1=1,$AH$5,IF(Data!$A$1=2,$AH$5*IF(K351=\"\",1,K351))))","v":""},null,null,"",null,null,""]
[null,"",{"$f":"IFERROR(INDEX(Fechas!$B$7:$U$198,Simulador!B352,Data!$D$3-1),\"\")","v":""},null,{"$f":"IF($J$5=2,IFERROR(INDEX(Fechas!$B$7:$U$198,Simulador!B352,Data!$D$3),\"\"),IF(B352>$U$5,\"\",E351+Data!$E$3))","v":""},null,"","",null,null,null,null,null,"",null,null,"",null,null,"",null,null,"",null,null,{"$f":"IF(B352=\"\",\"\",IF(Data!$A$1=1,$AH$5,IF(Data!$A$1=2,$AH$5*IF(K352=\"\",1,K352))))","v":""},null,null,"",null,null,""]
[null,"",{"$f":"IFERROR(INDEX(Fechas!$B$7:$U$198,Simulador!B353,Data!$D$3-1),\"\")","v":""},null,{"$f":"IF($J$5=2,IFERROR(INDEX(Fechas!$B$7:$U$198,Simulador!B353,Data!$D$3),\"\"),IF(B353>$U$5,\"\",E352+Data!$E$3))","v":""},null,"","",null,null,null,null,null,"",null,null,"",null,null,"",null,null,"",null,null,{"$f":"IF(B353=\"\",\"\",IF(Data!$A$1=1,$AH$5,IF(Data!$A$1=2,$AH$5*IF(K353=\"\",1,K353))))","v":""},null,null,"",null,null,""]
[null,"",{"$f":"IFERROR(INDEX(Fechas!$B$7:$U$198,Simulador!B354,Data!$D$3-1),\"\")","v":""},null,{"$f":"IF($J$5=2,IFERROR(INDEX(Fechas!$B$7:$U$198,Simulador!B354,Data!$D$3),\"\"),IF(B354>$U$5,\"\",E353+Data!$E$3))","v":""},null,"","",null,null,null,null,null,"",null,null,"",null,null,"",null,null,"",null,null,{"$f":"IF(B354=\"\",\"\",IF(Data!$A$1=1,$AH$5,IF(Data!$A$1=2,$AH$5*IF(K354=\"\",1,K354))))","v":""},null,null,"",null,null,""]
[null,"",{"$f":"IFERROR(INDEX(Fechas!$B$7:$U$198,Simulador!B355,Data!$D$3-1),\"\")","v":""},null,{"$f":"IF($J$5=2,IFERROR(INDEX(Fechas!$B$7:$U$198,Simulador!B355,Data!$D$3),\"\"),IF(B355>$U$5,\"\",E354+Data!$E$3))","v":""},null,"","",null,null,null,null,null,"",null,null,"",null,null,"",null,null,"",null,null,{"$f":"IF(B355=\"\",\"\",IF(Data!$A$1=1,$AH$5,IF(Data!$A$1=2,$AH$5*IF(K355=\"\",1,K355))))","v":""},null,null,"",null,null,""]
[null,"",{"$f":"IFERROR(INDEX(Fechas!$B$7:$U$198,Simulador!B356,Data!$D$3-1),\"\")","v":""},null,{"$f":"IF($J$5=2,IFERROR(INDEX(Fechas!$B$7:$U$198,Simulador!B356,Data!$D$3),\"\"),IF(B356>$U$5,\"\",E355+Data!$E$3))","v":""},null,"","",null,null,null,null,null,"",null,null,"",null,null,"",null,null,"",null,null,{"$f":"IF(B356=\"\",\"\",IF(Data!$A$1=1,$AH$5,IF(Data!$A$1=2,$AH$5*IF(K356=\"\",1,K356))))","v":""},null,null,"",null,null,""]
[null,"",{"$f":"IFERROR(INDEX(Fechas!$B$7:$U$198,Simulador!B357,Data!$D$3-1),\"\")","v":""},null,{"$f":"IF($J$5=2,IFERROR(INDEX(Fechas!$B$7:$U$198,Simulador!B357,Data!$D$3),\"\"),IF(B357>$U$5,\"\",E356+Data!$E$3))","v":""},null,"","",null,null,null,null,null,"",null,null,"",null,null,"",null,null,"",null,null,{"$f":"IF(B357=\"\",\"\",IF(Data!$A$1=1,$AH$5,IF(Data!$A$1=2,$AH$5*IF(K357=\"\",1,K357))))","v":""},null,null,"",null,null,""]
[null,"",{"$f":"IFERROR(INDEX(Fechas!$B$7:$U$198,Simulador!B358,Data!$D$3-1),\"\")","v":""},null,{"$f":"IF($J$5=2,IFERROR(INDEX(Fechas!$B$7:$U$198,Simulador!B358,Data!$D$3),\"\"),IF(B358>$U$5,\"\",E357+Data!$E$3))","v":""},null,"","",null,null,null,null,null,"",null,null,"",null,null,"",null,null,"",null,null,{"$f":"IF(B358=\"\",\"\",IF(Data!$A$1=1,$AH$5,IF(Data!$A$1=2,$AH$5*IF(K358=\"\",1,K358))))","v":""},null,null,"",null,null,""]
[null,"",{"$f":"IFERROR(INDEX(Fechas!$B$7:$U$198,Simulador!B359,Data!$D$3-1),\"\")","v":""},null,{"$f":"IF($J$5=2,IFERROR(INDEX(Fechas!$B$7:$U$198,Simulador!B359,Data!$D$3),\"\"),IF(B359>$U$5,\"\",E358+Data!$E$3))","v":""},null,"","",null,null,null,null,null,"",null,null,"",null,null,"",null,null,"",null,null,{"$f":"IF(B359=\"\",\"\",IF(Data!$A$1=1,$AH$5,IF(Data!$A$1=2,$AH$5*IF(K359=\"\",1,K359))))","v":""},null,null,"",null,null,""]
[null,"",{"$f":"IFERROR(INDEX(Fechas!$B$7:$U$198,Simulador!B360,Data!$D$3-1),\"\")","v":""},null,{"$f":"IF($J$5=2,IFERROR(INDEX(Fechas!$B$7:$U$198,Simulador!B360,Data!$D$3),\"\"),IF(B360>$U$5,\"\",E359+Data!$E$3))","v":""},null,"","",null,null,null,null,null,"",null,null,"",null,null,"",null,null,"",null,null,{"$f":"IF(B360=\"\",\"\",IF(Data!$A$1=1,$AH$5,IF(Data!$A$1=2,$AH$5*IF(K360=\"\",1,K360))))","v":""},null,null,"",null,null,""]
[null,"",{"$f":"IFERROR(INDEX(Fechas!$B$7:$U$198,Simulador!B361,Data!$D$3-1),\"\")","v":""},null,{"$f":"IF($J$5=2,IFERROR(INDEX(Fechas!$B$7:$U$198,Simulador!B361,Data!$D$3),\"\"),IF(B361>$U$5,\"\",E360+Data!$E$3))","v":""},null,"","",null,null,null,null,null,"",null,null,"",null,null,"",null,null,"",null,null,{"$f":"IF(B361=\"\",\"\",IF(Data!$A$1=1,$AH$5,IF(Data!$A$1=2,$AH$5*IF(K361=\"\",1,K361))))","v":""},null,null,"",null,null,""]
[null,"",{"$f":"IFERROR(INDEX(Fechas!$B$7:$U$198,Simulador!B362,Data!$D$3-1),\"\")","v":""},null,{"$f":"IF($J$5=2,IFERROR(INDEX(Fechas!$B$7:$U$198,Simulador!B362,Data!$D$3),\"\"),IF(B362>$U$5,\"\",E361+Data!$E$3))","v":""},null,"","",null,null,null,null,null,"",null,null,"",null,null,"",null,null,"",null,null,{"$f":"IF(B362=\"\",\"\",IF(Data!$A$1=1,$AH$5,IF(Data!$A$1=2,$AH$5*IF(K362=\"\",1,K362))))","v":""},null,null,"",null,null,""]
[null,"",{"$f":"IFERROR(INDEX(Fechas!$B$7:$U$198,Simulador!B363,Data!$D$3-1),\"\")","v":""},null,{"$f":"IF($J$5=2,IFERROR(INDEX(Fechas!$B$7:$U$198,Simulador!B363,Data!$D$3),\"\"),IF(B363>$U$5,\"\",E362+Data!$E$3))","v":""},null,"","",null,null,null,null,null,"",null,null,"",null,null,"",null,null,"",null,null,{"$f":"IF(B363=\"\",\"\",IF(Data!$A$1=1,$AH$5,IF(Data!$A$1=2,$AH$5*IF(K363=\"\",1,K363))))","v":""},null,null,"",null,null,""]
[null,"",{"$f":"IFERROR(INDEX(Fechas!$B$7:$U$198,Simulador!B364,Data!$D$3-1),\"\")","v":""},null,{"$f":"IF($J$5=2,IFERROR(INDEX(Fechas!$B$7:$U$198,Simulador!B364,Data!$D$3),\"\"),IF(B364>$U$5,\"\",E363+Data!$E$3))","v":""},null,"","",null,null,null,null,null,"",null,null,"",null,null,"",null,null,"",null,null,{"$f":"IF(B364=\"\",\"\",IF(Data!$A$1=1,$AH$5,IF(Data!$A$1=2,$AH$5*IF(K364=\"\",1,K364))))","v":""},null,null,"",null,null,""]
[null,"",{"$f":"IFERROR(INDEX(Fechas!$B$7:$U$198,Simulador!B365,Data!$D$3-1),\"\")","v":""},null,{"$f":"IF($J$5=2,IFERROR(INDEX(Fechas!$B$7:$U$198,Simulador!B365,Data!$D$3),\"\"),IF(B365>$U$5,\"\",E364+Data!$E$3))","v":""},null,"","",null,null,null,null,null,"",null,null,"",null,null,"",null,null,"",null,null,{"$f":"IF(B365=\"\",\"\",IF(Data!$A$1=1,$AH$5,IF(Data!$A$1=2,$AH$5*IF(K365=\"\",1,K365))))","v":""},null,null,"",null,null,""]
[null,"",{"$f":"IFERROR(INDEX(Fechas!$B$7:$U$198,Simulador!B366,Data!$D$3-1),\"\")","v":""},null,{"$f":"IF($J$5=2,IFERROR(INDEX(Fechas!$B$7:$U$198,Simulador!B366,Data!$D$3),\"\"),IF(B366>$U$5,\"\",E365+Data!$E$3))","v":""},null,"","",null,null,null,null,null,"",null,null,"",null,null,"",null,null,"",null,null,{"$f":"IF(B366=\"\",\"\",IF(Data!$A$1=1,$AH$5,IF(Data!$A$1=2,$AH$5*IF(K366=\"\",1,K366))))","v":""},null,null,"",null,null,""]
[null,"",{"$f":"IFERROR(INDEX(Fechas!$B$7:$U$198,Simulador!B367,Data!$D$3-1),\"\")","v":""},null,{"$f":"IF($J$5=2,IFERROR(INDEX(Fechas!$B$7:$U$198,Simulador!B367,Data!$D$3),\"\"),IF(B367>$U$5,\"\",E366+Data!$E$3))","v":""},null,"","",null,null,null,null,null,"",null,null,"",null,null,"",null,null,"",null,null,{"$f":"IF(B367=\"\",\"\",IF(Data!$A$1=1,$AH$5,IF(Data!$A$1=2,$AH$5*IF(K367=\"\",1,K367))))","v":""},null,null,"",null,null,""]
[null,"",{"$f":"IFERROR(INDEX(Fechas!$B$7:$U$198,Simulador!B368,Data!$D$3-1),\"\")","v":""},null,{"$f":"IF($J$5=2,IFERROR(INDEX(Fechas!$B$7:$U$198,Simulador!B368,Data!$D$3),\"\"),IF(B368>$U$5,\"\",E367+Data!$E$3))","v":""},null,"","",null,null,null,null,null,"",null,null,"",null,null,"",null,null,"",null,null,{"$f":"IF(B368=\"\",\"\",IF(Data!$A$1=1,$AH$5,IF(Data!$A$1=2,$AH$5*IF(K368=\"\",1,K368))))","v":""},null,null,"",null,null,""]
[null,"",{"$f":"IFERROR(INDEX(Fechas!$B$7:$U$198,Simulador!B369,Data!$D$3-1),\"\")","v":""},null,{"$f":"IF($J$5=2,IFERROR(INDEX(Fechas!$B$7:$U$198,Simulador!B369,Data!$D$3),\"\"),IF(B369>$U$5,\"\",E368+Data!$E$3))","v":""},null,"","",null,null,null,null,null,"",null,null,"",null,null,"",null,null,"",null,null,{"$f":"IF(B369=\"\",\"\",IF(Data!$A$1=1,$AH$5,IF(Data!$A$1=2,$AH$5*IF(K369=\"\",1,K369))))","v":""},null,null,"",null,null,""]
[null,"",{"$f":"IFERROR(INDEX(Fechas!$B$7:$U$198,Simulador!B370,Data!$D$3-1),\"\")","v":""},null,{"$f":"IF($J$5=2,IFERROR(INDEX(Fechas!$B$7:$U$198,Simulador!B370,Data!$D$3),\"\"),IF(B370>$U$5,\"\",E369+Data!$E$3))","v":""},null,"","",null,null,null,null,null,"",null,null,"",null,null,"",null,null,"",null,null,{"$f":"IF(B370=\"\",\"\",IF(Data!$A$1=1,$AH$5,IF(Data!$A$1=2,$AH$5*IF(K370=\"\",1,K370))))","v":""},null,null,"",null,null,""]
[null,"",{"$f":"IFERROR(INDEX(Fechas!$B$7:$U$198,Simulador!B371,Data!$D$3-1),\"\")","v":""},null,{"$f":"IF($J$5=2,IFERROR(INDEX(Fechas!$B$7:$U$198,Simulador!B371,Data!$D$3),\"\"),IF(B371>$U$5,\"\",E370+Data!$E$3))","v":""},null,"","",null,null,null,null,null,"",null,null,"",null,null,"",null,null,"",null,null,{"$f":"IF(B371=\"\",\"\",IF(Data!$A$1=1,$AH$5,IF(Data!$A$1=2,$AH$5*IF(K371=\"\",1,K371))))","v":""},null,null,"",null,null,""]
[null,"",{"$f":"IFERROR(INDEX(Fechas!$B$7:$U$198,Simulador!B372,Data!$D$3-1),\"\")","v":""},null,{"$f":"IF($J$5=2,IFERROR(INDEX(Fechas!$B$7:$U$198,Simulador!B372,Data!$D$3),\"\"),IF(B372>$U$5,\"\",E371+Data!$E$3))","v":""},null,"","",null,null,null,null,null,"",null,null,"",null,null,"",null,null,"",null,null,{"$f":"IF(B372=\"\",\"\",IF(Data!$A$1=1,$AH$5,IF(Data!$A$1=2,$AH$5*IF(K372=\"\",1,K372))))","v":""},null,null,"",null,null,""]
[null,"",{"$f":"IFERROR(INDEX(Fechas!$B$7:$U$198,Simulador!B373,Data!$D$3-1),\"\")","v":""},null,{"$f":"IF($J$5=2,IFERROR(INDEX(Fechas!$B$7:$U$198,Simulador!B373,Data!$D$3),\"\"),IF(B373>$U$5,\"\",E372+Data!$E$3))","v":""},null,"","",null,null,null,null,null,"",null,null,"",null,null,"",null,null,"",null,null,{"$f":"IF(B373=\"\",\"\",IF(Data!$A$1=1,$AH$5,IF(Data!$A$1=2,$AH$5*IF(K373=\"\",1,K373))))","v":""},null,null,"",null,null,""]
[null,"",{"$f":"IFERROR(INDEX(Fechas!$B$7:$U$198,Simulador!B374,Data!$D$3-1),\"\")","v":""},null,{"$f":"IF($J$5=2,IFERROR(INDEX(Fechas!$B$7:$U$198,Simulador!B374,Data!$D$3),\"\"),IF(B374>$U$5,\"\",E373+Data!$E$3))","v":""},null,"","",null,null,null,null,null,"",null,null,"",null,null,"",null,null,"",null,null,{"$f":"IF(B374=\"\",\"\",IF(Data!$A$1=1,$AH$5,IF(Data!$A$1=2,$AH$5*IF(K374=\"\",1,K374))))","v":""},null,null,"",null,null,""]
[null,"",{"$f":"IFERROR(INDEX(Fechas!$B$7:$U$198,Simulador!B375,Data!$D$3-1),\"\")","v":""},null,{"$f":"IF($J$5=2,IFERROR(INDEX(Fechas!$B$7:$U$198,Simulador!B375,Data!$D$3),\"\"),IF(B375>$U$5,\"\",E374+Data!$E$3))","v":""},null,"","",null,null,null,null,null,"",null,null,"",null,null,"",null,null,"",null,null,{"$f":"IF(B375=\"\",\"\",IF(Data!$A$1=1,$AH$5,IF(Data!$A$1=2,$AH$5*IF(K375=\"\",1,K375))))","v":""},null,null,"",null,null,""]
[null,"",{"$f":"IFERROR(INDEX(Fechas!$B$7:$U$198,Simulador!B376,Data!$D$3-1),\"\")","v":""},null,{"$f":"IF($J$5=\"FF\",IFERROR(INDEX(Fechas!$B$7:$U$198,Simulador!B376,Data!$D$3),\"\"),IF(B376>$U$5,\"\",E375+Data!$E$3))","v":""},null,"","",null,null,null,null,null,"",null,null,"",null,null,"",null,null,"",null,null,{"$f":"IF(B376=\"\",\"\",IF(Data!$A$1=1,$AH$5,IF(Data!$A$1=2,$AH$5*IF(K376=\"\",1,K376))))","v":""},null,null,"",null,null,""]
[null,"",{"$f":"IFERROR(INDEX(Fechas!$B$7:$U$198,Simulador!B377,Data!$D$3-1),\"\")","v":""},null,{"$f":"IF($J$5=\"FF\",IFERROR(INDEX(Fechas!$B$7:$U$198,Simulador!B377,Data!$D$3),\"\"),IF(B377>$U$5,\"\",E376+Data!$E$3))","v":""},null,"","",null,null,null,null,null,"",null,null,"",null,null,"",null,null,"",null,null,{"$f":"IF(B377=\"\",\"\",IF(Data!$A$1=1,$AH$5,IF(Data!$A$1=2,$AH$5*IF(K377=\"\",1,K377))))","v":""},null,null,"",null,null,""]
[null,"",{"$f":"IFERROR(INDEX(Fechas!$B$7:$U$198,Simulador!B378,Data!$D$3-1),\"\")","v":""},null,{"$f":"IF($J$5=\"FF\",IFERROR(INDEX(Fechas!$B$7:$U$198,Simulador!B378,Data!$D$3),\"\"),IF(B378>$U$5,\"\",E377+Data!$E$3))","v":""},null,"","",null,null,null,null,null,"",null,null,"",null,null,"",null,null,"",null,null,{"$f":"IF(B378=\"\",\"\",IF(Data!$A$1=1,$AH$5,IF(Data!$A$1=2,$AH$5*IF(K378=\"\",1,K378))))","v":""},null,null,"",null,null,""]
[null,"",{"$f":"IFERROR(INDEX(Fechas!$B$7:$U$198,Simulador!B379,Data!$D$3-1),\"\")","v":""},null,{"$f":"IF($J$5=\"FF\",IFERROR(INDEX(Fechas!$B$7:$U$198,Simulador!B379,Data!$D$3),\"\"),IF(B379>$U$5,\"\",E378+Data!$E$3))","v":""},null,"","",null,null,null,null,null,"",null,null,"",null,null,"",null,null,"",null,null,{"$f":"IF(B379=\"\",\"\",IF(Data!$A$1=1,$AH$5,IF(Data!$A$1=2,$AH$5*IF(K379=\"\",1,K379))))","v":""},null,null,"",null,null,""]

{"sheet":"Data","index":1,"n_rows":43,"n_cols":10,"rows_kept":43,"cut":false,"hidden":true,"merged":[[4,1,4,2],[4,4,4,5]]}
[2,"FF/FC"]
[]
[null,3,"FREC",{"$f":"VLOOKUP(B3,$B$6:$G$15,6,FALSE)","v":6},{"$f":"VLOOKUP(B3,$B$6:$G$15,3,FALSE)","v":30}]
[]
[null,"Formas de Pago",null,"Dias","Per x año"]
[null,1,"Diario",1,360,"dias"]
[null,2,"Semanal",7,51,"semanas",2,{"$f":"1/4","v":0.25},"SEMANAL","(TES)"]
[null,3,"Mensual",30,12,"meses",6,1,"MENSUAL","(TEM)"]
[null,4,"Bimestral",60,6,"bimestres",10,2,"BIMENSUAL","(TEB)"]
[null,5,"Trimestral",90,4,"trimestres",12,3,"TRIMESTRAL","(TET)"]
[null,9,"Tetramestral",120,3,"tetramestres",14,4,"CUATRIMESTRAL","(TEC)"]
[null,10,"Semestral",180,2,"semestres",18,6,"SEMESTRAL","(TES)"]
[null,6,"Anual",360,1,"Años",20,12,"ANUAL","(TEA)"]
[null,7,"Mes y Medio",45,9,"45 dias",8,1.5,"MES Y MEDIO","(TEMM)"]
[null,8,"Quincenal",15,103,"Quincenas",4,0.5,"QUINCENAL","(TEQ)"]
[]
[]
[]
[]
[]
[null,"MODULO","MDNOM"]
[null,101,"CAPITAL DE TRABAJO"]
[null,102,"ACTIVO – MAQUINARIA Y EQUIPO"]
[null,103,"ACTIVO FIJO – LOCAL O VIVIENDA COMERCIAL"]
[null,104,"CREDIPUNTUALITO"]
[null,105,"PARALELO"]
[null,106,"CONVENIO PYME"]
[null,107,"CREDIOFICIOS"]
[null,109,"AGROPECUARIO"]
[null,110,"SUPÉRATE MUJER"]
[null,112,"ECOMICRO"]
[null,117,"LÍNEA DE CRÉDITO"]
[null,null,"CARTA FIANZA"]
[null,null,"PERSONAL DIRECTO"]
[null,null,"CONVENIO CON DESCUENTO POR PLANILLA"]
[null,null,"LÍNEA CRÉDITO CON DEPÓSITO PLAZO FIJO/CTS"]
[null,null,"MICROCONSUMO"]
[null,null,"CAJA CONSTRUYE"]
[null,null,"ADMINISTRATIVO"]
[null,null,"VEHICULAR"]
[null,null,"QUINTUPLICA TU SUELDO"]
[null,null,"PRENDARIO"]
[null,null,"HIPOTECARIO CAJA"]

{"sheet":"Fechas","index":2,"n_rows":198,"n_cols":21,"rows_kept":198,"cut":false,"hidden":true,"merged":[[0,13,0,14],[0,15,0,16],[0,17,0,18],[0,19,0,20],[0,1,0,2],[0,3,0,4],[0,5,0,6],[0,7,0,8],[0,9,0,10],[0,11,0,12]]}
[null,"SEMANAL",null,"QUINCENAL",null,"MENSUAL",null,"MES Y MEDIO",null,"BIMENSUAL",null,"TRIMESTRAL",null,"CUATRIMESTRAL",null,"QUINTUMESTRAL",null,"SEMESTRAL",null,"ANUAL"]
[null,null,"dias desp desembolso",null,"dias desp desembolso",null,"dias desp desembolso",null,"dias desp desembolso",null,"dias desp desembolso",null,"dias desp desembolso",null,"dias desp desembolso",null,"dias desp desembolso",null,"dias desp desembolso",null,"dias desp desembolso"]
[null,null,{"$f":"VLOOKUP(Data!B3,Forma_de_pago,3,FALSE)*Simulador!U9+Simulador!Z9","v":30},null,{"$f":"C3","v":30},null,{"$f":"E3","v":30},null,{"$f":"G3","v":30},null,{"$f":"I3","v":30},null,{"$f":"K3","v":30},null,{"$f":"M3","v":30},null,{"$f":"O3","v":30},null,{"$f":"Q3","v":30},null,{"$f":"S3","v":30}]
[null,"base de calculo",30]
[null,"desembolso",{"$f":"Simulador!P9","v":"2018-12-09"},"desembolso",{"$f":"$C$5","v":"2018-12-09"},"desembolso",{"$f":"$C$5","v":"2018-12-09"},"desembolso",{"$f":"$C$5","v":"2018-12-09"},"desembolso",{"$f":"$C$5","v":"2018-12-09"},"desembolso","2018-12-09","desembolso","2018-12-09","desembolso","2018-12-09","desembolso","2018-12-09","desembolso","2018-12-09"]
[null,"a",7,"b",15,"c",30,null,45,null,60,null,90,null,120,null,150,null,180,null,360]
[1,1,{"$f":"C5+C3","v":"2019-01-08"},1,{"$f":"E5+E3","v":"2019-01-08"},1,{"$f":"G5+G3","v":"2019-01-08"},1,{"$f":"I5+I3","v":"2019-01-08"},1,{"$f":"K5+K3","v":"2019-01-08"},1,{"$f":"M5+M3","v":"2019-01-08"},1,{"$f":"O5+O3","v":"2019-01-08"},1,{"$f":"Q5+Q3","v":"2019-01-08"},1,{"$f":"S5+S3","v":"2019-01-08"},1,{"$f":"U5+U3","v":"2019-01-08"}]
[2,null,{"$f":"C7+7","v":"2019-01-15"},null,{"$f":"E7+$C$4/2","v":"2019-01-23"},2,{"$f":"EDATE(G7,1)","v":"2019-02-08"},null,{"$f":"I7+$C$4*1.5","v":"2019-02-22"},3,{"$f":"EDATE(K7,2)","v":"2019-03-08"},{"$f":"L7+3","v":4},{"$f":"EDATE(M7,3)","v":"2019-04-08"},{"$f":"N7+4","v":5},{"$f":"EDATE(O7,4)","v":"2019-05-08"},{"$f":"P7+5","v":6},{"$f":"EDATE(Q7,5)","v":"2019-06-08"},{"$f":"R7+6","v":7},{"$f":"EDATE(S7,6)","v":"2019-07-08"},{"$f":"T7+12","v":13},{"$f":"EDATE(U7,12)","v":"2020-01-08"}]
[3,null,{"$f":"C8+8","v":"2019-01-23"},2,{"$f":"EDATE(E7,1)","v":"2019-02-08"},3,{"$f":"IF(EDATE(G8,1)>EDATE(G7,2),EDATE(G8,1),EDATE(G7,2))","v":"2019-03-08"},{"$f":"H7+3","v":4},{"$f":"EDATE(I7,3)","v":"2019-04-08"},5,{"$f":"IF(EDATE(K8,2)>EDATE(K7,4),EDATE(K8,2),EDATE(K7,4))","v":"2019-05-08"},{"$f":"L8+3","v":7},{"$f":"IF(EDATE(M8,3)>EDATE(M7,6),EDATE(M8,3),EDATE(M7,6))","v":"2019-07-08"},{"$f":"N8+4","v":9},{"$f":"IF(EDATE(O8,4)>EDATE(O7,8),EDATE(O8,4),EDATE(O7,8))","v":"2019-09-08"},{"$f":"P8+5","v":11},{"$f":"IF(EDATE(Q8,5)>EDATE(Q7,10),EDATE(Q8,5),EDATE(Q7,10))","v":"2019-11-08"},{"$f":"R8+6","v":13},{"$f":"IF(EDATE(S8,6)>EDATE(S7,12),EDATE(S8,6),EDATE(S7,12))","v":"2020-01-08"},{"$f":"T8+12","v":25},{"$f":"EDATE(U8,12)","v":"2021-01-08"}]
[4,null,{"$f":"C9+7","v":"2019-01-30"},null,{"$f":"EDATE(E8,1)","v":"2019-02-23"},4,{"$f":"IF(EDATE(G9,1)>EDATE(G8,2),EDATE(G9,1),EDATE(G8,2))","v":"2019-04-08"},null,{"$f":"I9+$C$4*1.5","v":"2019-05-23"},7,{"$f":"IF(EDATE(K9,2)>EDATE(K8,4),EDATE(K9,2),EDATE(K8,4))","v":"2019-07-08"},10,{"$f":"IF(EDATE(M9,3)>EDATE(M8,6),EDATE(M9,3),EDATE(M8,6))","v":"2019-10-08"},13,{"$f":"IF(EDATE(O9,4)>EDATE(O8,8),EDATE(O9,4),EDATE(O8,8))","v":"2020-01-08"},16,{"$f":"IF(EDATE(Q9,5)>EDATE(Q8,10),EDATE(Q9,5),EDATE(Q8,10))","v":"2020-04-08"},19,{"$f":"IF(EDATE(S9,6)>EDATE(S8,12),EDATE(S9,6),EDATE(S8,12))","v":"2020-07-08"},37,"2022-01-08"]
[5,2,{"$f":"EDATE(C7,1)","v":"2019-02-08"},3,{"$f":"IF(EDATE(E9,1)>EDATE(E7,2),EDATE(E9,1),EDATE(E7,2))","v":"2019-03-08"},5,"2019-05-08",{"$f":"H9+3","v":7},{"$f":"IF(EDATE(I9,3)>EDATE(I7,6),EDATE(I9,3),EDATE(I7,6))","v":"2019-07-08"},9,"2019-09-08",13,"2020-01-08",17,"2020-05-08",21,"2020-09-08",25,"2021-01-08",49,"2023-01-08"]
[6,null,{"$f":"C11+7","v":"2019-02-15"},null,{"$f":"IF(EDATE(E10,1)>EDATE(E8,2),EDATE(E10,1),EDATE(E8,2))","v":"2019-03-23"},6,"2019-06-08",null,{"$f":"IF(EDATE(I10,3)>EDATE(I8,6),EDATE(I10,3),EDATE(I8,6))","v":"2019-08-23"},11,"2019-11-08",16,"2020-04-08",21,"2020-09-08",26,"2021-02-08",31,"2021-07-08",61,"2024-01-08"]
[7,null,{"$f":"C12+8","v":"2019-02-23"},4,"2019-04-08",7,"2019-07-08",{"$f":"H11+3","v":10},"2019-10-08",13,"2020-01-08",19,"2020-07-08",25,"2021-01-08",31,"2021-07-08",37,"2022-01-08",73,"2025-01-08"]
[8,null,{"$f":"C13+7","v":"2019-03-02"},null,"2019-04-23",8,"2019-08-08",null,"2019-11-23",15,"2020-03-08",22,"2020-10-08",29,"2021-05-08",36,"2021-12-08",43,"2022-07-08",85,"2026-01-08"]
[9,3,{"$f":"EDATE(C11,1)","v":"2019-03-08"},5,"2019-05-08",9,"2019-09-08",{"$f":"H13+3","v":13},"2020-01-08",17,"2020-05-08",25,"2021-01-08",33,"2021-09-08",41,"2022-05-08",49,"2023-01-08",97,"2027-01-08"]
[10,null,{"$f":"IF(EDATE(C12,1)>EDATE(C8,2),EDATE(C12,1),EDATE(C8,2))","v":"2019-03-15"},null,"2019-05-23",10,"2019-10-08",null,"2020-02-23",19,"2020-07-08",28,"2021-04-08",37,"2022-01-08",46,"2022-10-08",55,"2023-07-08",109,"2028-01-08"]
[11,null,{"$f":"EDATE(C13,1)","v":"2019-03-23"},6,"2019-06-08",11,"2019-11-08",{"$f":"H15+3","v":16},"2020-04-08",21,"2020-09-08",31,"2021-07-08",41,"2022-05-08",51,"2023-03-08",61,"2024-01-08",121,"2029-01-08"]
[12,null,"2019-04-02",null,"2019-06-23",12,"2019-12-08",null,"2020-05-23",23,"2020-11-08",34,"2021-10-08",45,"2022-09-08",56,"2023-08-08",67,"2024-07-08",133,"2030-01-08"]
[13,4,"2019-04-08",7,"2019-07-08",13,"2020-01-08",{"$f":"H17+3","v":19},"2020-07-08",25,"2021-01-08",37,"2022-01-08",49,"2023-01-08",61,"2024-01-08",73,"2025-01-08",145,"2031-01-08"]
[14,null,"2019-04-15",null,"2019-07-23",14,"2020-02-08",null,"2020-08-23",27,"2021-03-08",40,"2022-04-08",53,"2023-05-08",66,"2024-06-08",79,"2025-07-08",157,"2032-01-08"]
[15,null,"2019-04-23",8,"2019-08-08",15,"2020-03-08",{"$f":"H19+3","v":22},"2020-10-08",29,"2021-05-08",43,"2022-07-08",57,"2023-09-08",71,"2024-11-08",85,"2026-01-08",169,"2033-01-08"]
[16,null,"2019-05-02",null,"2019-08-23",16,"2020-04-08",null,"2020-11-23",31,"2021-07-08",46,"2022-10-08",61,"2024-01-08",76,"2025-04-08",91,"2026-07-08",181,"2034-01-08"]
[17,5,"2019-05-08",9,"2019-09-08",17,"2020-05-08",{"$f":"H21+3","v":25},"2021-01-08",33,"2021-09-08",49,"2023-01-08",65,"2024-05-08",81,"2025-09-08",97,"2027-01-08",193,"2035-01-08"]
[18,null,"2019-05-15",null,"2019-09-23",18,"2020-06-08",null,"2021-02-23",35,"2021-11-08",52,"2023-04-08",69,"2024-09-08",86,"2026-02-08",103,"2027-07-08",205,"2036-01-08"]
[19,null,"2019-05-23",10,"2019-10-08",19,"2020-07-08",{"$f":"H23+3","v":28},"2021-04-08",37,"2022-01-08",55,"2023-07-08",73,"2025-01-08",91,"2026-07-08",109,"2028-01-08",217,"2037-01-08"]
[20,null,"2019-06-02",null,"2019-10-23",20,"2020-08-08",null,"2021-05-23",39,"2022-03-08",58,"2023-10-08",77,"2025-05-08",96,"2026-12-08",115,"2028-07-08",229,"2038-01-08"]
[21,6,"2019-06-08",11,"2019-11-08",21,"2020-09-08",{"$f":"H25+3","v":31},"2021-07-08",41,"2022-05-08",61,"2024-01-08",81,"2025-09-08",101,"2027-05-08",121,"2029-01-08",241,"2039-01-08"]
[22,null,"2019-06-15",null,"2019-11-23",22,"2020-10-08",null,"2021-08-23",43,"2022-07-08",64,"2024-04-08",85,"2026-01-08",106,"2027-10-08",127,"2029-07-08",253,"2040-01-08"]
[23,null,"2019-06-23",12,"2019-12-08",23,"2020-11-08",{"$f":"H27+3","v":34},"2021-10-08",45,"2022-09-08",67,"2024-07-08",89,"2026-05-08",111,"2028-03-08",133,"2030-01-08",265,"2041-01-08"]
[24,null,"2019-07-02",null,"2019-12-23",24,"2020-12-08",null,"2021-11-23",47,"2022-11-08",70,"2024-10-08",93,"2026-09-08",116,"2028-08-08",139,"2030-07-08",277,"2042-01-08"]
[25,7,"2019-07-08",13,"2020-01-08",25,"2021-01-08",{"$f":"H29+3","v":37},"2022-01-08",49,"2023-01-08",73,"2025-01-08",97,"2027-01-08",121,"2029-01-08",145,"2031-01-08",289,"2043-01-08"]
[26,null,"2019-07-15",null,"2020-01-23",26,"2021-02-08",null,"2022-02-23",51,"2023-03-08",76,"2025-04-08",101,"2027-05-08",126,"2029-06-08",151,"2031-07-08",301,"2044-01-08"]
[27,null,"2019-07-23",14,"2020-02-08",27,"2021-03-08",{"$f":"H31+3","v":40},"2022-04-08",53,"2023-05-08",79,"2025-07-08",105,"2027-09-08",131,"2029-11-08",157,"2032-01-08",313,"2045-01-08"]
[28,null,"2019-08-02",null,"2020-02-23",28,"2021-04-08",null,"2022-05-23",55,"2023-07-08",82,"2025-10-08",109,"2028-01-08",136,"2030-04-08",163,"2032-07-08",325,"2046-01-08"]
[29,8,"2019-08-08",15,"2020-03-08",29,"2021-05-08",{"$f":"H33+3","v":43},"2022-07-08",57,"2023-09-08",85,"2026-01-08",113,"2028-05-08",141,"2030-09-08",169,"2033-01-08",337,"2047-01-08"]
[30,null,"2019-08-15",null,"2020-03-23",30,"2021-06-08",null,"2022-08-23",59,"2023-11-08",88,"2026-04-08",117,"2028-09-08",146,"2031-02-08",175,"2033-07-08",349,"2048-01-08"]
[31,null,"2019-08-23",16,"2020-04-08",31,"2021-07-08",{"$f":"H35+3","v":46},"2022-10-08",61,"2024-01-08",91,"2026-07-08",121,"2029-01-08",151,"2031-07-08",181,"2034-01-08",361,"2049-01-08"]
[32,null,"2019-09-02",null,"2020-04-23",32,"2021-08-08",null,"2022-11-23",63,"2024-03-08",94,"2026-10-08",125,"2029-05-08",156,"2031-12-08",187,"2034-07-08",373,"2050-01-08"]
[33,9,"2019-09-08",17,"2020-05-08",33,"2021-09-08",{"$f":"H37+3","v":49},"2023-01-08",65,"2024-05-08",97,"2027-01-08",129,"2029-09-08",161,"2032-05-08",193,"2035-01-08",385,"2051-01-08"]
[34,null,"2019-09-15",null,"2020-05-23",34,"2021-10-08",null,"2023-02-23",67,"2024-07-08",100,"2027-04-08",133,"2030-01-08",166,"2032-10-08",199,"2035-07-08",397,"2052-01-08"]
[35,null,"2019-09-23",18,"2020-06-08",35,"2021-11-08",{"$f":"H39+3","v":52},"2023-04-08",69,"2024-09-08",103,"2027-07-08",137,"2030-05-08",171,"2033-03-08",205,"2036-01-08",409,"2053-01-08"]
[36,null,"2019-10-02",null,"2020-06-23",36,"2021-12-08",null,"2023-05-23",71,"2024-11-08",106,"2027-10-08",141,"2030-09-08",176,"2033-08-08",211,"2036-07-08",421,"2054-01-08"]
[37,10,"2019-10-08",19,"2020-07-08",37,"2022-01-08",{"$f":"H41+3","v":55},"2023-07-08",73,"2025-01-08",109,"2028-01-08",145,"2031-01-08",181,"2034-01-08",217,"2037-01-08",433,"2055-01-08"]
[38,null,"2019-10-15",null,"2020-07-23",38,"2022-02-08",null,"2023-08-23",75,"2025-03-08",112,"2028-04-08",149,"2031-05-08",186,"2034-06-08",223,"2037-07-08",445,"2056-01-08"]
[39,null,"2019-10-23",20,"2020-08-08",39,"2022-03-08",{"$f":"H43+3","v":58},"2023-10-08",77,"2025-05-08",115,"2028-07-08",153,"2031-09-08",191,"2034-11-08",229,"2038-01-08",457,"2057-01-08"]
[40,null,"2019-11-02",null,"2020-08-23",40,"2022-04-08",null,"2023-11-23",79,"2025-07-08",118,"2028-10-08",157,"2032-01-08",196,"2035-04-08",235,"2038-07-08",469,"2058-01-08"]
[41,11,"2019-11-08",21,"2020-09-08",41,"2022-05-08",{"$f":"H45+3","v":61},"2024-01-08",81,"2025-09-08",121,"2029-01-08",161,"2032-05-08",201,"2035-09-08",241,"2039-01-08",481,"2059-01-08"]
[42,null,"2019-11-15",null,"2020-09-23",42,"2022-06-08",null,"2024-02-23",83,"2025-11-08",124,"2029-04-08",165,"2032-09-08",206,"2036-02-08",247,"2039-07-08",493,"2060-01-08"]
[43,null,"2019-11-23",22,"2020-10-08",43,"2022-07-08",{"$f":"H47+3","v":64},"2024-04-08",85,"2026-01-08",127,"2029-07-08",169,"2033-01-08",211,"2036-07-08",253,"2040-01-08",505,"2061-01-08"]
[44,null,"2019-12-02",null,"2020-10-23",44,"2022-08-08",null,"2024-05-23",87,"2026-03-08",130,"2029-10-08",173,"2033-05-08",216,"2036-12-08",259,"2040-07-08",517,"2062-01-08"]
[45,12,"2019-12-08",23,"2020-11-08",45,"2022-09-08",{"$f":"H49+3","v":67},"2024-07-08",89,"2026-05-08",133,"2030-01-08",177,"2033-09-08",221,"2037-05-08",265,"2041-01-08",529,"2063-01-08"]
[46,null,"2019-12-15",null,"2020-11-23",46,"2022-10-08",null,"2024-08-23",91,"2026-07-08",136,"2030-04-08",181,"2034-01-08",226,"2037-10-08",271,"2041-07-08",541,"2064-01-08"]
[47,null,"2019-12-23",24,"2020-12-08",47,"2022-11-08",{"$f":"H51+3","v":70},"2024-10-08",93,"2026-09-08",139,"2030-07-08",185,"2034-05-08",231,"2038-03-08",277,"2042-01-08",553,"2065-01-08"]
[48,null,"2020-01-02",null,"2020-12-23",48,"2022-12-08",null,"2024-11-23",95,"2026-11-08",142,"2030-10-08",189,"2034-09-08",236,"2038-08-08",283,"2042-07-08",565,"2066-01-08"]
[49,13,"2020-01-08",25,"2021-01-08",49,"2023-01-08",{"$f":"H53+3","v":73},"2025-01-08",97,"2027-01-08",{"$f":"L54+3","v":145},"2031-01-08",{"$f":"N54+4","v":193},"2035-01-08",{"$f":"P54+5","v":241},"2039-01-08",{"$f":"R54+6","v":289},"2043-01-08",{"$f":"T54+12","v":577},{"$f":"EDATE(U54,12)","v":"2067-01-08"}]
[50,null,"2020-01-15",null,"2021-01-23",50,"2023-02-08",null,"2025-02-23",99,"2027-03-08",148,"2031-04-08",197,"2035-05-08",246,"2039-06-08",295,"2043-07-08",589,"2068-01-08"]
[51,null,"2020-01-23",26,"2021-02-08",51,"2023-03-08",{"$f":"H55+3","v":76},"2025-04-08",101,"2027-05-08",151,"2031-07-08",201,"2035-09-08",251,"2039-11-08",301,"2044-01-08",601,"2069-01-08"]
[52,null,"2020-02-02",null,"2021-02-23",52,"2023-04-08",null,"2025-05-23",103,"2027-07-08",154,"2031-10-08",205,"2036-01-08",256,"2040-04-08",307,"2044-07-08",613,"2070-01-08"]
[53,14,"2020-02-08",27,"2021-03-08",53,"2023-05-08",{"$f":"H57+3","v":79},"2025-07-08",105,"2027-09-08",157,"2032-01-08",209,"2036-05-08",261,"2040-09-08",313,"2045-01-08",625,"2071-01-08"]
[54,null,"2020-02-15",null,"2021-03-23",54,"2023-06-08",null,"2025-08-23",107,"2027-11-08",160,"2032-04-08",213,"2036-09-08",266,"2041-02-08",319,"2045-07-08",637,"2072-01-08"]
[55,null,"2020-02-23",28,"2021-04-08",55,"2023-07-08",{"$f":"H59+3","v":82},"2025-10-08",109,"2028-01-08",163,"2032-07-08",217,"2037-01-08",271,"2041-07-08",325,"2046-01-08",649,"2073-01-08"]
[56,null,"2020-03-02",null,"2021-04-23",56,"2023-08-08",null,"2025-11-23",111,"2028-03-08",166,"2032-10-08",221,"2037-05-08",276,"2041-12-08",331,"2046-07-08",661,"2074-01-08"]
[57,15,"2020-03-08",29,"2021-05-08",57,"2023-09-08",{"$f":"H61+3","v":85},"2026-01-08",113,"2028-05-08",169,"2033-01-08",225,"2037-09-08",281,"2042-05-08",337,"2047-01-08",673,"2075-01-08"]
[58,null,"2020-03-15",null,"2021-05-23",58,"2023-10-08",null,"2026-02-23",115,"2028-07-08",172,"2033-04-08",229,"2038-01-08",286,"2042-10-08",343,"2047-07-08",685,"2076-01-08"]
[59,null,"2020-03-23",30,"2021-06-08",59,"2023-11-08",{"$f":"H63+3","v":88},"2026-04-08",117,"2028-09-08",175,"2033-07-08",233,"2038-05-08",291,"2043-03-08",349,"2048-01-08",697,"2077-01-08"]
[60,null,"2020-04-02",null,"2021-06-23",60,"2023-12-08",null,"2026-05-23",119,"2028-11-08",178,"2033-10-08",237,"2038-09-08",296,"2043-08-08",355,"2048-07-08",709,"2078-01-08"]
[61,16,"2020-04-08",31,"2021-07-08",61,"2024-01-08",{"$f":"H65+3","v":91},"2026-07-08",121,"2029-01-08",181,"2034-01-08",241,"2039-01-08",301,"2044-01-08",361,"2049-01-08",721,"2079-01-08"]
[62,null,"2020-04-15",null,"2021-07-23",62,"2024-02-08",null,"2026-08-23",123,"2029-03-08",184,"2034-04-08",245,"2039-05-08",306,"2044-06-08",367,"2049-07-08",733,"2080-01-08"]
[63,null,"2020-04-23",32,"2021-08-08",63,"2024-03-08",{"$f":"H67+3","v":94},"2026-10-08",125,"2029-05-08",187,"2034-07-08",249,"2039-09-08",311,"2044-11-08",373,"2050-01-08",745,"2081-01-08"]
[64,null,"2020-05-02",null,"2021-08-23",64,"2024-04-08",null,"2026-11-23",127,"2029-07-08",190,"2034-10-08",253,"2040-01-08",316,"2045-04-08",379,"2050-07-08",757,"2082-01-08"]
[65,17,"2020-05-08",33,"2021-09-08",65,"2024-05-08",{"$f":"H69+3","v":97},"2027-01-08",129,"2029-09-08",193,"2035-01-08",257,"2040-05-08",321,"2045-09-08",385,"2051-01-08",769,"2083-01-08"]
[66,null,"2020-05-15",null,"2021-09-23",66,"2024-06-08",null,"2027-02-23",131,"2029-11-08",196,"2035-04-08",261,"2040-09-08",326,"2046-02-08",391,"2051-07-08",781,"2084-01-08"]
[67,null,"2020-05-23",34,"2021-10-08",67,"2024-07-08",{"$f":"H71+3","v":100},"2027-04-08",133,"2030-01-08",199,"2035-07-08",265,"2041-01-08",331,"2046-07-08",397,"2052-01-08",793,"2085-01-08"]
[68,null,"2020-06-02",null,"2021-10-23",68,{"$f":"IF(EDATE(G73,1)>EDATE(G72,2),EDATE(G73,1),EDATE(G72,2))","v":"2024-08-08"},null,"2027-05-23",135,{"$f":"IF(EDATE(K73,2)>EDATE(K72,4),EDATE(K73,2),EDATE(K72,4))","v":"2030-03-08"},202,{"$f":"IF(EDATE(M73,3)>EDATE(M72,6),EDATE(M73,3),EDATE(M72,6))","v":"2035-10-08"},269,{"$f":"IF(EDATE(O73,4)>EDATE(O72,8),EDATE(O73,4),EDATE(O72,8))","v":"2041-05-08"},336,{"$f":"IF(EDATE(Q73,5)>EDATE(Q72,10),EDATE(Q73,5),EDATE(Q72,10))","v":"2046-12-08"},403,{"$f":"IF(EDATE(S73,6)>EDATE(S72,12),EDATE(S73,6),EDATE(S72,12))","v":"2052-07-08"},805,"2086-01-08"]
[69,18,"2020-06-08",35,"2021-11-08",69,"2024-09-08",{"$f":"H73+3","v":103},"2027-07-08",137,"2030-05-08",205,"2036-01-08",273,"2041-09-08",341,"2047-05-08",409,"2053-01-08",817,"2087-01-08"]
[70,null,"2020-06-15",null,{"$f":"IF(EDATE(E74,1)>EDATE(E72,2),EDATE(E74,1),EDATE(E72,2))","v":"2021-11-23"},70,"2024-10-08",null,{"$f":"IF(EDATE(I74,3)>EDATE(I72,6),EDATE(I74,3),EDATE(I72,6))","v":"2027-08-23"},139,"2030-07-08",208,"2036-04-08",277,"2042-01-08",346,"2047-10-08",415,"2053-07-08",829,"2088-01-08"]
[71,null,"2020-06-23",36,"2021-12-08",71,"2024-11-08",{"$f":"H75+3","v":106},"2027-10-08",141,"2030-09-08",211,"2036-07-08",281,"2042-05-08",351,"2048-03-08",421,"2054-01-08",841,"2089-01-08"]
[72,null,"2020-07-02",null,"2021-12-23",72,"2024-12-08",null,"2027-11-23",143,"2030-11-08",214,"2036-10-08",285,"2042-09-08",356,"2048-08-08",427,"2054-07-08",853,"2090-01-08"]
[73,19,{"$f":"EDATE(C75,1)","v":"2020-07-08"},37,"2022-01-08",73,"2025-01-08",{"$f":"H77+3","v":109},"2028-01-08",145,"2031-01-08",217,"2037-01-08",289,"2043-01-08",361,"2049-01-08",433,"2055-01-08",865,"2091-01-08"]
[74,null,"2020-07-15",null,"2022-01-23",74,"2025-02-08",null,"2028-02-23",147,"2031-03-08",220,"2037-04-08",293,"2043-05-08",366,"2049-06-08",439,"2055-07-08",877,"2092-01-08"]
[75,null,"2020-07-23",38,"2022-02-08",75,"2025-03-08",{"$f":"H79+3","v":112},"2028-04-08",149,"2031-05-08",223,"2037-07-08",297,"2043-09-08",371,"2049-11-08",445,"2056-01-08",889,"2093-01-08"]
[76,null,"2020-08-02",null,"2022-02-23",76,"2025-04-08",null,"2028-05-23",151,"2031-07-08",226,"2037-10-08",301,"2044-01-08",376,"2050-04-08",451,"2056-07-08",901,"2094-01-08"]
[77,20,"2020-08-08",39,"2022-03-08",77,"2025-05-08",{"$f":"H81+3","v":115},"2028-07-08",153,"2031-09-08",229,"2038-01-08",305,"2044-05-08",381,"2050-09-08",457,"2057-01-08",913,"2095-01-08"]
[78,null,"2020-08-15",null,"2022-03-23",78,"2025-06-08",null,"2028-08-23",155,"2031-11-08",232,"2038-04-08",309,"2044-09-08",386,"2051-02-08",463,"2057-07-08",925,"2096-01-08"]
[79,null,"2020-08-23",40,"2022-04-08",79,"2025-07-08",{"$f":"H83+3","v":118},"2028-10-08",157,"2032-01-08",235,"2038-07-08",313,"2045-01-08",391,"2051-07-08",469,"2058-01-08",937,"2097-01-08"]
[80,null,"2020-09-02",null,"2022-04-23",80,"2025-08-08",null,"2028-11-23",159,"2032-03-08",238,"2038-10-08",317,"2045-05-08",396,"2051-12-08",475,"2058-07-08",949,"2098-01-08"]
[81,21,"2020-09-08",41,"2022-05-08",81,"2025-09-08",{"$f":"H85+3","v":121},"2029-01-08",161,"2032-05-08",241,"2039-01-08",321,"2045-09-08",401,"2052-05-08",481,"2059-01-08",961,"2099-01-08"]
[82,null,"2020-09-15",null,"2022-05-23",82,"2025-10-08",null,"2029-02-23",163,"2032-07-08",244,"2039-04-08",325,"2046-01-08",406,"2052-10-08",487,"2059-07-08",973,"2100-01-08"]
[83,null,"2020-09-23",42,"2022-06-08",83,"2025-11-08",{"$f":"H87+3","v":124},"2029-04-08",165,"2032-09-08",247,"2039-07-08",329,"2046-05-08",411,"2053-03-08",493,"2060-01-08",985,"2101-01-08"]
[84,null,"2020-10-02",null,"2022-06-23",84,"2025-12-08",null,"2029-05-23",167,"2032-11-08",250,"2039-10-08",333,"2046-09-08",416,"2053-08-08",499,"2060-07-08",997,"2102-01-08"]
[85,22,"2020-10-08",43,"2022-07-08",85,"2026-01-08",{"$f":"H89+3","v":127},"2029-07-08",169,"2033-01-08",253,"2040-01-08",337,"2047-01-08",421,"2054-01-08",505,"2061-01-08",1009,"2103-01-08"]
[86,null,"2020-10-15",null,"2022-07-23",86,"2026-02-08",null,"2029-08-23",171,"2033-03-08",256,"2040-04-08",341,"2047-05-08",426,"2054-06-08",511,"2061-07-08",1021,"2104-01-08"]
[87,null,"2020-10-23",44,"2022-08-08",87,"2026-03-08",{"$f":"H91+3","v":130},"2029-10-08",173,"2033-05-08",259,"2040-07-08",345,"2047-09-08",431,"2054-11-08",517,"2062-01-08",1033,"2105-01-08"]
[88,null,"2020-11-02",null,"2022-08-23",88,"2026-04-08",null,"2029-11-23",175,"2033-07-08",262,"2040-10-08",349,"2048-01-08",436,"2055-04-08",523,"2062-07-08",1045,"2106-01-08"]
[89,23,"2020-11-08",45,"2022-09-08",89,"2026-05-08",{"$f":"H93+3","v":133},"2030-01-08",177,"2033-09-08",265,"2041-01-08",353,"2048-05-08",441,"2055-09-08",529,"2063-01-08",1057,"2107-01-08"]
[90,null,"2020-11-15",null,"2022-09-23",90,"2026-06-08",null,"2030-02-23",179,"2033-11-08",268,"2041-04-08",357,"2048-09-08",446,"2056-02-08",535,"2063-07-08",1069,"2108-01-08"]
[91,null,"2020-11-23",46,"2022-10-08",91,"2026-07-08",{"$f":"H95+3","v":136},"2030-04-08",181,"2034-01-08",271,"2041-07-08",361,"2049-01-08",451,"2056-07-08",541,"2064-01-08",1081,"2109-01-08"]
[92,null,"2020-12-02",null,"2022-10-23",92,"2026-08-08",null,"2030-05-23",183,"2034-03-08",274,"2041-10-08",365,"2049-05-08",456,"2056-12-08",547,"2064-07-08",1093,"2110-01-08"]
[93,24,"2020-12-08",47,"2022-11-08",93,"2026-09-08",{"$f":"H97+3","v":139},"2030-07-08",185,"2034-05-08",277,"2042-01-08",369,"2049-09-08",461,"2057-05-08",553,"2065-01-08",1105,"2111-01-08"]
[94,null,"2020-12-15",null,"2022-11-23",94,"2026-10-08",null,"2030-08-23",187,"2034-07-08",280,"2042-04-08",373,"2050-01-08",466,"2057-10-08",559,"2065-07-08",1117,"2112-01-08"]
[95,null,"2020-12-23",48,"2022-12-08",95,"2026-11-08",{"$f":"H99+3","v":142},"2030-10-08",189,"2034-09-08",283,"2042-07-08",377,"2050-05-08",471,"2058-03-08",565,"2066-01-08",1129,"2113-01-08"]
[96,null,"2021-01-02",null,"2022-12-23",96,"2026-12-08",null,"2030-11-23",191,"2034-11-08",286,"2042-10-08",381,"2050-09-08",476,"2058-08-08",571,"2066-07-08",1141,"2114-01-08"]
[97,25,"2021-01-08",49,"2023-01-08",97,"2027-01-08",{"$f":"H101+3","v":145},"2031-01-08",193,"2035-01-08",289,"2043-01-08",385,"2051-01-08",481,"2059-01-08",577,"2067-01-08",1153,"2115-01-08"]
[98,null,"2021-01-15",null,"2023-01-23",98,"2027-02-08",null,"2031-02-23",195,"2035-03-08",292,"2043-04-08",389,"2051-05-08",486,"2059-06-08",583,"2067-07-08",1165,"2116-01-08"]
[99,null,"2021-01-23",50,"2023-02-08",99,"2027-03-08",{"$f":"H103+3","v":148},"2031-04-08",197,"2035-05-08",295,"2043-07-08",393,"2051-09-08",491,"2059-11-08",589,"2068-01-08",1177,"2117-01-08"]
[100,null,"2021-02-02",null,"2023-02-23",100,"2027-04-08",null,"2031-05-23",199,"2035-07-08",298,"2043-10-08",397,"2052-01-08",496,"2060-04-08",595,"2068-07-08",1189,"2118-01-08"]
[101,26,"2021-02-08",51,"2023-03-08",101,"2027-05-08",{"$f":"H105+3","v":151},"2031-07-08",201,"2035-09-08",301,"2044-01-08",401,"2052-05-08",501,"2060-09-08",601,"2069-01-08",1201,"2119-01-08"]
[102,null,"2021-02-15",null,"2023-03-23",102,"2027-06-08",null,"2031-08-23",203,"2035-11-08",304,"2044-04-08",405,"2052-09-08",506,"2061-02-08",607,"2069-07-08",1213,"2120-01-08"]
[103,null,"2021-02-23",52,"2023-04-08",103,"2027-07-08",{"$f":"H107+3","v":154},"2031-10-08",205,"2036-01-08",307,"2044-07-08",409,"2053-01-08",511,"2061-07-08",613,"2070-01-08",1225,"2121-01-08"]
[104,null,"2021-03-02",null,"2023-04-23",104,"2027-08-08",null,"2031-11-23",207,"2036-03-08",310,"2044-10-08",413,"2053-05-08",516,"2061-12-08",619,"2070-07-08",1237,"2122-01-08"]
[105,27,"2021-03-08",53,"2023-05-08",105,"2027-09-08",{"$f":"H109+3","v":157},"2032-01-08",209,"2036-05-08",313,"2045-01-08",417,"2053-09-08",521,"2062-05-08",625,"2071-01-08",1249,"2123-01-08"]
[106,null,"2021-03-15",null,"2023-05-23",106,"2027-10-08",null,"2032-02-23",211,"2036-07-08",316,"2045-04-08",421,"2054-01-08",526,"2062-10-08",631,"2071-07-08",1261,"2124-01-08"]
[107,null,"2021-03-23",54,"2023-06-08",107,"2027-11-08",{"$f":"H111+3","v":160},"2032-04-08",213,"2036-09-08",319,"2045-07-08",425,"2054-05-08",531,"2063-03-08",637,"2072-01-08",1273,"2125-01-08"]
[108,null,"2021-04-02",null,"2023-06-23",108,"2027-12-08",null,"2032-05-23",215,"2036-11-08",322,"2045-10-08",429,"2054-09-08",536,"2063-08-08",643,"2072-07-08",1285,"2126-01-08"]
[109,28,"2021-04-08",55,"2023-07-08",109,"2028-01-08",{"$f":"H113+3","v":163},"2032-07-08",217,"2037-01-08",325,"2046-01-08",433,"2055-01-08",541,"2064-01-08",649,"2073-01-08",1297,"2127-01-08"]
[110,null,"2021-04-15",null,"2023-07-23",110,"2028-02-08",null,"2032-08-23",219,"2037-03-08",328,"2046-04-08",437,"2055-05-08",546,"2064-06-08",655,"2073-07-08",1309,"2128-01-08"]
[111,null,"2021-04-23",56,"2023-08-08",111,"2028-03-08",{"$f":"H115+3","v":166},"2032-10-08",221,"2037-05-08",331,"2046-07-08",441,"2055-09-08",551,"2064-11-08",661,"2074-01-08",1321,"2129-01-08"]
[112,null,"2021-05-02",null,"2023-08-23",112,"2028-04-08",null,"2032-11-23",223,"2037-07-08",334,"2046-10-08",445,"2056-01-08",556,"2065-04-08",667,"2074-07-08",1333,"2130-01-08"]
[113,29,"2021-05-08",57,"2023-09-08",113,"2028-05-08",{"$f":"H117+3","v":169},"2033-01-08",225,"2037-09-08",{"$f":"L118+3","v":337},"2047-01-08",{"$f":"N118+4","v":449},"2056-05-08",{"$f":"P118+5","v":561},"2065-09-08",{"$f":"R118+6","v":673},"2075-01-08",{"$f":"T118+12","v":1345},{"$f":"EDATE(U118,12)","v":"2131-01-08"}]
[114,null,"2021-05-15",null,"2023-09-23",114,"2028-06-08",null,"2033-02-23",227,"2037-11-08",340,"2047-04-08",453,"2056-09-08",566,"2066-02-08",679,"2075-07-08",1357,"2132-01-08"]
[115,null,"2021-05-23",58,"2023-10-08",115,"2028-07-08",{"$f":"H119+3","v":172},"2033-04-08",229,"2038-01-08",343,"2047-07-08",457,"2057-01-08",571,"2066-07-08",685,"2076-01-08",1369,"2133-01-08"]
[116,null,"2021-06-02",null,"2023-10-23",116,"2028-08-08",null,"2033-05-23",231,"2038-03-08",346,"2047-10-08",461,"2057-05-08",576,"2066-12-08",691,"2076-07-08",1381,"2134-01-08"]
[117,30,"2021-06-08",59,"2023-11-08",117,"2028-09-08",{"$f":"H121+3","v":175},"2033-07-08",233,"2038-05-08",349,"2048-01-08",465,"2057-09-08",581,"2067-05-08",697,"2077-01-08",1393,"2135-01-08"]
[118,null,"2021-06-15",null,"2023-11-23",118,"2028-10-08",null,"2033-08-23",235,"2038-07-08",352,"2048-04-08",469,"2058-01-08",586,"2067-10-08",703,"2077-07-08",1405,"2136-01-08"]
[119,null,"2021-06-23",60,"2023-12-08",119,"2028-11-08",{"$f":"H123+3","v":178},"2033-10-08",237,"2038-09-08",355,"2048-07-08",473,"2058-05-08",591,"2068-03-08",709,"2078-01-08",1417,"2137-01-08"]
[120,null,"2021-07-02",null,"2023-12-23",120,"2028-12-08",null,"2033-11-23",239,"2038-11-08",358,"2048-10-08",477,"2058-09-08",596,"2068-08-08",715,"2078-07-08",1429,"2138-01-08"]
[121,31,"2021-07-08",61,"2024-01-08",121,"2029-01-08",{"$f":"H125+3","v":181},"2034-01-08",241,"2039-01-08",361,"2049-01-08",481,"2059-01-08",601,"2069-01-08",721,"2079-01-08",1441,"2139-01-08"]
[122,null,"2021-07-15",null,"2024-01-23",122,"2029-02-08",null,"2034-02-23",243,"2039-03-08",364,"2049-04-08",485,"2059-05-08",606,"2069-06-08",727,"2079-07-08",1453,"2140-01-08"]
[123,null,"2021-07-23",62,"2024-02-08",123,"2029-03-08",{"$f":"H127+3","v":184},"2034-04-08",245,"2039-05-08",367,"2049-07-08",489,"2059-09-08",611,"2069-11-08",733,"2080-01-08",1465,"2141-01-08"]
[124,null,"2021-08-02",null,"2024-02-23",124,"2029-04-08",null,"2034-05-23",247,"2039-07-08",370,"2049-10-08",493,"2060-01-08",616,"2070-04-08",739,"2080-07-08",1477,"2142-01-08"]
[125,32,"2021-08-08",63,"2024-03-08",125,"2029-05-08",{"$f":"H129+3","v":187},"2034-07-08",249,"2039-09-08",373,"2050-01-08",497,"2060-05-08",621,"2070-09-08",745,"2081-01-08",1489,"2143-01-08"]
[126,null,"2021-08-15",null,"2024-03-23",126,"2029-06-08",null,"2034-08-23",251,"2039-11-08",376,"2050-04-08",501,"2060-09-08",626,"2071-02-08",751,"2081-07-08",1501,"2144-01-08"]
[127,null,"2021-08-23",64,"2024-04-08",127,"2029-07-08",{"$f":"H131+3","v":190},"2034-10-08",253,"2040-01-08",379,"2050-07-08",505,"2061-01-08",631,"2071-07-08",757,"2082-01-08",1513,"2145-01-08"]
[128,null,"2021-09-02",null,"2024-04-23",128,"2029-08-08",null,"2034-11-23",255,"2040-03-08",382,"2050-10-08",509,"2061-05-08",636,"2071-12-08",763,"2082-07-08",1525,"2146-01-08"]
[129,33,"2021-09-08",65,"2024-05-08",129,"2029-09-08",{"$f":"H133+3","v":193},"2035-01-08",257,"2040-05-08",385,"2051-01-08",513,"2061-09-08",641,"2072-05-08",769,"2083-01-08",1537,"2147-01-08"]
[130,null,"2021-09-15",null,"2024-05-23",130,"2029-10-08",null,"2035-02-23",259,"2040-07-08",388,"2051-04-08",517,"2062-01-08",646,"2072-10-08",775,"2083-07-08",1549,"2148-01-08"]
[131,null,"2021-09-23",66,"2024-06-08",131,"2029-11-08",{"$f":"H135+3","v":196},"2035-04-08",261,"2040-09-08",391,"2051-07-08",521,"2062-05-08",651,"2073-03-08",781,"2084-01-08",1561,"2149-01-08"]
[132,null,"2021-10-02",null,"2024-06-23",132,{"$f":"IF(EDATE(G137,1)>EDATE(G136,2),EDATE(G137,1),EDATE(G136,2))","v":"2029-12-08"},null,"2035-05-23",263,{"$f":"IF(EDATE(K137,2)>EDATE(K136,4),EDATE(K137,2),EDATE(K136,4))","v":"2040-11-08"},394,{"$f":"IF(EDATE(M137,3)>EDATE(M136,6),EDATE(M137,3),EDATE(M136,6))","v":"2051-10-08"},525,{"$f":"IF(EDATE(O137,4)>EDATE(O136,8),EDATE(O137,4),EDATE(O136,8))","v":"2062-09-08"},656,{"$f":"IF(EDATE(Q137,5)>EDATE(Q136,10),EDATE(Q137,5),EDATE(Q136,10))","v":"2073-08-08"},787,{"$f":"IF(EDATE(S137,6)>EDATE(S136,12),EDATE(S137,6),EDATE(S136,12))","v":"2084-07-08"},1573,"2150-01-08"]
[133,34,"2021-10-08",67,"2024-07-08",133,"2030-01-08",{"$f":"H137+3","v":199},"2035-07-08",265,"2041-01-08",397,"2052-01-08",529,"2063-01-08",661,"2074-01-08",793,"2085-01-08",1585,"2151-01-08"]
[134,null,"2021-10-15",null,{"$f":"IF(EDATE(E138,1)>EDATE(E136,2),EDATE(E138,1),EDATE(E136,2))","v":"2024-07-23"},134,"2030-02-08",null,{"$f":"IF(EDATE(I138,3)>EDATE(I136,6),EDATE(I138,3),EDATE(I136,6))","v":"2035-08-23"},267,"2041-03-08",400,"2052-04-08",533,"2063-05-08",666,"2074-06-08",799,"2085-07-08",1597,"2152-01-08"]
[135,null,"2021-10-23",68,"2024-08-08",135,"2030-03-08",{"$f":"H139+3","v":202},"2035-10-08",269,"2041-05-08",403,"2052-07-08",537,"2063-09-08",671,"2074-11-08",805,"2086-01-08",1609,"2153-01-08"]
[136,null,"2021-11-02",null,"2024-08-23",136,"2030-04-08",null,"2035-11-23",271,"2041-07-08",406,"2052-10-08",541,"2064-01-08",676,"2075-04-08",811,"2086-07-08",1621,"2154-01-08"]
[137,35,{"$f":"EDATE(C139,1)","v":"2021-11-08"},69,"2024-09-08",137,"2030-05-08",{"$f":"H141+3","v":205},"2036-01-08",273,"2041-09-08",409,"2053-01-08",545,"2064-05-08",681,"2075-09-08",817,"2087-01-08",1633,"2155-01-08"]
[138,null,"2021-11-15",null,"2024-09-23",138,"2030-06-08",null,"2036-02-23",275,"2041-11-08",412,"2053-04-08",549,"2064-09-08",686,"2076-02-08",823,"2087-07-08",1645,"2156-01-08"]
[139,null,"2021-11-23",70,"2024-10-08",139,"2030-07-08",{"$f":"H143+3","v":208},"2036-04-08",277,"2042-01-08",415,"2053-07-08",553,"2065-01-08",691,"2076-07-08",829,"2088-01-08",1657,"2157-01-08"]
[140,null,"2021-12-02",null,"2024-10-23",140,"2030-08-08",null,"2036-05-23",279,"2042-03-08",418,"2053-10-08",557,"2065-05-08",696,"2076-12-08",835,"2088-07-08",1669,"2158-01-08"]
[141,36,"2021-12-08",71,"2024-11-08",141,"2030-09-08",{"$f":"H145+3","v":211},"2036-07-08",281,"2042-05-08",421,"2054-01-08",561,"2065-09-08",701,"2077-05-08",841,"2089-01-08",1681,"2159-01-08"]
[142,null,"2021-12-15",null,"2024-11-23",142,"2030-10-08",null,"2036-08-23",283,"2042-07-08",424,"2054-04-08",565,"2066-01-08",706,"2077-10-08",847,"2089-07-08",1693,"2160-01-08"]
[143,null,"2021-12-23",72,"2024-12-08",143,"2030-11-08",{"$f":"H147+3","v":214},"2036-10-08",285,"2042-09-08",427,"2054-07-08",569,"2066-05-08",711,"2078-03-08",853,"2090-01-08",1705,"2161-01-08"]
[144,null,"2022-01-02",null,"2024-12-23",144,"2030-12-08",null,"2036-11-23",287,"2042-11-08",430,"2054-10-08",573,"2066-09-08",716,"2078-08-08",859,"2090-07-08",1717,"2162-01-08"]
[145,37,"2022-01-08",73,"2025-01-08",145,"2031-01-08",{"$f":"H149+3","v":217},"2037-01-08",289,"2043-01-08",433,"2055-01-08",577,"2067-01-08",721,"2079-01-08",865,"2091-01-08",1729,"2163-01-08"]
[146,null,"2022-01-15",null,"2025-01-23",146,"2031-02-08",null,"2037-02-23",291,"2043-03-08",436,"2055-04-08",581,"2067-05-08",726,"2079-06-08",871,"2091-07-08",1741,"2164-01-08"]
[147,null,"2022-01-23",74,"2025-02-08",147,"2031-03-08",{"$f":"H151+3","v":220},"2037-04-08",293,"2043-05-08",439,"2055-07-08",585,"2067-09-08",731,"2079-11-08",877,"2092-01-08",1753,"2165-01-08"]
[148,null,"2022-02-02",null,"2025-02-23",148,"2031-04-08",null,"2037-05-23",295,"2043-07-08",442,"2055-10-08",589,"2068-01-08",736,"2080-04-08",883,"2092-07-08",1765,"2166-01-08"]
[149,38,"2022-02-08",75,"2025-03-08",149,"2031-05-08",{"$f":"H153+3","v":223},"2037-07-08",297,"2043-09-08",445,"2056-01-08",593,"2068-05-08",741,"2080-09-08",889,"2093-01-08",1777,"2167-01-08"]
[150,null,"2022-02-15",null,"2025-03-23",150,"2031-06-08",null,"2037-08-23",299,"2043-11-08",448,"2056-04-08",597,"2068-09-08",746,"2081-02-08",895,"2093-07-08",1789,"2168-01-08"]
[151,null,"2022-02-23",76,"2025-04-08",151,"2031-07-08",{"$f":"H155+3","v":226},"2037-10-08",301,"2044-01-08",451,"2056-07-08",601,"2069-01-08",751,"2081-07-08",901,"2094-01-08",1801,"2169-01-08"]
[152,null,"2022-03-02",null,"2025-04-23",152,"2031-08-08",null,"2037-11-23",303,"2044-03-08",454,"2056-10-08",605,"2069-05-08",756,"2081-12-08",907,"2094-07-08",1813,"2170-01-08"]
[153,39,"2022-03-08",77,"2025-05-08",153,"2031-09-08",{"$f":"H157+3","v":229},"2038-01-08",305,"2044-05-08",457,"2057-01-08",609,"2069-09-08",761,"2082-05-08",913,"2095-01-08",1825,"2171-01-08"]
[154,null,"2022-03-15",null,"2025-05-23",154,"2031-10-08",null,"2038-02-23",307,"2044-07-08",460,"2057-04-08",613,"2070-01-08",766,"2082-10-08",919,"2095-07-08",1837,"2172-01-08"]
[155,null,"2022-03-23",78,"2025-06-08",155,"2031-11-08",{"$f":"H159+3","v":232},"2038-04-08",309,"2044-09-08",463,"2057-07-08",617,"2070-05-08",771,"2083-03-08",925,"2096-01-08",1849,"2173-01-08"]
[156,null,"2022-04-02",null,"2025-06-23",156,"2031-12-08",null,"2038-05-23",311,"2044-11-08",466,"2057-10-08",621,"2070-09-08",776,"2083-08-08",931,"2096-07-08",1861,"2174-01-08"]
[157,40,"2022-04-08",79,"2025-07-08",157,"2032-01-08",{"$f":"H161+3","v":235},"2038-07-08",313,"2045-01-08",469,"2058-01-08",625,"2071-01-08",781,"2084-01-08",937,"2097-01-08",1873,"2175-01-08"]
[158,null,"2022-04-15",null,"2025-07-23",158,"2032-02-08",null,"2038-08-23",315,"2045-03-08",472,"2058-04-08",629,"2071-05-08",786,"2084-06-08",943,"2097-07-08",1885,"2176-01-08"]
[159,null,"2022-04-23",80,"2025-08-08",159,"2032-03-08",{"$f":"H163+3","v":238},"2038-10-08",317,"2045-05-08",475,"2058-07-08",633,"2071-09-08",791,"2084-11-08",949,"2098-01-08",1897,"2177-01-08"]
[160,null,"2022-05-02",null,"2025-08-23",160,"2032-04-08",null,"2038-11-23",319,"2045-07-08",478,"2058-10-08",637,"2072-01-08",796,"2085-04-08",955,"2098-07-08",1909,"2178-01-08"]
[161,41,"2022-05-08",81,"2025-09-08",161,"2032-05-08",{"$f":"H165+3","v":241},"2039-01-08",321,"2045-09-08",481,"2059-01-08",641,"2072-05-08",801,"2085-09-08",961,"2099-01-08",1921,"2179-01-08"]
[162,null,"2022-05-15",null,"2025-09-23",162,"2032-06-08",null,"2039-02-23",323,"2045-11-08",484,"2059-04-08",645,"2072-09-08",806,"2086-02-08",967,"2099-07-08",1933,"2180-01-08"]
[163,null,"2022-05-23",82,"2025-10-08",163,"2032-07-08",{"$f":"H167+3","v":244},"2039-04-08",325,"2046-01-08",487,"2059-07-08",649,"2073-01-08",811,"2086-07-08",973,"2100-01-08",1945,"2181-01-08"]
[164,null,"2022-06-02",null,"2025-10-23",164,"2032-08-08",null,"2039-05-23",327,"2046-03-08",490,"2059-10-08",653,"2073-05-08",816,"2086-12-08",979,"2100-07-08",1957,"2182-01-08"]
[165,42,"2022-06-08",83,"2025-11-08",165,"2032-09-08",{"$f":"H169+3","v":247},"2039-07-08",329,"2046-05-08",493,"2060-01-08",657,"2073-09-08",821,"2087-05-08",985,"2101-01-08",1969,"2183-01-08"]
[166,null,"2022-06-15",null,"2025-11-23",166,"2032-10-08",null,"2039-08-23",331,"2046-07-08",496,"2060-04-08",661,"2074-01-08",826,"2087-10-08",991,"2101-07-08",1981,"2184-01-08"]
[167,null,"2022-06-23",84,"2025-12-08",167,"2032-11-08",{"$f":"H171+3","v":250},"2039-10-08",333,"2046-09-08",499,"2060-07-08",665,"2074-05-08",831,"2088-03-08",997,"2102-01-08",1993,"2185-01-08"]
[168,null,"2022-07-02",null,"2025-12-23",168,"2032-12-08",null,"2039-11-23",335,"2046-11-08",502,"2060-10-08",669,"2074-09-08",836,"2088-08-08",1003,"2102-07-08",2005,"2186-01-08"]
[169,43,"2022-07-08",85,"2026-01-08",169,"2033-01-08",{"$f":"H173+3","v":253},"2040-01-08",337,"2047-01-08",505,"2061-01-08",673,"2075-01-08",841,"2089-01-08",1009,"2103-01-08",2017,"2187-01-08"]
[170,null,"2022-07-15",null,"2026-01-23",170,"2033-02-08",null,"2040-02-23",339,"2047-03-08",508,"2061-04-08",677,"2075-05-08",846,"2089-06-08",1015,"2103-07-08",2029,"2188-01-08"]
[171,null,"2022-07-23",86,"2026-02-08",171,"2033-03-08",{"$f":"H175+3","v":256},"2040-04-08",341,"2047-05-08",511,"2061-07-08",681,"2075-09-08",851,"2089-11-08",1021,"2104-01-08",2041,"2189-01-08"]
[172,null,"2022-08-02",null,"2026-02-23",172,"2033-04-08",null,"2040-05-23",343,"2047-07-08",514,"2061-10-08",685,"2076-01-08",856,"2090-04-08",1027,"2104-07-08",2053,"2190-01-08"]
[173,44,"2022-08-08",87,"2026-03-08",173,"2033-05-08",{"$f":"H177+3","v":259},"2040-07-08",345,"2047-09-08",517,"2062-01-08",689,"2076-05-08",861,"2090-09-08",1033,"2105-01-08",2065,"2191-01-08"]
[174,null,"2022-08-15",null,"2026-03-23",174,"2033-06-08",null,"2040-08-23",347,"2047-11-08",520,"2062-04-08",693,"2076-09-08",866,"2091-02-08",1039,"2105-07-08",2077,"2192-01-08"]
[175,null,"2022-08-23",88,"2026-04-08",175,"2033-07-08",{"$f":"H179+3","v":262},"2040-10-08",349,"2048-01-08",523,"2062-07-08",697,"2077-01-08",871,"2091-07-08",1045,"2106-01-08",2089,"2193-01-08"]
[176,null,"2022-09-02",null,"2026-04-23",176,"2033-08-08",null,"2040-11-23",351,"2048-03-08",526,"2062-10-08",701,"2077-05-08",876,"2091-12-08",1051,"2106-07-08",2101,"2194-01-08"]
[177,45,"2022-09-08",89,"2026-05-08",177,"2033-09-08",{"$f":"H181+3","v":265},"2041-01-08",353,"2048-05-08",{"$f":"L182+3","v":529},"2063-01-08",{"$f":"N182+4","v":705},"2077-09-08",{"$f":"P182+5","v":881},"2092-05-08",{"$f":"R182+6","v":1057},"2107-01-08",{"$f":"T182+12","v":2113},{"$f":"EDATE(U182,12)","v":"2195-01-08"}]
[178,null,"2022-09-15",null,"2026-05-23",178,"2033-10-08",null,"2041-02-23",355,"2048-07-08",532,"2063-04-08",709,"2078-01-08",886,"2092-10-08",1063,"2107-07-08",2125,"2196-01-08"]
[179,null,"2022-09-23",90,"2026-06-08",179,"2033-11-08",{"$f":"H183+3","v":268},"2041-04-08",357,"2048-09-08",535,"2063-07-08",713,"2078-05-08",891,"2093-03-08",1069,"2108-01-08",2137,"2197-01-08"]
[180,null,"2022-10-02",null,"2026-06-23",180,"2033-12-08",null,"2041-05-23",359,"2048-11-08",538,"2063-10-08",717,"2078-09-08",896,"2093-08-08",1075,"2108-07-08",2149,"2198-01-08"]
[181,46,"2022-10-08",91,"2026-07-08",181,"2034-01-08",{"$f":"H185+3","v":271},"2041-07-08",361,"2049-01-08",541,"2064-01-08",721,"2079-01-08",901,"2094-01-08",1081,"2109-01-08",2161,"2199-01-08"]
[182,null,"2022-10-15",null,"2026-07-23",182,"2034-02-08",null,"2041-08-23",363,"2049-03-08",544,"2064-04-08",725,"2079-05-08",906,"2094-06-08",1087,"2109-07-08",2173,"2200-01-08"]
[183,null,"2022-10-23",92,"2026-08-08",183,"2034-03-08",{"$f":"H187+3","v":274},"2041-10-08",365,"2049-05-08",547,"2064-07-08",729,"2079-09-08",911,"2094-11-08",1093,"2110-01-08",2185,"2201-01-08"]
[184,null,"2022-11-02",null,"2026-08-23",184,"2034-04-08",null,"2041-11-23",367,"2049-07-08",550,"2064-10-08",733,"2080-01-08",916,"2095-04-08",1099,"2110-07-08",2197,"2202-01-08"]
[185,47,"2022-11-08",93,"2026-09-08",185,"2034-05-08",{"$f":"H189+3","v":277},"2042-01-08",369,"2049-09-08",553,"2065-01-08",737,"2080-05-08",921,"2095-09-08",1105,"2111-01-08",2209,"2203-01-08"]
[186,null,"2022-11-15",null,"2026-09-23",186,"2034-06-08",null,"2042-02-23",371,"2049-11-08",556,"2065-04-08",741,"2080-09-08",926,"2096-02-08",1111,"2111-07-08",2221,"2204-01-08"]
[187,null,"2022-11-23",94,"2026-10-08",187,"2034-07-08",{"$f":"H191+3","v":280},"2042-04-08",373,"2050-01-08",559,"2065-07-08",745,"2081-01-08",931,"2096-07-08",1117,"2112-01-08",2233,"2205-01-08"]
[188,null,"2022-12-02",null,"2026-10-23",188,"2034-08-08",null,"2042-05-23",375,"2050-03-08",562,"2065-10-08",749,"2081-05-08",936,"2096-12-08",1123,"2112-07-08",2245,"2206-01-08"]
[189,48,"2022-12-08",95,"2026-11-08",189,"2034-09-08",{"$f":"H193+3","v":283},"2042-07-08",377,"2050-05-08",565,"2066-01-08",753,"2081-09-08",941,"2097-05-08",1129,"2113-01-08",2257,"2207-01-08"]
[190,null,"2022-12-15",null,"2026-11-23",190,"2034-10-08",null,"2042-08-23",379,"2050-07-08",568,"2066-04-08",757,"2082-01-08",946,"2097-10-08",1135,"2113-07-08",2269,"2208-01-08"]
[191,null,"2022-12-23",96,"2026-12-08",191,"2034-11-08",{"$f":"H195+3","v":286},"2042-10-08",381,"2050-09-08",571,"2066-07-08",761,"2082-05-08",951,"2098-03-08",1141,"2114-01-08",2281,"2209-01-08"]
[192,null,"2023-01-02",null,"2026-12-23",192,"2034-12-08",null,"2042-11-23",383,"2050-11-08",574,"2066-10-08",765,"2082-09-08",956,"2098-08-08",1147,"2114-07-08",2293,"2210-01-08"]

{"sheet":"Hoja3","index":3,"n_rows":0,"n_cols":0,"rows_kept":0,"cut":false,"hidden":true,"merged":[]}

{"sheet":"Hoja2","index":4,"n_rows":0,"n_cols":0,"rows_kept":0,"cut":false,"hidden":true,"merged":[]}

{"sheet":"Hoja1","index":5,"n_rows":0,"n_cols":0,"rows_kept":0,"cut":false,"hidden":true,"merged":[]}